{"text_format":"1","workbook":"xlsx","n_sheets":16,"sheets":["Application","Summary Report","Equipment"," PMAs (RTU)","PMAs (Chiller)","Programmable Tstat","Smart Tstat","Economizers","Refrigerant","ARC - Retrofit","ARC - New RTU","ARC - New HP RTU","ARC - DCV Only","Lookups","Calculation Sources","Revision History"],"not_rendered":{"charts":3,"images":8,"macros":1,"external_links":0,"defined_names":29,"comments":0,"pivot_tables":0},"unopened":[],"bounds":{"document_bytes":16777216,"sheet_cells":100000,"rows_first":2000,"rows_last":500,"rows_between":2000,"halvings":0,"cell_chars":16384,"cell_head_chars":4096},"cells_cut":0,"cells_raw":0,"read":"whole","date_system":"1900"}

{"sheet":"Application","index":0,"n_rows":99,"n_cols":22,"rows_kept":99,"cut":false,"hidden":false,"merged":[[26,2,26,7],[97,2,102,9],[103,2,104,9],[64,10,71,17],[69,2,69,9],[70,2,80,2],[70,3,80,9],[81,2,84,9],[85,2,91,9],[92,2,96,9],[72,10,81,17],[82,10,93,17],[94,10,97,17],[98,10,103,17],[50,2,50,7],[50,9,50,14],[50,16,50,17],[51,2,51,17],[52,10,63,17],[53,2,53,9],[54,2,58,2],[54,3,58,9],[60,2,68,2],[60,3,68,9],[36,2,36,10],[36,11,36,13],[36,14,36,15],[36,16,36,17],[37,2,37,10],[37,11,37,17],[38,2,38,10],[38,11,38,17],[40,2,40,17],[41,2,47,17],[49,2,49,7],[49,9,49,14],[49,16,49,17],[33,2,33,17],[34,2,34,17],[35,2,35,10],[35,11,35,13],[35,14,35,15],[35,16,35,17],[21,2,21,10],[21,11,21,13],[21,14,21,15],[21,16,21,17],[32,2,32,17],[25,2,25,17],[26,8,26,17],[27,2,27,7],[27,8,30,17],[28,2,28,7],[29,2,29,7],[30,2,30,7],[22,2,22,7],[22,8,22,13],[22,14,22,15],[22,16,22,17],[15,6,15,10],[19,2,19,17],[20,2,20,10],[20,11,20,13],[20,14,20,15],[20,16,20,17],[9,2,9,17],[23,2,24,7],[23,8,24,10],[23,11,23,17],[24,11,24,17],[10,11,10,13],[10,14,10,15],[10,16,10,17],[17,2,17,17],[18,2,18,17],[13,2,13,10],[13,11,13,17],[14,2,14,5],[14,6,14,10],[14,11,14,17],[15,2,15,5],[10,2,10,10],[15,11,15,17],[49,20,52,28],[5,2,5,17],[6,2,6,17],[7,2,7,5],[7,6,7,8],[7,9,7,11],[7,12,7,15],[11,2,11,10],[11,11,11,13],[11,14,11,15],[11,16,11,17],[12,2,12,10],[12,11,12,17],[8,2,8,17]]}
[]
[null,null,null,null,null,null,null,null,null,null,null,null,null,null,null,null,null,null,null,null,{"$f":"LOOKUP(2,1/(Lookups!E9:E21<>\"\"),Lookups!E9:E21)","v":"v 02012023.2"}]
[null,null,"wattsmart Business"]
[null,null,"General Application"]
[null,null,null,null,null,null,null,null,null,null,null,null,null,null,null,null,null,null,null,null,null,"Yellow cells indicate information needed"]
[null,null,"PARTICIPANT INFORMATION"]
[null,null," (Check will be issued to the participant business name and address listed below unless the payment release section below has been filled out)"]
[null,null," Participant is (check all that apply)",null,null,null,false,null,null,false,null,null,false]
[null,null,"Participant business name (As shown on income tax return):"]
[]
[null,null,"Mailing address:",null,null,null,null,null,null,null,null,"City:",null,null,"State:",null,"Zip:"]
[]
[null,null,"Contact name:",null,null,null,null,null,null,null,null,"Contact title:"]
[]
[null,null,"Contact telephone number:",null,null,null,"Cell number:",null,null,null,null,"Contact email address:"]
[]
[]
[null,null,"PROJECT SITE INFORMATION  "]
[null,null,"Facility/Project name: "]
[]
[null,null,"Facility address:",null,null,null,null,null,null,null,null,"City:",null,null,"State:",null,"Zip:"]
[]
[null,null,"Commercial/industrial electric account #:",null,null,null,null,null,null,null,null,null,null,null,"Rate Schedule:"]
[null,null,"Electric meter number – seven or eight digits: \n(If multiple meters at site only enter one)",null,null,null,null,null,null,null,null,"Customer name: (As shown on bill)"]
[]
[null,null,"Please provide a description of your project so we may better help you: "]
[null,null,"Lighting",null,null,null,null,null,"Additional project information: (scope and schedule)"]
[null,null,"Listed Equipment Incentives"]
[null,null,"New Construction"]
[null,null,"Custom or Energy Management Incentives"]
[null,null,"Other:                                                                ."]
[]
[null,null,"INCENTIVE ASSIGNMENT (Complete only if incentive is to be assigned to someone other than participant above)"]
[null,null,"Check should be made out to:"]
[]
[null,null,"Mailing address:",null,null,null,null,null,null,null,null,"City:",null,null,"State:",null,"Zip:"]
[]
[null,null,"Contact name:",null,null,null,null,null,null,null,null,"Contact telephone:"]
[]
[]
[null,null,"APPLICATION ACKNOWLEDGEMENT"]
[null,null,"By my signature below, I certify that all information provided for participation will be accurate including but not limited to supplemental\nmaterial and claims of participant and equipment information. I confirm I have read, understand and agree with the terms and conditions\nand agree to be bound by them. I authorize Rocky Mountain Power to provide my electric account information to consultants\nassociated with the wattsmart Business program. "]
[]
[]
[]
[]
[]
[]
[]
[null,null,null,null,null,null,null,null,null,null,null,null,null,null,null,null,null,null,null,null,"<---Signature fields cannot be completed digitally here. "]
[null,null,"Signatory name & title (please print)",null,null,null,null,null,null,"Participant signature",null,null,null,null,null,null,"Date"]
[null,null,"Terms and Conditions"]
[null,null,"How to participate:",null,null,null,null,null,null,null,"any specified amount of energy or cost savings. Participant shall independently evaluate any advice or direction given by Rocky Mountain Power or its consultants related to the estimates of electricity savings or the cost, selection or installation of qualifying equipment/energy management measures. In no event will Rocky Mountain Power or its consultants be liable for the failure of the participant to achieve its expected amount of energy savings, for any personal injury or harm to participant’s facilities of any kind, or for any incidental or consequential damages of any kind including hazardous material identification in connection with installation or inspection of qualifying equipment and energy management measures. Rocky Mountain Power is not responsible if a third party provides inaccurate information about the amount and/or conditions of the actual incentive and Rocky Mountain Power will not pay incentives for equipment that is mislabeled or misrepresented by third parties regarding incentive qualifications."]
[null,null,"Typical incentives:"]
[null,null,"1.\n2.\n3.\n\n4.\n","Pre-qualification is recommended but not required.\nPurchase and install qualifying equipment.\nComplete general application, technology specific supplemental equipment form(s), and IRS Form W-9.\nSubmit application and all required supplemental forms as directed on supplemental form(s)."]
[]
[]
[]
[]
[null,null,"Lighting retrofit incentives: "]
[null,null,"1.\n\n\n2.\n\n3.\n\n4.\n\n5.\n","Pre-qualification is required prior to equipment purchase.\nSubmit general application and IRS Form W-9 to your assigned Project Manager or a wattsmart Business Vendor.\nParticipate in inspections prior to the installation or removal of any equipment.\nIncentive offer will be provided to eligible participants. Return signed incentive offer letter within the required time\nComplete project and notify your assigned Project Manager or wattsmart Business vendor.\nProvide all required documentation and participate in any required inspections."]
[]
[]
[]
[null,null,null,null,null,null,null,null,null,null,"Incentive offer: The incentive offer is an estimate. The final incentive will be based on actual electric savings and approved actual project costs incurred by the participant for implemented approved energy efficiency measures. Participant agrees to provide any reasonable documentation to allow Rocky Mountain Power to determine electric savings and actual costs incurred. To the extent that Rocky Mountain Power determines (at its sole discretion) that any of the recommended measures have not been installed and commissioned in a satisfactory manner, participant shall receive a reduced incentive, if any, based on the inspection and verification of installed and commissioned measures."]
[]
[]
[]
[]
[null,null,"Custom and energy management incentives: "]
[null,null,"1.\n\n\n2.\n\n\n\n3.\n\n4.\n\n5.","Pre-qualification is required prior to equipment purchase/project implementation. Submit general application\nand IRS Form W-9.\nParticipate in project scoping meeting(s), inspections and engineering analysis(s) prior to installation or removal of equipment. Provide additional supplemental applications or information as needed.\nIncentive offer(s) will be provided to eligible participants. Return signed incentive offer within required time.\nComplete project and provide completion notification to your assigned Project Manager.\nProvide all required documentation and participate in any required inspections."]
[]
[null,null,null,null,null,null,null,null,null,null,"Incentive repayment obligation: If Participant terminates a material\nportion of its electric service requirements from Rocky Mountain\nPower for Participant’s Facility within 60 months of the date of the\nfinal incentive payment, and the Facility remains in operation,\nParticipant is obligated to repay the final incentive to Rocky\nMountain Power within 30 days of written request. The repayment\n(\"Repayment\") will be determined as follows: Repayment = final\nincentive x (60-Savings Delivery Term)/60, where Savings Delivery\nTerm = number of months between the month the Final Incentive\npayment was made and the month the Facility terminated a material\nportion of its electric service. For determining the repayment, the\ndates will be the first day of the month in which they occur."]
[]
[]
[]
[]
[]
[]
[]
[]
[null,null,"Incentive assignment to third party: In the event that Rocky Mountain Power does not pay the incentive as a result of the participant’s failure to comply with the terms and conditions, the assignee’s sole recourse shall be against participant."]
[null,null,null,null,null,null,null,null,null,null,"Transfer of environmental attributes: Participant hereby transfers to Rocky Mountain Power all \"Environmental Attributes\" attributable to the installation of the qualifying equipment or its operation. Environmental Attributes include any and all credits, benefits, emissions reductions, offsets and allowances, howsoever entitled, resulting from the avoidance of the emission of any substance to the air, soil or water at or by the company’s generating facilities, through reduced generation of energy or other savings or offsets on account of the qualifying equipment. Participant will not claim ownership of any Environmental Attributes. As long as participant at the same time states the installation of the qualifying equipment was made possible with funding from Rocky Mountain Power, participant may claim that it is facilitating the production of the Environmental Attributes attributable to the qualifying equipment. "]
[]
[]
[null,null,"Inspections and analysis: Participant agrees to cooperate with Rocky Mountain Power and its consultants to conduct energy analysis and inspections at the participant’s site. Rocky Mountain Power reserves the right to inspect qualifying equipment/energy management measures, which may include a telephone survey, site visit, and/or the installation of temporary monitoring equipment at any time up to 36 months after installation for quality control or program performance evaluations. "]
[]
[]
[]
[]
[]
[]
[null,null,"Tax liability: Neither Rocky Mountain Power nor its Program Administrator is providing tax advice or responsible for any tax liability which may be imposed on the participant as a result of any incentive payment. Participant may be responsible for the tax reporting to the IRS of any incentive payments directed to third parties."]
[]
[null,null,null,null,null,null,null,null,null,null,"Additional details: Incentive qualifications and amounts are subject to change and termination at any time. Visit the program’s website or contact a wattsmart Business vendor or Rocky Mountain Power for current program information. "]
[]
[]
[null,null,"Incentive limitations & limitation of damages: Participants may not receive custom incentives in lieu of typical (listed) incentives. Participants are responsible for ensuring that equipment installed for this program meets all applicable codes, standards, environmental regulations and regulatory requirements. Rocky Mountain Power does not warrant the performance of qualifying installed equipment/energy "]
[null,null,null,null,null,null,null,null,null,null,"Confidential information: Confidential information provided to Rocky Mountain Power or consultants shall not be disclosed to any third party. Confidential information shall mean data disclosed during the course of the energy analysis, and identified by the participant in writing as confidential. The obligation to protect confidential information will remain in force for two (2) years from the date the energy analysis is performed."]

{"sheet":"Summary Report","index":1,"n_rows":33,"n_cols":21,"rows_kept":33,"cut":false,"hidden":false,"merged":[[29,2,29,12],[30,3,30,12],[31,3,31,12],[32,3,32,12],[24,2,25,2],[24,3,24,11],[25,3,25,11],[26,2,26,12],[27,2,27,12],[28,2,28,12],[21,3,21,6],[21,8,21,11],[22,2,23,2],[22,3,23,3],[22,4,23,5],[22,6,23,7],[16,3,16,6],[16,8,20,12],[17,3,17,6],[18,4,18,5],[19,3,19,6],[20,4,20,5],[15,2,15,12],[11,2,11,4],[11,5,11,9],[11,10,11,12],[12,2,12,4],[12,5,12,9],[12,10,12,12],[13,2,13,4],[13,5,13,9],[13,10,13,12],[14,2,14,4],[14,5,14,12],[9,2,9,4],[9,5,9,9],[9,10,9,12],[10,2,10,4],[10,5,10,9],[10,10,10,12],[7,2,7,4],[7,5,7,9],[7,10,7,12],[8,2,8,4],[8,5,8,7],[8,8,8,9],[8,10,8,12],[6,2,6,4],[6,5,6,9],[6,10,6,12],[1,2,1,4],[1,5,1,12],[2,2,5,4],[2,5,5,8],[2,9,5,12]]}
[]
[null,null,null,null,null,null,null,null,null,null,null,null,null,null,null,{"$f":"LOOKUP(2,1/(Lookups!E9:E20<>\"\"),Lookups!E9:E20)","v":"v 02012022 Draft"}]
[null,null,"\n\nwattsmart® Business\n2223 S. Highland Drive #E6-333\nSalt Lake City, UT  84106\nwattsmart.com "]
[]
[null,null,null,null,null,null,null,null,null,null,null,null,null,null,null,null,"Yellow cells indicate information needed"]
[]
[null,null,"Customer/Site Information",null,null,"Vendor Information",null,null,null,null,"Project Information",null,null,null,null,null,"Incentives","kWh Savings","kW Savings","Customer Costs","Cost Savings"]
[null,null,{"$f":"IF(Application!C20=\"\",\"_____________\",Application!C20)","v":"_____________"},null,null,null,null,null,null,null,null,null,null,null,null,"Totals",{"$f":"SUM(Q9:Q16)","v":0},{"$f":"SUM(R9:R16)","v":0},{"$f":"SUM(S9:S14)","v":0},{"$f":"SUM(T9:T16)","v":0},{"$f":"SUM(U9:U16)","v":0}]
[null,null,{"$f":"IF(Application!$C$14=\"\",\"_____________\",Application!$C$14)&IF(Application!$L$14=\"\",\"\",\", \"&Application!$L$14)","v":"_____________"},null,null,null,null,null,null,null,null,null,null,null,null,"PMAs",{"$f":"PMA_Incentive","v":0},{"$f":"PMA_kWh","v":0},null,{"$f":"PMA_COST","v":0},{"$f":"PMA_Cost_Savings","v":0}]
[null,null,{"$f":"IF(Application!$L$16=\"\",\"_____________\",Application!$L$16)","v":"_____________"},null,null,null,null,null,null,null,null,null,null,null,null,"P T-stats",{"$f":"P_Stat_Incentive","v":0},{"$f":"'Programmable Tstat'!N2","v":0},{"$f":"'Programmable Tstat'!N3","v":0},{"$f":"'Programmable Tstat'!K3","v":0},{"$f":"'Programmable Tstat'!Q3","v":0}]
[null,null,{"$f":"IF(Application!$C$22=\"\",\"_____________\",Application!$C$22)","v":"_____________"},null,null,null,null,null,null,null,null,null,null,null,null,"S T-stats",{"$f":"S_Stat_Incentive","v":0},{"$f":"'Smart Tstat'!N2","v":0},{"$f":"'Smart Tstat'!N3","v":0},{"$f":"'Smart Tstat'!K3","v":0},{"$f":"'Smart Tstat'!Q3","v":0}]
[null,null,{"$f":"IF(Application!$L$22=\"\",\"_____________\",Application!$L$22)&IF(Application!$O$22=\"\",\"\",\", \"&Application!$O$22)&IF(Application!$Q$22=\"\",\"\",\"  \"&Application!$Q$22)","v":"_____________"},null,null,null,null,null,null,null,null,null,null,null,null,"Econo",{"$f":"Economizers!S2","v":0},{"$f":"Economizers!P2","v":0},null,{"$f":"Economizers!K3","v":0},{"$f":"Economizers!S3","v":0}]
[null,null,null,null,null,null,null,null,null,null,null,null,null,null,null,"Refrige",{"$f":"Refrigerant!Q2","v":0},{"$f":"Refrigerant!N2","v":0},{"$f":"Refrigerant!N3","v":0},{"$f":"Refrigerant!K3","v":0},{"$f":"Refrigerant!Q3","v":0}]
[null,null,{"$f":"\"Meter #: \"&IF(Application!$I$24=\"\",\"_____________   \",Application!$I$24&\"      \")&IF(Application!$Q$23=\"\",\"\",\"Rate: \"&Application!$Q$23)","v":"Meter #: _____________   "},null,null,null,null,null,null,null,"Project Type: Retrofit",null,null,null,null,"ARC",{"$f":"'ARC - Retrofit'!P2","v":0},{"$f":"'ARC - Retrofit'!M2","v":0},null,{"$f":"'ARC - Retrofit'!J3","v":0},{"$f":"'ARC - Retrofit'!P3","v":0}]
[null,null,null,null,null,null,null,null,null,null,null,null,null,null,null,"ARC New",{"$f":"'ARC - New RTU'!P2","v":0},{"$f":"'ARC - New RTU'!M2","v":0},null,{"$f":"'ARC - New RTU'!J3","v":0},{"$f":"'ARC - New RTU'!P3","v":0}]
[null,null,"HVAC Check-up Assessment Summary",null,null,null,null,null,null,null,null,null,null,null,null,"ARC DCV",{"$f":"'ARC - DCV Only'!P2","v":0},{"$f":"'ARC - DCV Only'!M2","v":0},null,{"$f":"'ARC - DCV Only'!J3","v":0},{"$f":"'ARC - DCV Only'!P3","v":0}]
[]
[null,null,null,"Electric Cost Savings a"]
[null,null,null,null,{"$f":"U8","v":0},null,"Per Year"]
[null,null,null,"Total Project Incentives a"]
[null,null,null,null,{"$f":"Q8","v":0}]
[null,null,null,"Energy Savings a b",null,null,null,null,"Simple Payback a"]
[null,null,null,null,{"$f":"R8","v":0},null,"kWh/year\nEnergy Savings",null,null,{"$f":"IF(RateSchedule<=\"\",\"Missing Rate Schedule\",(T8-Q8)/U8)","v":"Missing Rate Schedule"},"Years (with incentive)"]
[null,null,null,null,null,null,null,null,null,{"$f":"IF(RateSchedule=\"\",\"Missing Rate Schedule\",T8/U8)","v":"Missing Rate Schedule"},"Years (no incentive)"]
[null,null,null,"a Energy savings, electric cost savings, and total project incentives are estimates only and intended solely for wattsmart Business lighting projects. Incentives are subject to change at any time."]
[null,null,null,"b Energy savings shown above are estimated actual savings at the customer meter."]
[]
[null,null,"HVAC Check-up Next Steps"]
[null,null,"ü  Review this assessment report with your auditor."]
[null,null,"ü  Steps for HVAC Check-up incentives"]
[null,null,"1.","Upgrade your equipment. "]
[null,null,"2.","Submit project details and cost documentation including invoices. A post-installation inspection may be required."]
[null,null,"3.","Receive incentive check within 45 days of completion of step 2."]

{"sheet":"Equipment","index":2,"n_rows":211,"n_cols":30,"rows_kept":211,"cut":false,"hidden":false,"merged":[[8,24,10,24],[9,29,11,32],[12,29,13,32],[14,29,15,32],[4,29,6,32],[7,29,8,32],[205,14,205,15],[206,14,206,15],[169,14,169,15],[170,14,170,15],[171,14,171,15],[172,14,172,15],[173,14,173,15],[174,14,174,15],[175,14,175,15],[176,14,176,15],[177,14,177,15],[160,14,160,15],[161,14,161,15],[162,14,162,15],[163,14,163,15],[164,14,164,15],[165,14,165,15],[187,14,187,15],[188,14,188,15],[189,14,189,15],[190,14,190,15],[191,14,191,15],[192,14,192,15],[193,14,193,15],[194,14,194,15],[195,14,195,15],[178,14,178,15],[179,14,179,15],[180,14,180,15],[181,14,181,15],[182,14,182,15],[183,14,183,15],[184,14,184,15],[185,14,185,15],[186,14,186,15],[210,14,210,15],[196,14,196,15],[197,14,197,15],[198,14,198,15],[199,14,199,15],[200,14,200,15],[201,14,201,15],[202,14,202,15],[203,14,203,15],[204,14,204,15],[209,14,209,15],[207,14,207,15],[208,14,208,15],[166,14,166,15],[167,14,167,15],[168,14,168,15],[151,14,151,15],[152,14,152,15],[153,14,153,15],[154,14,154,15],[155,14,155,15],[156,14,156,15],[157,14,157,15],[158,14,158,15],[159,14,159,15],[142,14,142,15],[143,14,143,15],[144,14,144,15],[145,14,145,15],[146,14,146,15],[147,14,147,15],[148,14,148,15],[149,14,149,15],[150,14,150,15],[133,14,133,15],[134,14,134,15],[135,14,135,15],[136,14,136,15],[137,14,137,15],[138,14,138,15],[139,14,139,15],[140,14,140,15],[141,14,141,15],[124,14,124,15],[125,14,125,15],[126,14,126,15],[127,14,127,15],[128,14,128,15],[129,14,129,15],[130,14,130,15],[131,14,131,15],[132,14,132,15],[115,14,115,15],[116,14,116,15],[117,14,117,15],[118,14,118,15],[119,14,119,15],[120,14,120,15],[121,14,121,15],[122,14,122,15],[123,14,123,15],[106,14,106,15],[107,14,107,15],[108,14,108,15],[109,14,109,15],[110,14,110,15],[111,14,111,15],[112,14,112,15],[113,14,113,15],[114,14,114,15],[97,14,97,15],[98,14,98,15],[99,14,99,15],[100,14,100,15],[101,14,101,15],[102,14,102,15],[103,14,103,15],[104,14,104,15],[105,14,105,15],[88,14,88,15],[89,14,89,15],[90,14,90,15],[91,14,91,15],[92,14,92,15],[93,14,93,15],[94,14,94,15],[95,14,95,15],[96,14,96,15],[79,14,79,15],[80,14,80,15],[81,14,81,15],[82,14,82,15],[83,14,83,15],[84,14,84,15],[85,14,85,15],[86,14,86,15],[87,14,87,15],[70,14,70,15],[71,14,71,15],[72,14,72,15],[73,14,73,15],[74,14,74,15],[75,14,75,15],[76,14,76,15],[77,14,77,15],[78,14,78,15],[61,14,61,15],[62,14,62,15],[63,14,63,15],[64,14,64,15],[65,14,65,15],[66,14,66,15],[67,14,67,15],[68,14,68,15],[69,14,69,15],[52,14,52,15],[53,14,53,15],[54,14,54,15],[55,14,55,15],[56,14,56,15],[57,14,57,15],[58,14,58,15],[59,14,59,15],[60,14,60,15],[43,14,43,15],[44,14,44,15],[45,14,45,15],[46,14,46,15],[47,14,47,15],[48,14,48,15],[49,14,49,15],[50,14,50,15],[51,14,51,15],[34,14,34,15],[35,14,35,15],[36,14,36,15],[37,14,37,15],[38,14,38,15],[39,14,39,15],[40,14,40,15],[41,14,41,15],[42,14,42,15],[25,14,25,15],[26,14,26,15],[27,14,27,15],[28,14,28,15],[29,14,29,15],[30,14,30,15],[31,14,31,15],[32,14,32,15],[33,14,33,15],[6,2,6,3],[5,2,5,3],[9,14,10,15],[21,3,21,4],[21,5,21,6],[22,3,22,4],[22,5,22,6],[23,3,23,4],[23,5,23,6],[19,5,19,6],[20,3,20,4],[20,5,20,6],[9,2,10,2],[16,14,16,15],[17,14,17,15],[18,14,18,15],[19,14,19,15],[20,14,20,15],[21,14,21,15],[22,14,22,15],[23,14,23,15],[22,7,22,8],[23,7,23,8],[18,7,18,8],[24,14,24,15],[7,19,10,19],[7,20,10,20],[7,21,10,21],[7,16,10,16],[14,3,14,4],[14,5,14,6],[15,3,15,4],[15,5,15,6],[13,5,13,6],[9,11,10,11],[9,12,10,12],[9,13,10,13],[9,9,10,9],[9,10,10,10],[7,18,10,18],[11,14,11,15],[12,14,12,15],[13,14,13,15],[14,14,14,15],[15,14,15,15],[20,7,20,8],[21,7,21,8],[18,3,18,4],[18,5,18,6],[19,3,19,4],[11,7,11,8],[12,7,12,8],[13,7,13,8],[14,7,14,8],[15,7,15,8],[16,7,16,8],[17,7,17,8],[1,1,2,4],[1,8,1,9],[2,8,2,9],[210,7,210,8],[5,4,5,9],[25,3,25,4],[25,5,25,6],[25,7,25,8],[26,3,26,4],[26,5,26,6],[26,7,26,8],[27,3,27,4],[27,5,27,6],[27,7,27,8],[28,3,28,4],[28,5,28,6],[28,7,28,8],[29,3,29,4],[29,5,29,6],[29,7,29,8],[210,3,210,4],[210,5,210,6],[6,4,6,9],[24,7,24,8],[9,7,10,8],[30,3,30,4],[30,5,30,6],[30,7,30,8],[31,3,31,4],[31,5,31,6],[31,7,31,8],[32,3,32,4],[32,5,32,6],[32,7,32,8],[19,7,19,8],[9,5,10,6],[9,3,10,4],[11,5,11,6],[11,3,11,4],[12,3,12,4],[12,5,12,6],[13,3,13,4],[24,3,24,4],[24,5,24,6],[16,3,16,4],[16,5,16,6],[17,3,17,4],[17,5,17,6],[33,3,33,4],[33,5,33,6],[33,7,33,8],[34,3,34,4],[34,5,34,6],[34,7,34,8],[35,3,35,4],[35,5,35,6],[35,7,35,8],[36,3,36,4],[36,5,36,6],[36,7,36,8],[158,3,158,4],[158,5,158,6],[158,7,158,8],[159,3,159,4],[159,5,159,6],[159,7,159,8],[37,3,37,4],[37,5,37,6],[37,7,37,8],[38,3,38,4],[38,5,38,6],[38,7,38,8],[39,3,39,4],[39,5,39,6],[39,7,39,8],[40,3,40,4],[40,5,40,6],[40,7,40,8],[41,3,41,4],[41,5,41,6],[41,7,41,8],[160,3,160,4],[160,5,160,6],[160,7,160,8],[161,3,161,4],[161,5,161,6],[161,7,161,8],[162,3,162,4],[162,5,162,6],[162,7,162,8],[163,3,163,4],[163,5,163,6],[163,7,163,8],[164,3,164,4],[164,5,164,6],[164,7,164,8],[165,3,165,4],[165,5,165,6],[165,7,165,8],[166,3,166,4],[166,5,166,6],[166,7,166,8],[167,3,167,4],[167,5,167,6],[167,7,167,8],[168,3,168,4],[168,5,168,6],[168,7,168,8],[169,3,169,4],[169,5,169,6],[169,7,169,8],[170,3,170,4],[170,5,170,6],[170,7,170,8],[171,3,171,4],[171,5,171,6],[171,7,171,8],[172,3,172,4],[172,5,172,6],[172,7,172,8],[173,3,173,4],[173,5,173,6],[173,7,173,8],[174,3,174,4],[174,5,174,6],[174,7,174,8],[175,3,175,4],[175,5,175,6],[175,7,175,8],[176,3,176,4],[176,5,176,6],[176,7,176,8],[177,3,177,4],[177,5,177,6],[177,7,177,8],[178,3,178,4],[178,5,178,6],[178,7,178,8],[179,3,179,4],[179,5,179,6],[179,7,179,8],[180,3,180,4],[180,5,180,6],[180,7,180,8],[181,3,181,4],[181,5,181,6],[181,7,181,8],[182,3,182,4],[182,5,182,6],[182,7,182,8],[183,3,183,4],[183,5,183,6],[183,7,183,8],[184,3,184,4],[184,5,184,6],[184,7,184,8],[185,3,185,4],[185,5,185,6],[185,7,185,8],[186,3,186,4],[186,5,186,6],[186,7,186,8],[187,3,187,4],[187,5,187,6],[187,7,187,8],[188,3,188,4],[188,5,188,6],[188,7,188,8],[189,3,189,4],[189,5,189,6],[189,7,189,8],[190,3,190,4],[190,5,190,6],[190,7,190,8],[191,3,191,4],[191,5,191,6],[191,7,191,8],[192,3,192,4],[192,5,192,6],[192,7,192,8],[193,3,193,4],[193,5,193,6],[193,7,193,8],[194,3,194,4],[194,5,194,6],[194,7,194,8],[195,3,195,4],[195,5,195,6],[195,7,195,8],[196,3,196,4],[196,5,196,6],[196,7,196,8],[197,3,197,4],[197,5,197,6],[197,7,197,8],[198,3,198,4],[198,5,198,6],[198,7,198,8],[199,3,199,4],[199,5,199,6],[199,7,199,8],[200,3,200,4],[200,5,200,6],[200,7,200,8],[201,3,201,4],[201,5,201,6],[201,7,201,8],[202,3,202,4],[202,5,202,6],[202,7,202,8],[203,3,203,4],[203,5,203,6],[203,7,203,8],[204,3,204,4],[204,5,204,6],[204,7,204,8],[208,3,208,4],[208,5,208,6],[208,7,208,8],[209,3,209,4],[209,5,209,6],[209,7,209,8],[205,3,205,4],[205,5,205,6],[205,7,205,8],[206,3,206,4],[206,5,206,6],[206,7,206,8],[207,3,207,4],[207,5,207,6],[207,7,207,8],[42,3,42,4],[42,5,42,6],[42,7,42,8],[43,3,43,4],[43,5,43,6],[43,7,43,8],[44,3,44,4],[44,5,44,6],[44,7,44,8],[45,3,45,4],[45,5,45,6],[45,7,45,8],[46,3,46,4],[46,5,46,6],[46,7,46,8],[47,3,47,4],[47,5,47,6],[47,7,47,8],[48,3,48,4],[48,5,48,6],[48,7,48,8],[49,3,49,4],[49,5,49,6],[49,7,49,8],[50,3,50,4],[50,5,50,6],[50,7,50,8],[51,3,51,4],[51,5,51,6],[51,7,51,8],[52,3,52,4],[52,5,52,6],[52,7,52,8],[53,3,53,4],[53,5,53,6],[53,7,53,8],[54,3,54,4],[54,5,54,6],[54,7,54,8],[55,3,55,4],[55,5,55,6],[55,7,55,8],[56,3,56,4],[56,5,56,6],[56,7,56,8],[57,3,57,4],[57,5,57,6],[57,7,57,8],[58,3,58,4],[58,5,58,6],[58,7,58,8],[59,3,59,4],[59,5,59,6],[59,7,59,8],[60,3,60,4],[60,5,60,6],[60,7,60,8],[61,3,61,4],[61,5,61,6],[61,7,61,8],[62,3,62,4],[62,5,62,6],[62,7,62,8],[63,3,63,4],[63,5,63,6],[63,7,63,8],[64,3,64,4],[64,5,64,6],[64,7,64,8],[65,3,65,4],[65,5,65,6],[65,7,65,8],[66,3,66,4],[66,5,66,6],[66,7,66,8],[67,3,67,4],[67,5,67,6],[67,7,67,8],[68,3,68,4],[68,5,68,6],[68,7,68,8],[69,3,69,4],[69,5,69,6],[69,7,69,8],[70,3,70,4],[70,5,70,6],[70,7,70,8],[71,3,71,4],[71,5,71,6],[71,7,71,8],[72,3,72,4],[72,5,72,6],[72,7,72,8],[73,3,73,4],[73,5,73,6],[73,7,73,8],[74,3,74,4],[74,5,74,6],[74,7,74,8],[75,3,75,4],[75,5,75,6],[75,7,75,8],[76,3,76,4],[76,5,76,6],[76,7,76,8],[77,3,77,4],[77,5,77,6],[77,7,77,8],[78,3,78,4],[78,5,78,6],[78,7,78,8],[79,3,79,4],[79,5,79,6],[79,7,79,8],[80,3,80,4],[80,5,80,6],[80,7,80,8],[81,3,81,4],[81,5,81,6],[81,7,81,8],[82,3,82,4],[82,5,82,6],[82,7,82,8],[83,3,83,4],[83,5,83,6],[83,7,83,8],[84,3,84,4],[84,5,84,6],[84,7,84,8],[85,3,85,4],[85,5,85,6],[85,7,85,8],[86,3,86,4],[86,5,86,6],[86,7,86,8],[87,3,87,4],[87,5,87,6],[87,7,87,8],[88,3,88,4],[88,5,88,6],[88,7,88,8],[89,3,89,4],[89,5,89,6],[89,7,89,8],[90,3,90,4],[90,5,90,6],[90,7,90,8],[91,3,91,4],[91,5,91,6],[91,7,91,8],[92,3,92,4],[92,5,92,6],[92,7,92,8],[93,3,93,4],[93,5,93,6],[93,7,93,8],[94,3,94,4],[94,5,94,6],[94,7,94,8],[95,3,95,4],[95,5,95,6],[95,7,95,8],[96,3,96,4],[96,5,96,6],[96,7,96,8],[97,3,97,4],[97,5,97,6],[97,7,97,8],[98,3,98,4],[98,5,98,6],[98,7,98,8],[99,3,99,4],[99,5,99,6],[99,7,99,8],[100,3,100,4],[100,5,100,6],[100,7,100,8],[101,3,101,4],[101,5,101,6],[101,7,101,8],[102,3,102,4],[102,5,102,6],[102,7,102,8],[103,3,103,4],[103,5,103,6],[103,7,103,8],[104,3,104,4],[104,5,104,6],[104,7,104,8],[105,3,105,4],[105,5,105,6],[105,7,105,8],[106,3,106,4],[106,5,106,6],[106,7,106,8],[107,3,107,4],[107,5,107,6],[107,7,107,8],[108,3,108,4],[108,5,108,6],[108,7,108,8],[109,3,109,4],[109,5,109,6],[109,7,109,8],[110,3,110,4],[110,5,110,6],[110,7,110,8],[111,3,111,4],[111,5,111,6],[111,7,111,8],[112,3,112,4],[112,5,112,6],[112,7,112,8],[113,3,113,4],[113,5,113,6],[113,7,113,8],[114,3,114,4],[114,5,114,6],[114,7,114,8],[115,3,115,4],[115,5,115,6],[115,7,115,8],[116,3,116,4],[116,5,116,6],[116,7,116,8],[117,3,117,4],[117,5,117,6],[117,7,117,8],[118,3,118,4],[118,5,118,6],[118,7,118,8],[119,3,119,4],[119,5,119,6],[119,7,119,8],[120,3,120,4],[120,5,120,6],[120,7,120,8],[121,3,121,4],[121,5,121,6],[121,7,121,8],[122,3,122,4],[122,5,122,6],[122,7,122,8],[123,3,123,4],[123,5,123,6],[123,7,123,8],[124,3,124,4],[124,5,124,6],[124,7,124,8],[125,3,125,4],[125,5,125,6],[125,7,125,8],[126,3,126,4],[126,5,126,6],[126,7,126,8],[127,3,127,4],[127,5,127,6],[127,7,127,8],[128,3,128,4],[128,5,128,6],[128,7,128,8],[129,3,129,4],[129,5,129,6],[129,7,129,8],[130,3,130,4],[130,5,130,6],[130,7,130,8],[131,3,131,4],[131,5,131,6],[131,7,131,8],[132,3,132,4],[132,5,132,6],[132,7,132,8],[133,3,133,4],[133,5,133,6],[133,7,133,8],[134,3,134,4],[134,5,134,6],[134,7,134,8],[135,3,135,4],[135,5,135,6],[135,7,135,8],[136,3,136,4],[136,5,136,6],[136,7,136,8],[137,3,137,4],[137,5,137,6],[137,7,137,8],[138,3,138,4],[138,5,138,6],[138,7,138,8],[139,3,139,4],[139,5,139,6],[139,7,139,8],[140,3,140,4],[140,5,140,6],[140,7,140,8],[141,3,141,4],[141,5,141,6],[141,7,141,8],[142,3,142,4],[142,5,142,6],[142,7,142,8],[143,3,143,4],[143,5,143,6],[143,7,143,8],[144,3,144,4],[144,5,144,6],[144,7,144,8],[145,3,145,4],[145,5,145,6],[145,7,145,8],[146,3,146,4],[146,5,146,6],[146,7,146,8],[150,7,150,8],[157,3,157,4],[157,5,157,6],[157,7,157,8],[153,3,153,4],[153,5,153,6],[153,7,153,8],[154,3,154,4],[154,5,154,6],[154,7,154,8],[155,3,155,4],[155,5,155,6],[155,7,155,8],[151,3,151,4],[151,5,151,6],[151,7,151,8],[7,17,10,17],[7,22,7,25],[8,22,10,22],[8,23,10,23],[8,25,10,25],[16,29,17,32],[18,29,19,32],[156,3,156,4],[156,5,156,6],[156,7,156,8],[152,3,152,4],[152,5,152,6],[152,7,152,8],[147,3,147,4],[147,5,147,6],[147,7,147,8],[148,3,148,4],[148,5,148,6],[148,7,148,8],[149,3,149,4],[149,5,149,6],[149,7,149,8],[150,3,150,4],[150,5,150,6]]}
[null,null,null,null,null,null,null,null,null,null,null,null,null,null,null,null,null,null,null,null,null,null,null,null,null,null,null,null,null,{"$f":"LOOKUP(2,1/(Lookups!E9:E20<>\"\"),Lookups!E9:E20)","v":"v 02012022 Draft"}]
[null,"Equipment"]
[]
[null,null,null,null,null,null,null,null,null,null,null,null,null,null,null,null,null,null,null,null,null,null,null,null,null,null,null,null,null,"Instructions"]
[null,null,"Building Details:",null,null,null,null,null,null,null,null,null,null,null,null,null,null,null,null,null,null,null,null,null,null,null,null,null,null,"1. Enter the building and RTU or Chiller details (only fields marked with an \"*\" are required)"]
[null,null,null,null,"*1. Are all RTUs or Chillers used for comfort cooling only?"]
[null,null,null,null,"*2. Select Building Type"]
[null,null,null,"$75/RTU for a 3-year Maintenance Agreement https://www.rockymountainpower.net/content/dam/pcorp/documents/en/rockymountainpower/savings-energy-choices/wattsmart-business/utah/UT_Wattsmart_Business_HVAC_Checkup_Incentives.pdf",null,null,null,null,null,null,null,null,null,null,null,null,"Maintenance Agreement (RTU)","Maintenance Agreement (Chiller)","Programmable Thermostat","Smart Thermostat","Economizer","Refrigerant","ARC ",null,null,null,null,null,null,"2. Mark each applicable measure with an \"x\" for each RTU or Chiller"]
[null,null,"RTU or Chiller Details: ",null,null,null,null,null,null,null,null,null,null,null,null,null,null,null,null,null,null,null,"Retrofit","New RTU","Hew HP RTU","DCV only"]
[null,null,"*Label","Manufacturer",null,"*Model",null,"Serial",null,"*Age (years)","*Size (tons)","Voltage","Filter","Belt","*Blower Motor HP                (If applying for ARC)",null,null,null,null,null,null,null,null,null,null,null,null,null,null,"3. Click the \"Open Measure Tabs\" button"]
[]
[1]
[2,null,null,null,null,null,null,null,null,null,null,null,null,null,null,null,null,null,null,null,null,null,null,null,null,null,null,null,null,"4. Complete the applicable measure tabs"]
[3]
[4]
[5]
[6,null,null,null,null,null,null,null,null,null,null,null,null,null,null,null,null,null,null,null,null,null,null,null,null,null,null,null,null,"Note"]
[7]
[8,null,null,null,null,null,null,null,null,null,null,null,null,null,null,null,null,null,null,null,null,null,null,null,null,null,null,null,null,"Only one ARC type may be selected per RTU. "]
[9]
[10]
[11]
[12]
[13]
[14]
[15]
[16]
[17]
[18]
[19]
[20]
[21]
[22]
[23]
[24]
[25]
[26]
[27]
[28]
[29]
[30]
[31]
[32]
[33]
[34]
[35]
[36]
[37]
[38]
[39]
[40]
[41]
[42]
[43]
[44]
[45]
[46]
[47]
[48]
[49]
[50]
[51]
[52]
[53]
[54]
[55]
[56]
[57]
[58]
[59]
[60]
[61]
[62]
[63]
[64]
[65]
[66]
[67]
[68]
[69]
[70]
[71]
[72]
[73]
[74]
[75]
[76]
[77]
[78]
[79]
[80]
[81]
[82]
[83]
[84]
[85]
[86]
[87]
[88]
[89]
[90]
[91]
[92]
[93]
[94]
[95]
[96]
[97]
[98]
[99]
[100]
[101]
[102]
[103]
[104]
[105]
[106]
[107]
[108]
[109]
[110]
[111]
[112]
[113]
[114]
[115]
[116]
[117]
[118]
[119]
[120]
[121]
[122]
[123]
[124]
[125]
[126]
[127]
[128]
[129]
[130]
[131]
[132]
[133]
[134]
[135]
[136]
[137]
[138]
[139]
[140]
[141]
[142]
[143]
[144]
[145]
[146]
[147]
[148]
[149]
[150]
[151]
[152]
[153]
[154]
[155]
[156]
[157]
[158]
[159]
[160]
[161]
[162]
[163]
[164]
[165]
[166]
[167]
[168]
[169]
[170]
[171]
[172]
[173]
[174]
[175]
[176]
[177]
[178]
[179]
[180]
[181]
[182]
[183]
[184]
[185]
[186]
[187]
[188]
[189]
[190]
[191]
[192]
[193]
[194]
[195]
[196]
[197]
[198]
[199]
[200]

{"sheet":" PMAs (RTU)","index":3,"n_rows":212,"n_cols":21,"rows_kept":212,"cut":false,"hidden":false,"merged":[[10,20,11,23],[6,3,6,12],[7,3,8,12],[4,2,4,12],[7,20,9,23],[120,4,120,5],[118,4,118,5],[116,4,116,5],[113,4,113,5],[112,4,112,5],[111,4,111,5],[60,4,60,5],[58,4,58,5],[56,4,56,5],[54,4,54,5],[52,4,52,5],[50,4,50,5],[72,4,72,5],[70,4,70,5],[68,4,68,5],[66,4,66,5],[64,4,64,5],[62,4,62,5],[84,4,84,5],[82,4,82,5],[80,4,80,5],[78,4,78,5],[76,4,76,5],[74,4,74,5],[114,4,114,5],[109,10,109,11],[110,10,110,11],[109,4,109,5],[210,10,210,11],[211,10,211,11],[210,4,210,5],[211,4,211,5],[208,4,208,5],[206,4,206,5],[168,4,168,5],[204,10,204,11],[203,4,203,5],[201,10,201,11],[202,10,202,11],[201,4,201,5],[204,4,204,5],[202,4,202,5],[201,6,201,7],[201,8,201,9],[202,6,202,7],[202,8,202,9],[203,6,203,7],[203,8,203,9],[204,6,204,7],[204,8,204,9],[207,10,207,11],[208,10,208,11],[207,4,207,5],[205,10,205,11],[206,10,206,11],[205,4,205,5],[205,6,205,7],[205,8,205,9],[206,6,206,7],[206,8,206,9],[207,6,207,7],[207,8,207,9],[208,6,208,7],[208,8,208,9],[199,10,199,11],[200,10,200,11],[199,4,199,5],[197,10,197,11],[198,10,198,11],[197,4,197,5],[200,4,200,5],[198,4,198,5],[197,6,197,7],[197,8,197,9],[198,6,198,7],[198,8,198,9],[199,6,199,7],[199,8,199,9],[200,6,200,7],[200,8,200,9],[203,10,203,11],[192,10,192,11],[191,4,191,5],[189,10,189,11],[190,10,190,11],[189,4,189,5],[192,4,192,5],[190,4,190,5],[189,6,189,7],[189,8,189,9],[190,6,190,7],[190,8,190,9],[191,6,191,7],[191,8,191,9],[192,6,192,7],[192,8,192,9],[195,10,195,11],[196,10,196,11],[195,4,195,5],[193,10,193,11],[194,10,194,11],[193,4,193,5],[196,4,196,5],[194,4,194,5],[193,6,193,7],[193,8,193,9],[194,6,194,7],[194,8,194,9],[195,6,195,7],[195,8,195,9],[196,6,196,7],[196,8,196,9],[187,10,187,11],[188,10,188,11],[187,4,187,5],[185,10,185,11],[186,10,186,11],[185,4,185,5],[188,4,188,5],[186,4,186,5],[185,6,185,7],[185,8,185,9],[186,6,186,7],[186,8,186,9],[187,6,187,7],[187,8,187,9],[188,6,188,7],[188,8,188,9],[191,10,191,11],[180,10,180,11],[179,4,179,5],[177,10,177,11],[178,10,178,11],[177,4,177,5],[180,4,180,5],[178,4,178,5],[177,6,177,7],[177,8,177,9],[178,6,178,7],[178,8,178,9],[179,6,179,7],[179,8,179,9],[180,6,180,7],[180,8,180,9],[183,10,183,11],[184,10,184,11],[183,4,183,5],[181,10,181,11],[182,10,182,11],[181,4,181,5],[184,4,184,5],[182,4,182,5],[181,6,181,7],[181,8,181,9],[182,6,182,7],[182,8,182,9],[183,6,183,7],[183,8,183,9],[184,6,184,7],[184,8,184,9],[175,10,175,11],[176,10,176,11],[175,4,175,5],[173,10,173,11],[174,10,174,11],[173,4,173,5],[176,4,176,5],[174,4,174,5],[173,6,173,7],[173,8,173,9],[174,6,174,7],[174,8,174,9],[175,6,175,7],[175,8,175,9],[176,6,176,7],[176,8,176,9],[179,10,179,11],[167,10,167,11],[168,10,168,11],[167,4,167,5],[165,10,165,11],[166,10,166,11],[165,4,165,5],[165,6,165,7],[165,8,165,9],[166,6,166,7],[166,8,166,9],[167,6,167,7],[167,8,167,9],[168,6,168,7],[168,8,168,9],[171,10,171,11],[172,10,172,11],[171,4,171,5],[169,10,169,11],[170,10,170,11],[169,4,169,5],[172,4,172,5],[170,4,170,5],[169,6,169,7],[169,8,169,9],[170,6,170,7],[170,8,170,9],[171,6,171,7],[171,8,171,9],[172,6,172,7],[172,8,172,9],[166,4,166,5],[160,10,160,11],[159,4,159,5],[157,10,157,11],[158,10,158,11],[157,4,157,5],[157,6,157,7],[157,8,157,9],[158,6,158,7],[158,8,158,9],[159,6,159,7],[159,8,159,9],[160,6,160,7],[160,8,160,9],[163,10,163,11],[164,10,164,11],[163,4,163,5],[161,10,161,11],[162,10,162,11],[161,4,161,5],[161,6,161,7],[161,8,161,9],[162,6,162,7],[162,8,162,9],[163,6,163,7],[163,8,163,9],[164,6,164,7],[164,8,164,9],[164,4,164,5],[162,4,162,5],[160,4,160,5],[158,4,158,5],[155,10,155,11],[156,10,156,11],[155,4,155,5],[153,10,153,11],[154,10,154,11],[153,4,153,5],[156,4,156,5],[154,4,154,5],[153,6,153,7],[153,8,153,9],[154,6,154,7],[154,8,154,9],[155,6,155,7],[155,8,155,9],[156,6,156,7],[156,8,156,9],[159,10,159,11],[148,10,148,11],[147,4,147,5],[145,10,145,11],[146,10,146,11],[145,4,145,5],[148,4,148,5],[146,4,146,5],[145,6,145,7],[145,8,145,9],[146,6,146,7],[146,8,146,9],[147,6,147,7],[147,8,147,9],[148,6,148,7],[148,8,148,9],[151,10,151,11],[152,10,152,11],[151,4,151,5],[149,10,149,11],[150,10,150,11],[149,4,149,5],[152,4,152,5],[150,4,150,5],[149,6,149,7],[149,8,149,9],[150,6,150,7],[150,8,150,9],[151,6,151,7],[151,8,151,9],[152,6,152,7],[152,8,152,9],[143,10,143,11],[144,10,144,11],[143,4,143,5],[141,10,141,11],[142,10,142,11],[141,4,141,5],[144,4,144,5],[142,4,142,5],[141,6,141,7],[141,8,141,9],[142,6,142,7],[142,8,142,9],[143,6,143,7],[143,8,143,9],[144,6,144,7],[144,8,144,9],[147,10,147,11],[136,10,136,11],[135,4,135,5],[133,10,133,11],[134,10,134,11],[133,4,133,5],[136,4,136,5],[134,4,134,5],[133,6,133,7],[133,8,133,9],[134,6,134,7],[134,8,134,9],[135,6,135,7],[135,8,135,9],[136,6,136,7],[136,8,136,9],[139,10,139,11],[140,10,140,11],[139,4,139,5],[137,10,137,11],[138,10,138,11],[137,4,137,5],[140,4,140,5],[138,4,138,5],[137,6,137,7],[137,8,137,9],[138,6,138,7],[138,8,138,9],[139,6,139,7],[139,8,139,9],[140,6,140,7],[140,8,140,9],[131,10,131,11],[132,10,132,11],[131,4,131,5],[129,10,129,11],[130,10,130,11],[129,4,129,5],[132,4,132,5],[130,4,130,5],[129,6,129,7],[129,8,129,9],[130,6,130,7],[130,8,130,9],[131,6,131,7],[131,8,131,9],[132,6,132,7],[132,8,132,9],[135,10,135,11],[121,10,121,11],[122,10,122,11],[121,4,121,5],[124,4,124,5],[122,4,122,5],[121,6,121,7],[121,8,121,9],[122,6,122,7],[122,8,122,9],[123,6,123,7],[123,8,123,9],[124,6,124,7],[124,8,124,9],[127,10,127,11],[128,10,128,11],[127,4,127,5],[125,10,125,11],[126,10,126,11],[125,4,125,5],[128,4,128,5],[126,4,126,5],[125,6,125,7],[125,8,125,9],[126,6,126,7],[126,8,126,9],[127,6,127,7],[127,8,127,9],[128,6,128,7],[128,8,128,9],[107,10,107,11],[108,10,108,11],[107,4,107,5],[110,4,110,5],[108,4,108,5],[109,6,109,7],[109,8,109,9],[110,6,110,7],[110,8,110,9],[112,10,112,11],[209,10,209,11],[111,10,111,11],[209,4,209,5],[115,10,115,11],[116,10,116,11],[115,4,115,5],[113,10,113,11],[114,10,114,11],[119,10,119,11],[120,10,120,11],[119,4,119,5],[117,10,117,11],[118,10,118,11],[117,4,117,5],[120,6,120,7],[120,8,120,9],[123,10,123,11],[124,10,124,11],[123,4,123,5],[118,8,118,9],[119,6,119,7],[119,8,119,9],[99,10,99,11],[100,10,100,11],[99,4,99,5],[97,10,97,11],[98,10,98,11],[97,4,97,5],[97,6,97,7],[97,8,97,9],[98,6,98,7],[98,8,98,9],[99,6,99,7],[99,8,99,9],[100,6,100,7],[105,10,105,11],[106,4,106,5],[106,10,106,11],[105,4,105,5],[103,10,103,11],[104,10,104,11],[103,4,103,5],[101,10,101,11],[102,10,102,11],[101,4,101,5],[104,4,104,5],[102,4,102,5],[100,4,100,5],[98,4,98,5],[100,8,100,9],[101,6,101,7],[101,8,101,9],[102,6,102,7],[102,8,102,9],[92,4,92,5],[90,4,90,5],[89,6,89,7],[89,8,89,9],[90,6,90,7],[90,8,90,9],[91,6,91,7],[91,8,91,9],[92,6,92,7],[92,8,92,9],[95,10,95,11],[96,10,96,11],[95,4,95,5],[93,10,93,11],[94,10,94,11],[93,4,93,5],[96,4,96,5],[94,4,94,5],[93,6,93,7],[93,8,93,9],[94,6,94,7],[94,8,94,9],[95,6,95,7],[95,8,95,9],[96,6,96,7],[96,8,96,9],[92,10,92,11],[91,4,91,5],[89,10,89,11],[90,10,90,11],[87,10,87,11],[88,10,88,11],[87,4,87,5],[85,10,85,11],[86,10,86,11],[85,4,85,5],[88,4,88,5],[86,4,86,5],[85,6,85,7],[85,8,85,9],[86,6,86,7],[86,8,86,9],[87,6,87,7],[87,8,87,9],[88,6,88,7],[88,8,88,9],[91,10,91,11],[89,4,89,5],[79,10,79,11],[80,10,80,11],[79,4,79,5],[77,10,77,11],[78,10,78,11],[77,4,77,5],[77,6,77,7],[77,8,77,9],[78,6,78,7],[78,8,78,9],[79,6,79,7],[79,8,79,9],[80,6,80,7],[80,8,80,9],[83,10,83,11],[84,10,84,11],[83,4,83,5],[81,10,81,11],[82,10,82,11],[81,4,81,5],[81,6,81,7],[81,8,81,9],[82,6,82,7],[82,8,82,9],[83,6,83,7],[83,8,83,9],[84,6,84,7],[84,8,84,9],[71,10,71,11],[72,10,72,11],[71,4,71,5],[69,10,69,11],[70,10,70,11],[69,4,69,5],[69,6,69,7],[69,8,69,9],[70,6,70,7],[70,8,70,9],[71,6,71,7],[71,8,71,9],[72,6,72,7],[72,8,72,9],[75,10,75,11],[76,10,76,11],[75,4,75,5],[73,10,73,11],[74,10,74,11],[73,4,73,5],[73,6,73,7],[73,8,73,9],[74,6,74,7],[74,8,74,9],[75,6,75,7],[75,8,75,9],[76,6,76,7],[76,8,76,9],[63,10,63,11],[64,10,64,11],[63,4,63,5],[61,10,61,11],[62,10,62,11],[61,4,61,5],[61,6,61,7],[61,8,61,9],[62,6,62,7],[62,8,62,9],[63,6,63,7],[63,8,63,9],[64,6,64,7],[64,8,64,9],[67,10,67,11],[68,10,68,11],[67,4,67,5],[65,10,65,11],[66,10,66,11],[65,4,65,5],[65,6,65,7],[65,8,65,9],[66,6,66,7],[66,8,66,9],[67,6,67,7],[67,8,67,9],[68,6,68,7],[68,8,68,9],[55,10,55,11],[56,10,56,11],[55,4,55,5],[53,10,53,11],[54,10,54,11],[53,4,53,5],[53,6,53,7],[53,8,53,9],[54,6,54,7],[54,8,54,9],[55,6,55,7],[55,8,55,9],[56,6,56,7],[56,8,56,9],[59,10,59,11],[60,10,60,11],[59,4,59,5],[57,10,57,11],[58,10,58,11],[57,4,57,5],[57,6,57,7],[57,8,57,9],[58,6,58,7],[58,8,58,9],[59,6,59,7],[59,8,59,9],[60,6,60,7],[60,8,60,9],[48,10,48,11],[47,4,47,5],[45,10,45,11],[46,10,46,11],[45,4,45,5],[48,4,48,5],[46,4,46,5],[45,6,45,7],[45,8,45,9],[46,6,46,7],[46,8,46,9],[47,6,47,7],[47,8,47,9],[48,6,48,7],[48,8,48,9],[51,10,51,11],[52,10,52,11],[51,4,51,5],[49,10,49,11],[50,10,50,11],[49,4,49,5],[49,6,49,7],[49,8,49,9],[50,6,50,7],[50,8,50,9],[51,6,51,7],[51,8,51,9],[52,6,52,7],[52,8,52,9],[43,10,43,11],[44,10,44,11],[43,4,43,5],[41,10,41,11],[42,10,42,11],[41,4,41,5],[44,4,44,5],[42,4,42,5],[41,6,41,7],[41,8,41,9],[42,6,42,7],[42,8,42,9],[43,6,43,7],[43,8,43,9],[44,6,44,7],[44,8,44,9],[47,10,47,11],[36,10,36,11],[35,4,35,5],[33,10,33,11],[34,10,34,11],[33,4,33,5],[36,4,36,5],[34,4,34,5],[33,6,33,7],[33,8,33,9],[34,6,34,7],[34,8,34,9],[35,6,35,7],[35,8,35,9],[36,6,36,7],[36,8,36,9],[39,10,39,11],[40,10,40,11],[39,4,39,5],[37,10,37,11],[38,10,38,11],[37,4,37,5],[40,4,40,5],[38,4,38,5],[37,6,37,7],[37,8,37,9],[38,6,38,7],[38,8,38,9],[39,6,39,7],[39,8,39,9],[40,6,40,7],[40,8,40,9],[31,10,31,11],[32,10,32,11],[31,4,31,5],[29,10,29,11],[30,10,30,11],[29,4,29,5],[32,4,32,5],[30,4,30,5],[29,6,29,7],[29,8,29,9],[30,6,30,7],[30,8,30,9],[31,6,31,7],[31,8,31,9],[32,6,32,7],[32,8,32,9],[35,10,35,11],[24,10,24,11],[23,4,23,5],[21,10,21,11],[22,10,22,11],[21,4,21,5],[24,4,24,5],[22,4,22,5],[21,6,21,7],[21,8,21,9],[22,6,22,7],[22,8,22,9],[23,6,23,7],[23,8,23,9],[24,6,24,7],[24,8,24,9],[27,10,27,11],[28,10,28,11],[27,4,27,5],[25,10,25,11],[26,10,26,11],[25,4,25,5],[28,4,28,5],[26,4,26,5],[25,6,25,7],[25,8,25,9],[26,6,26,7],[26,8,26,9],[27,6,27,7],[27,8,27,9],[28,6,28,7],[28,8,28,9],[19,10,19,11],[20,10,20,11],[19,4,19,5],[17,10,17,11],[18,10,18,11],[17,4,17,5],[20,4,20,5],[18,4,18,5],[17,6,17,7],[17,8,17,9],[18,6,18,7],[18,8,18,9],[19,6,19,7],[19,8,19,9],[20,6,20,7],[20,8,20,9],[23,10,23,11],[11,10,11,11],[12,10,12,11],[11,4,11,5],[15,10,15,11],[12,4,12,5],[11,6,11,7],[11,8,11,9],[12,8,12,9],[12,6,12,7],[13,6,13,7],[13,8,13,9],[14,6,14,7],[14,8,14,9],[15,6,15,7],[15,8,15,9],[16,10,16,11],[15,4,15,5],[13,10,13,11],[14,10,14,11],[13,4,13,5],[16,4,16,5],[14,4,14,5],[16,6,16,7],[16,8,16,9],[103,6,103,7],[103,8,103,9],[104,6,104,7],[104,8,104,9],[105,6,105,7],[105,8,105,9],[106,6,106,7],[106,8,106,9],[107,6,107,7],[107,8,107,9],[108,6,108,7],[108,8,108,9],[209,6,209,7],[209,8,209,9],[210,6,210,7],[210,8,210,9],[211,6,211,7],[211,8,211,9],[111,6,111,7],[111,8,111,9],[112,6,112,7],[112,8,112,9],[113,6,113,7],[113,8,113,9],[114,6,114,7],[114,8,114,9],[115,6,115,7],[115,8,115,9],[116,6,116,7],[116,8,116,9],[117,6,117,7],[117,8,117,9],[118,6,118,7],[11,2,11,3],[10,2,10,9],[12,2,12,3],[13,2,13,3],[14,2,14,3],[15,2,15,3],[16,2,16,3],[17,2,17,3],[18,2,18,3],[19,2,19,3],[20,2,20,3],[21,2,21,3],[22,2,22,3],[23,2,23,3],[24,2,24,3],[25,2,25,3],[26,2,26,3],[27,2,27,3],[28,2,28,3],[29,2,29,3],[30,2,30,3],[31,2,31,3],[32,2,32,3],[33,2,33,3],[34,2,34,3],[35,2,35,3],[36,2,36,3],[37,2,37,3],[38,2,38,3],[39,2,39,3],[40,2,40,3],[41,2,41,3],[42,2,42,3],[43,2,43,3],[44,2,44,3],[45,2,45,3],[46,2,46,3],[47,2,47,3],[48,2,48,3],[49,2,49,3],[50,2,50,3],[51,2,51,3],[52,2,52,3],[53,2,53,3],[54,2,54,3],[55,2,55,3],[56,2,56,3],[57,2,57,3],[58,2,58,3],[59,2,59,3],[60,2,60,3],[61,2,61,3],[62,2,62,3],[63,2,63,3],[64,2,64,3],[65,2,65,3],[66,2,66,3],[67,2,67,3],[68,2,68,3],[69,2,69,3],[70,2,70,3],[71,2,71,3],[72,2,72,3],[73,2,73,3],[74,2,74,3],[75,2,75,3],[76,2,76,3],[77,2,77,3],[78,2,78,3],[79,2,79,3],[80,2,80,3],[81,2,81,3],[82,2,82,3],[83,2,83,3],[84,2,84,3],[85,2,85,3],[86,2,86,3],[87,2,87,3],[88,2,88,3],[89,2,89,3],[90,2,90,3],[91,2,91,3],[92,2,92,3],[93,2,93,3],[94,2,94,3],[95,2,95,3],[96,2,96,3],[97,2,97,3],[98,2,98,3],[99,2,99,3],[100,2,100,3],[101,2,101,3],[102,2,102,3],[103,2,103,3],[104,2,104,3],[105,2,105,3],[106,2,106,3],[107,2,107,3],[108,2,108,3],[109,2,109,3],[110,2,110,3],[111,2,111,3],[112,2,112,3],[113,2,113,3],[114,2,114,3],[115,2,115,3],[116,2,116,3],[117,2,117,3],[118,2,118,3],[119,2,119,3],[120,2,120,3],[121,2,121,3],[122,2,122,3],[123,2,123,3],[124,2,124,3],[125,2,125,3],[126,2,126,3],[127,2,127,3],[128,2,128,3],[129,2,129,3],[130,2,130,3],[131,2,131,3],[132,2,132,3],[133,2,133,3],[134,2,134,3],[135,2,135,3],[136,2,136,3],[137,2,137,3],[138,2,138,3],[139,2,139,3],[140,2,140,3],[141,2,141,3],[142,2,142,3],[143,2,143,3],[144,2,144,3],[145,2,145,3],[178,2,178,3],[179,2,179,3],[146,2,146,3],[147,2,147,3],[148,2,148,3],[149,2,149,3],[150,2,150,3],[151,2,151,3],[152,2,152,3],[153,2,153,3],[154,2,154,3],[155,2,155,3],[156,2,156,3],[157,2,157,3],[158,2,158,3],[159,2,159,3],[160,2,160,3],[161,2,161,3],[162,2,162,3],[211,2,211,3],[180,2,180,3],[181,2,181,3],[182,2,182,3],[183,2,183,3],[184,2,184,3],[185,2,185,3],[186,2,186,3],[187,2,187,3],[188,2,188,3],[189,2,189,3],[190,2,190,3],[191,2,191,3],[192,2,192,3],[193,2,193,3],[194,2,194,3],[195,2,195,3],[196,2,196,3],[1,1,2,8],[3,20,4,23],[5,3,5,12],[197,2,197,3],[198,2,198,3],[199,2,199,3],[200,2,200,3],[201,2,201,3],[202,2,202,3],[203,2,203,3],[204,2,204,3],[205,2,205,3],[206,2,206,3],[207,2,207,3],[208,2,208,3],[209,2,209,3],[210,2,210,3],[163,2,163,3]],"merged_total":1014,"flags":["merged_cut"]}
[]
[null,"Maintenance Agreements (RTUs/Split Systems**)",null,null,null,null,null,null,null,null,null,null,"Total kWh/yr Savings",{"$f":"SUM(M13:M212)","v":0},null,"Incentive",{"$f":"SUM(K13:L212)","v":0}]
[null,null,null,null,null,null,null,null,null,"Customer Costs",{"$f":"SUM(E13:F212)","v":0},null,"Total kW Savings",{"$f":"SUM(N13:N212)","v":0},null,"Electric Cost Savings/YR",{"$f":"IFERROR(N2*INDEX(kWhRates,MATCH(RateSchedule,RateSchedules,0))+N3*12*INDEX(kWRates,MATCH(RateSchedule,RateSchedules,0)),0)","v":0},null,null,null,"Instructions"]
[null,null,null,null,null,null,null,null,null,null,null,null,null,null,null,null,null,null,null,null,"Complete the yellow cells for each applicable RTU"]
[null,null,"Confirm the following:"]
[null,null,null,"1. Maintenance agreement duration is at least 3 years"]
[null,null,null,"2. No customer agreement is currently in place.",null,null,null,null,null,null,null,null,null,null,null,null,null,null,null,null,"**Note"]
[null,null,null,"3. Maintenance agreement includes a minimum of two system checks per year (heating and cooling seasons), one condenser coil cleaning per year, and a thermostat reprogramming and calibration",null,null,null,null,null,null,null,null,null,null,null,null,null,null,null,null,"• Split systems over 2.5 tons are also eligible for maintenance agreement incentives"]
[]
[]
[null,null,"Maintenance Agreement Details:",null,null,null,null,null,null,null,null,null,null,null,null,null,null,null,null,null,"• All fields must be completed to calculate the savings & incentives"]
[null,null,"Rooftop Unit Label (from equipment tab)",null,"Customer Cost",null,"PMA visits per year",null,"PMA Duration (months)",null,"Estimated Incentive",null,"kWh savings","kW savings"]
[1,null,{"$f":"IF(Equipment!Q12=\"x\",Equipment!C12,\"\")","v":""},null,null,null,null,null,null,null,{"$f":"IF(AND($C$6=\"Yes\",$C$7=\"Yes\",$C$8=\"Yes\",G13>=2,I13>=36),MIN(E13*0.7,75),0)","v":0},null,{"$f":"IF(AND($C$6=\"Yes\",$C$7=\"Yes\",$C$8=\"Yes\",E13<>\"\",G13>=2,I13>=36),Equipment!K12*102)","v":false},{"$f":"IF(AND($C$6=\"Yes\",$C$7=\"Yes\",$C$8=\"Yes\",E13<>\"\",G13>=2,I13>=36),Equipment!K12*0.0462)","v":false}]
[2,null,{"$f":"IF(Equipment!Q13=\"x\",Equipment!C13,\"\")","v":""},null,null,null,null,null,null,null,{"$f":"IF(AND($C$6=\"Yes\",$C$7=\"Yes\",$C$8=\"Yes\",G14>=2,I14>=36),MIN(E14*0.7,75),0)","v":0},null,{"$f":"IF(AND($C$6=\"Yes\",$C$7=\"Yes\",$C$8=\"Yes\",E14<>\"\",G14>=2,I14>=36),Equipment!K13*102)","v":false},{"$f":"IF(AND($C$6=\"Yes\",$C$7=\"Yes\",$C$8=\"Yes\",E14<>\"\",G14>=2,I14>=36),Equipment!K13*0.0462)","v":false}]
[3,null,{"$f":"IF(Equipment!Q14=\"x\",Equipment!C14,\"\")","v":""},null,null,null,null,null,null,null,0,null,{"$f":"IF(AND($C$6=\"Yes\",$C$7=\"Yes\",$C$8=\"Yes\",E15<>\"\",G15>=2,I15>=36),Equipment!K14*102)","v":false},{"$f":"IF(AND($C$6=\"Yes\",$C$7=\"Yes\",$C$8=\"Yes\",E15<>\"\",G15>=2,I15>=36),Equipment!K14*0.0462)","v":false}]
[4,null,{"$f":"IF(Equipment!Q15=\"x\",Equipment!C15,\"\")","v":""},null,null,null,null,null,null,null,0,null,{"$f":"IF(AND($C$6=\"Yes\",$C$7=\"Yes\",$C$8=\"Yes\",E16<>\"\",G16>=2,I16>=36),Equipment!K15*102)","v":false},{"$f":"IF(AND($C$6=\"Yes\",$C$7=\"Yes\",$C$8=\"Yes\",E16<>\"\",G16>=2,I16>=36),Equipment!K15*0.0462)","v":false}]
[5,null,{"$f":"IF(Equipment!Q16=\"x\",Equipment!C16,\"\")","v":""},null,null,null,null,null,null,null,0,null,{"$f":"IF(AND($C$6=\"Yes\",$C$7=\"Yes\",$C$8=\"Yes\",E17<>\"\",G17>=2,I17>=36),Equipment!K16*102)","v":false},{"$f":"IF(AND($C$6=\"Yes\",$C$7=\"Yes\",$C$8=\"Yes\",E17<>\"\",G17>=2,I17>=36),Equipment!K16*0.0462)","v":false}]
[6,null,{"$f":"IF(Equipment!Q17=\"x\",Equipment!C17,\"\")","v":""},null,null,null,null,null,null,null,0,null,{"$f":"IF(AND($C$6=\"Yes\",$C$7=\"Yes\",$C$8=\"Yes\",E18<>\"\",G18>=2,I18>=36),Equipment!K17*102)","v":false},{"$f":"IF(AND($C$6=\"Yes\",$C$7=\"Yes\",$C$8=\"Yes\",E18<>\"\",G18>=2,I18>=36),Equipment!K17*0.0462)","v":false}]
[7,null,{"$f":"IF(Equipment!Q18=\"x\",Equipment!C18,\"\")","v":""},null,null,null,null,null,null,null,0,null,{"$f":"IF(AND($C$6=\"Yes\",$C$7=\"Yes\",$C$8=\"Yes\",E19<>\"\",G19>=2,I19>=36),Equipment!K18*102)","v":false},{"$f":"IF(AND($C$6=\"Yes\",$C$7=\"Yes\",$C$8=\"Yes\",E19<>\"\",G19>=2,I19>=36),Equipment!K18*0.0462)","v":false}]
[8,null,{"$f":"IF(Equipment!Q19=\"x\",Equipment!C19,\"\")","v":""},null,null,null,null,null,null,null,0,null,{"$f":"IF(AND($C$6=\"Yes\",$C$7=\"Yes\",$C$8=\"Yes\",E20<>\"\",G20>=2,I20>=36),Equipment!K19*102)","v":false},{"$f":"IF(AND($C$6=\"Yes\",$C$7=\"Yes\",$C$8=\"Yes\",E20<>\"\",G20>=2,I20>=36),Equipment!K19*0.0462)","v":false}]
[9,null,{"$f":"IF(Equipment!Q20=\"x\",Equipment!C20,\"\")","v":""},null,null,null,null,null,null,null,0,null,{"$f":"IF(AND($C$6=\"Yes\",$C$7=\"Yes\",$C$8=\"Yes\",E21<>\"\",G21>=2,I21>=36),Equipment!K20*102)","v":false},{"$f":"IF(AND($C$6=\"Yes\",$C$7=\"Yes\",$C$8=\"Yes\",E21<>\"\",G21>=2,I21>=36),Equipment!K20*0.0462)","v":false}]
[10,null,{"$f":"IF(Equipment!Q21=\"x\",Equipment!C21,\"\")","v":""},null,null,null,null,null,null,null,0,null,{"$f":"IF(AND($C$6=\"Yes\",$C$7=\"Yes\",$C$8=\"Yes\",E22<>\"\",G22>=2,I22>=36),Equipment!K21*102)","v":false},{"$f":"IF(AND($C$6=\"Yes\",$C$7=\"Yes\",$C$8=\"Yes\",E22<>\"\",G22>=2,I22>=36),Equipment!K21*0.0462)","v":false}]
[11,null,{"$f":"IF(Equipment!Q22=\"x\",Equipment!C22,\"\")","v":""},null,null,null,null,null,null,null,0,null,{"$f":"IF(AND($C$6=\"Yes\",$C$7=\"Yes\",$C$8=\"Yes\",E23<>\"\",G23>=2,I23>=36),Equipment!K22*102)","v":false},{"$f":"IF(AND($C$6=\"Yes\",$C$7=\"Yes\",$C$8=\"Yes\",E23<>\"\",G23>=2,I23>=36),Equipment!K22*0.0462)","v":false}]
[12,null,{"$f":"IF(Equipment!Q23=\"x\",Equipment!C23,\"\")","v":""},null,null,null,null,null,null,null,0,null,{"$f":"IF(AND($C$6=\"Yes\",$C$7=\"Yes\",$C$8=\"Yes\",E24<>\"\",G24>=2,I24>=36),Equipment!K23*102)","v":false},{"$f":"IF(AND($C$6=\"Yes\",$C$7=\"Yes\",$C$8=\"Yes\",E24<>\"\",G24>=2,I24>=36),Equipment!K23*0.0462)","v":false}]
[13,null,{"$f":"IF(Equipment!Q24=\"x\",Equipment!C24,\"\")","v":""},null,null,null,null,null,null,null,0,null,{"$f":"IF(AND($C$6=\"Yes\",$C$7=\"Yes\",$C$8=\"Yes\",E25<>\"\",G25>=2,I25>=36),Equipment!K24*102)","v":false},{"$f":"IF(AND($C$6=\"Yes\",$C$7=\"Yes\",$C$8=\"Yes\",E25<>\"\",G25>=2,I25>=36),Equipment!K24*0.0462)","v":false}]
[14,null,{"$f":"IF(Equipment!Q25=\"x\",Equipment!C25,\"\")","v":""},null,null,null,null,null,null,null,0,null,{"$f":"IF(AND($C$6=\"Yes\",$C$7=\"Yes\",$C$8=\"Yes\",E26<>\"\",G26>=2,I26>=36),Equipment!K25*102)","v":false},{"$f":"IF(AND($C$6=\"Yes\",$C$7=\"Yes\",$C$8=\"Yes\",E26<>\"\",G26>=2,I26>=36),Equipment!K25*0.0462)","v":false}]
[15,null,{"$f":"IF(Equipment!Q26=\"x\",Equipment!C26,\"\")","v":""},null,null,null,null,null,null,null,0,null,{"$f":"IF(AND($C$6=\"Yes\",$C$7=\"Yes\",$C$8=\"Yes\",E27<>\"\",G27>=2,I27>=36),Equipment!K26*102)","v":false},{"$f":"IF(AND($C$6=\"Yes\",$C$7=\"Yes\",$C$8=\"Yes\",E27<>\"\",G27>=2,I27>=36),Equipment!K26*0.0462)","v":false}]
[16,null,{"$f":"IF(Equipment!Q27=\"x\",Equipment!C27,\"\")","v":""},null,null,null,null,null,null,null,0,null,{"$f":"IF(AND($C$6=\"Yes\",$C$7=\"Yes\",$C$8=\"Yes\",E28<>\"\",G28>=2,I28>=36),Equipment!K27*102)","v":false},{"$f":"IF(AND($C$6=\"Yes\",$C$7=\"Yes\",$C$8=\"Yes\",E28<>\"\",G28>=2,I28>=36),Equipment!K27*0.0462)","v":false}]
[17,null,{"$f":"IF(Equipment!Q28=\"x\",Equipment!C28,\"\")","v":""},null,null,null,null,null,null,null,0,null,{"$f":"IF(AND($C$6=\"Yes\",$C$7=\"Yes\",$C$8=\"Yes\",E29<>\"\",G29>=2,I29>=36),Equipment!K28*102)","v":false},{"$f":"IF(AND($C$6=\"Yes\",$C$7=\"Yes\",$C$8=\"Yes\",E29<>\"\",G29>=2,I29>=36),Equipment!K28*0.0462)","v":false}]
[18,null,{"$f":"IF(Equipment!Q29=\"x\",Equipment!C29,\"\")","v":""},null,null,null,null,null,null,null,0,null,{"$f":"IF(AND($C$6=\"Yes\",$C$7=\"Yes\",$C$8=\"Yes\",E30<>\"\",G30>=2,I30>=36),Equipment!K29*102)","v":false},{"$f":"IF(AND($C$6=\"Yes\",$C$7=\"Yes\",$C$8=\"Yes\",E30<>\"\",G30>=2,I30>=36),Equipment!K29*0.0462)","v":false}]
[19,null,{"$f":"IF(Equipment!Q30=\"x\",Equipment!C30,\"\")","v":""},null,null,null,null,null,null,null,0,null,{"$f":"IF(AND($C$6=\"Yes\",$C$7=\"Yes\",$C$8=\"Yes\",E31<>\"\",G31>=2,I31>=36),Equipment!K30*102)","v":false},{"$f":"IF(AND($C$6=\"Yes\",$C$7=\"Yes\",$C$8=\"Yes\",E31<>\"\",G31>=2,I31>=36),Equipment!K30*0.0462)","v":false}]
[20,null,{"$f":"IF(Equipment!Q31=\"x\",Equipment!C31,\"\")","v":""},null,null,null,null,null,null,null,0,null,{"$f":"IF(AND($C$6=\"Yes\",$C$7=\"Yes\",$C$8=\"Yes\",E32<>\"\",G32>=2,I32>=36),Equipment!K31*102)","v":false},{"$f":"IF(AND($C$6=\"Yes\",$C$7=\"Yes\",$C$8=\"Yes\",E32<>\"\",G32>=2,I32>=36),Equipment!K31*0.0462)","v":false}]
[21,null,{"$f":"IF(Equipment!Q32=\"x\",Equipment!C32,\"\")","v":""},null,null,null,null,null,null,null,0,null,{"$f":"IF(AND($C$6=\"Yes\",$C$7=\"Yes\",$C$8=\"Yes\",E33<>\"\",G33>=2,I33>=36),Equipment!K32*102)","v":false},{"$f":"IF(AND($C$6=\"Yes\",$C$7=\"Yes\",$C$8=\"Yes\",E33<>\"\",G33>=2,I33>=36),Equipment!K32*0.0462)","v":false}]
[22,null,{"$f":"IF(Equipment!Q33=\"x\",Equipment!C33,\"\")","v":""},null,null,null,null,null,null,null,0,null,{"$f":"IF(AND($C$6=\"Yes\",$C$7=\"Yes\",$C$8=\"Yes\",E34<>\"\",G34>=2,I34>=36),Equipment!K33*102)","v":false},{"$f":"IF(AND($C$6=\"Yes\",$C$7=\"Yes\",$C$8=\"Yes\",E34<>\"\",G34>=2,I34>=36),Equipment!K33*0.0462)","v":false}]
[23,null,{"$f":"IF(Equipment!Q34=\"x\",Equipment!C34,\"\")","v":""},null,null,null,null,null,null,null,0,null,{"$f":"IF(AND($C$6=\"Yes\",$C$7=\"Yes\",$C$8=\"Yes\",E35<>\"\",G35>=2,I35>=36),Equipment!K34*102)","v":false},{"$f":"IF(AND($C$6=\"Yes\",$C$7=\"Yes\",$C$8=\"Yes\",E35<>\"\",G35>=2,I35>=36),Equipment!K34*0.0462)","v":false}]
[24,null,{"$f":"IF(Equipment!Q35=\"x\",Equipment!C35,\"\")","v":""},null,null,null,null,null,null,null,0,null,{"$f":"IF(AND($C$6=\"Yes\",$C$7=\"Yes\",$C$8=\"Yes\",E36<>\"\",G36>=2,I36>=36),Equipment!K35*102)","v":false},{"$f":"IF(AND($C$6=\"Yes\",$C$7=\"Yes\",$C$8=\"Yes\",E36<>\"\",G36>=2,I36>=36),Equipment!K35*0.0462)","v":false}]
[25,null,{"$f":"IF(Equipment!Q36=\"x\",Equipment!C36,\"\")","v":""},null,null,null,null,null,null,null,0,null,{"$f":"IF(AND($C$6=\"Yes\",$C$7=\"Yes\",$C$8=\"Yes\",E37<>\"\",G37>=2,I37>=36),Equipment!K36*102)","v":false},{"$f":"IF(AND($C$6=\"Yes\",$C$7=\"Yes\",$C$8=\"Yes\",E37<>\"\",G37>=2,I37>=36),Equipment!K36*0.0462)","v":false}]
[26,null,{"$f":"IF(Equipment!Q37=\"x\",Equipment!C37,\"\")","v":""},null,null,null,null,null,null,null,0,null,{"$f":"IF(AND($C$6=\"Yes\",$C$7=\"Yes\",$C$8=\"Yes\",E38<>\"\",G38>=2,I38>=36),Equipment!K37*102)","v":false},{"$f":"IF(AND($C$6=\"Yes\",$C$7=\"Yes\",$C$8=\"Yes\",E38<>\"\",G38>=2,I38>=36),Equipment!K37*0.0462)","v":false}]
[27,null,{"$f":"IF(Equipment!Q38=\"x\",Equipment!C38,\"\")","v":""},null,null,null,null,null,null,null,0,null,{"$f":"IF(AND($C$6=\"Yes\",$C$7=\"Yes\",$C$8=\"Yes\",E39<>\"\",G39>=2,I39>=36),Equipment!K38*102)","v":false},{"$f":"IF(AND($C$6=\"Yes\",$C$7=\"Yes\",$C$8=\"Yes\",E39<>\"\",G39>=2,I39>=36),Equipment!K38*0.0462)","v":false}]
[28,null,{"$f":"IF(Equipment!Q39=\"x\",Equipment!C39,\"\")","v":""},null,null,null,null,null,null,null,0,null,{"$f":"IF(AND($C$6=\"Yes\",$C$7=\"Yes\",$C$8=\"Yes\",E40<>\"\",G40>=2,I40>=36),Equipment!K39*102)","v":false},{"$f":"IF(AND($C$6=\"Yes\",$C$7=\"Yes\",$C$8=\"Yes\",E40<>\"\",G40>=2,I40>=36),Equipment!K39*0.0462)","v":false}]
[29,null,{"$f":"IF(Equipment!Q40=\"x\",Equipment!C40,\"\")","v":""},null,null,null,null,null,null,null,0,null,{"$f":"IF(AND($C$6=\"Yes\",$C$7=\"Yes\",$C$8=\"Yes\",E41<>\"\",G41>=2,I41>=36),Equipment!K40*102)","v":false},{"$f":"IF(AND($C$6=\"Yes\",$C$7=\"Yes\",$C$8=\"Yes\",E41<>\"\",G41>=2,I41>=36),Equipment!K40*0.0462)","v":false}]
[30,null,{"$f":"IF(Equipment!Q41=\"x\",Equipment!C41,\"\")","v":""},null,null,null,null,null,null,null,0,null,{"$f":"IF(AND($C$6=\"Yes\",$C$7=\"Yes\",$C$8=\"Yes\",E42<>\"\",G42>=2,I42>=36),Equipment!K41*102)","v":false},{"$f":"IF(AND($C$6=\"Yes\",$C$7=\"Yes\",$C$8=\"Yes\",E42<>\"\",G42>=2,I42>=36),Equipment!K41*0.0462)","v":false}]
[31,null,{"$f":"IF(Equipment!Q42=\"x\",Equipment!C42,\"\")","v":""},null,null,null,null,null,null,null,0,null,{"$f":"IF(AND($C$6=\"Yes\",$C$7=\"Yes\",$C$8=\"Yes\",E43<>\"\",G43>=2,I43>=36),Equipment!K42*102)","v":false},{"$f":"IF(AND($C$6=\"Yes\",$C$7=\"Yes\",$C$8=\"Yes\",E43<>\"\",G43>=2,I43>=36),Equipment!K42*0.0462)","v":false}]
[32,null,{"$f":"IF(Equipment!Q43=\"x\",Equipment!C43,\"\")","v":""},null,null,null,null,null,null,null,0,null,{"$f":"IF(AND($C$6=\"Yes\",$C$7=\"Yes\",$C$8=\"Yes\",E44<>\"\",G44>=2,I44>=36),Equipment!K43*102)","v":false},{"$f":"IF(AND($C$6=\"Yes\",$C$7=\"Yes\",$C$8=\"Yes\",E44<>\"\",G44>=2,I44>=36),Equipment!K43*0.0462)","v":false}]
[33,null,{"$f":"IF(Equipment!Q44=\"x\",Equipment!C44,\"\")","v":""},null,null,null,null,null,null,null,0,null,{"$f":"IF(AND($C$6=\"Yes\",$C$7=\"Yes\",$C$8=\"Yes\",E45<>\"\",G45>=2,I45>=36),Equipment!K44*102)","v":false},{"$f":"IF(AND($C$6=\"Yes\",$C$7=\"Yes\",$C$8=\"Yes\",E45<>\"\",G45>=2,I45>=36),Equipment!K44*0.0462)","v":false}]
[34,null,{"$f":"IF(Equipment!Q45=\"x\",Equipment!C45,\"\")","v":""},null,null,null,null,null,null,null,0,null,{"$f":"IF(AND($C$6=\"Yes\",$C$7=\"Yes\",$C$8=\"Yes\",E46<>\"\",G46>=2,I46>=36),Equipment!K45*102)","v":false},{"$f":"IF(AND($C$6=\"Yes\",$C$7=\"Yes\",$C$8=\"Yes\",E46<>\"\",G46>=2,I46>=36),Equipment!K45*0.0462)","v":false}]
[35,null,{"$f":"IF(Equipment!Q46=\"x\",Equipment!C46,\"\")","v":""},null,null,null,null,null,null,null,0,null,{"$f":"IF(AND($C$6=\"Yes\",$C$7=\"Yes\",$C$8=\"Yes\",E47<>\"\",G47>=2,I47>=36),Equipment!K46*102)","v":false},{"$f":"IF(AND($C$6=\"Yes\",$C$7=\"Yes\",$C$8=\"Yes\",E47<>\"\",G47>=2,I47>=36),Equipment!K46*0.0462)","v":false}]
[36,null,{"$f":"IF(Equipment!Q47=\"x\",Equipment!C47,\"\")","v":""},null,null,null,null,null,null,null,0,null,{"$f":"IF(AND($C$6=\"Yes\",$C$7=\"Yes\",$C$8=\"Yes\",E48<>\"\",G48>=2,I48>=36),Equipment!K47*102)","v":false},{"$f":"IF(AND($C$6=\"Yes\",$C$7=\"Yes\",$C$8=\"Yes\",E48<>\"\",G48>=2,I48>=36),Equipment!K47*0.0462)","v":false}]
[37,null,{"$f":"IF(Equipment!Q48=\"x\",Equipment!C48,\"\")","v":""},null,null,null,null,null,null,null,0,null,{"$f":"IF(AND($C$6=\"Yes\",$C$7=\"Yes\",$C$8=\"Yes\",E49<>\"\",G49>=2,I49>=36),Equipment!K48*102)","v":false},{"$f":"IF(AND($C$6=\"Yes\",$C$7=\"Yes\",$C$8=\"Yes\",E49<>\"\",G49>=2,I49>=36),Equipment!K48*0.0462)","v":false}]
[38,null,{"$f":"IF(Equipment!Q49=\"x\",Equipment!C49,\"\")","v":""},null,null,null,null,null,null,null,0,null,{"$f":"IF(AND($C$6=\"Yes\",$C$7=\"Yes\",$C$8=\"Yes\",E50<>\"\",G50>=2,I50>=36),Equipment!K49*102)","v":false},{"$f":"IF(AND($C$6=\"Yes\",$C$7=\"Yes\",$C$8=\"Yes\",E50<>\"\",G50>=2,I50>=36),Equipment!K49*0.0462)","v":false}]
[39,null,{"$f":"IF(Equipment!Q50=\"x\",Equipment!C50,\"\")","v":""},null,null,null,null,null,null,null,0,null,{"$f":"IF(AND($C$6=\"Yes\",$C$7=\"Yes\",$C$8=\"Yes\",E51<>\"\",G51>=2,I51>=36),Equipment!K50*102)","v":false},{"$f":"IF(AND($C$6=\"Yes\",$C$7=\"Yes\",$C$8=\"Yes\",E51<>\"\",G51>=2,I51>=36),Equipment!K50*0.0462)","v":false}]
[40,null,{"$f":"IF(Equipment!Q51=\"x\",Equipment!C51,\"\")","v":""},null,null,null,null,null,null,null,0,null,{"$f":"IF(AND($C$6=\"Yes\",$C$7=\"Yes\",$C$8=\"Yes\",E52<>\"\",G52>=2,I52>=36),Equipment!K51*102)","v":false},{"$f":"IF(AND($C$6=\"Yes\",$C$7=\"Yes\",$C$8=\"Yes\",E52<>\"\",G52>=2,I52>=36),Equipment!K51*0.0462)","v":false}]
[41,null,{"$f":"IF(Equipment!Q52=\"x\",Equipment!C52,\"\")","v":""},null,null,null,null,null,null,null,0,null,{"$f":"IF(AND($C$6=\"Yes\",$C$7=\"Yes\",$C$8=\"Yes\",E53<>\"\",G53>=2,I53>=36),Equipment!K52*102)","v":false},{"$f":"IF(AND($C$6=\"Yes\",$C$7=\"Yes\",$C$8=\"Yes\",E53<>\"\",G53>=2,I53>=36),Equipment!K52*0.0462)","v":false}]
[42,null,{"$f":"IF(Equipment!Q53=\"x\",Equipment!C53,\"\")","v":""},null,null,null,null,null,null,null,0,null,{"$f":"IF(AND($C$6=\"Yes\",$C$7=\"Yes\",$C$8=\"Yes\",E54<>\"\",G54>=2,I54>=36),Equipment!K53*102)","v":false},{"$f":"IF(AND($C$6=\"Yes\",$C$7=\"Yes\",$C$8=\"Yes\",E54<>\"\",G54>=2,I54>=36),Equipment!K53*0.0462)","v":false}]
[43,null,{"$f":"IF(Equipment!Q54=\"x\",Equipment!C54,\"\")","v":""},null,null,null,null,null,null,null,0,null,{"$f":"IF(AND($C$6=\"Yes\",$C$7=\"Yes\",$C$8=\"Yes\",E55<>\"\",G55>=2,I55>=36),Equipment!K54*102)","v":false},{"$f":"IF(AND($C$6=\"Yes\",$C$7=\"Yes\",$C$8=\"Yes\",E55<>\"\",G55>=2,I55>=36),Equipment!K54*0.0462)","v":false}]
[44,null,{"$f":"IF(Equipment!Q55=\"x\",Equipment!C55,\"\")","v":""},null,null,null,null,null,null,null,0,null,{"$f":"IF(AND($C$6=\"Yes\",$C$7=\"Yes\",$C$8=\"Yes\",E56<>\"\",G56>=2,I56>=36),Equipment!K55*102)","v":false},{"$f":"IF(AND($C$6=\"Yes\",$C$7=\"Yes\",$C$8=\"Yes\",E56<>\"\",G56>=2,I56>=36),Equipment!K55*0.0462)","v":false}]
[45,null,{"$f":"IF(Equipment!Q56=\"x\",Equipment!C56,\"\")","v":""},null,null,null,null,null,null,null,0,null,{"$f":"IF(AND($C$6=\"Yes\",$C$7=\"Yes\",$C$8=\"Yes\",E57<>\"\",G57>=2,I57>=36),Equipment!K56*102)","v":false},{"$f":"IF(AND($C$6=\"Yes\",$C$7=\"Yes\",$C$8=\"Yes\",E57<>\"\",G57>=2,I57>=36),Equipment!K56*0.0462)","v":false}]
[46,null,{"$f":"IF(Equipment!Q57=\"x\",Equipment!C57,\"\")","v":""},null,null,null,null,null,null,null,0,null,{"$f":"IF(AND($C$6=\"Yes\",$C$7=\"Yes\",$C$8=\"Yes\",E58<>\"\",G58>=2,I58>=36),Equipment!K57*102)","v":false},{"$f":"IF(AND($C$6=\"Yes\",$C$7=\"Yes\",$C$8=\"Yes\",E58<>\"\",G58>=2,I58>=36),Equipment!K57*0.0462)","v":false}]
[47,null,{"$f":"IF(Equipment!Q58=\"x\",Equipment!C58,\"\")","v":""},null,null,null,null,null,null,null,0,null,{"$f":"IF(AND($C$6=\"Yes\",$C$7=\"Yes\",$C$8=\"Yes\",E59<>\"\",G59>=2,I59>=36),Equipment!K58*102)","v":false},{"$f":"IF(AND($C$6=\"Yes\",$C$7=\"Yes\",$C$8=\"Yes\",E59<>\"\",G59>=2,I59>=36),Equipment!K58*0.0462)","v":false}]
[48,null,{"$f":"IF(Equipment!Q59=\"x\",Equipment!C59,\"\")","v":""},null,null,null,null,null,null,null,0,null,{"$f":"IF(AND($C$6=\"Yes\",$C$7=\"Yes\",$C$8=\"Yes\",E60<>\"\",G60>=2,I60>=36),Equipment!K59*102)","v":false},{"$f":"IF(AND($C$6=\"Yes\",$C$7=\"Yes\",$C$8=\"Yes\",E60<>\"\",G60>=2,I60>=36),Equipment!K59*0.0462)","v":false}]
[49,null,{"$f":"IF(Equipment!Q60=\"x\",Equipment!C60,\"\")","v":""},null,null,null,null,null,null,null,0,null,{"$f":"IF(AND($C$6=\"Yes\",$C$7=\"Yes\",$C$8=\"Yes\",E61<>\"\",G61>=2,I61>=36),Equipment!K60*102)","v":false},{"$f":"IF(AND($C$6=\"Yes\",$C$7=\"Yes\",$C$8=\"Yes\",E61<>\"\",G61>=2,I61>=36),Equipment!K60*0.0462)","v":false}]
[50,null,{"$f":"IF(Equipment!Q61=\"x\",Equipment!C61,\"\")","v":""},null,null,null,null,null,null,null,0,null,{"$f":"IF(AND($C$6=\"Yes\",$C$7=\"Yes\",$C$8=\"Yes\",E62<>\"\",G62>=2,I62>=36),Equipment!K61*102)","v":false},{"$f":"IF(AND($C$6=\"Yes\",$C$7=\"Yes\",$C$8=\"Yes\",E62<>\"\",G62>=2,I62>=36),Equipment!K61*0.0462)","v":false}]
[51,null,{"$f":"IF(Equipment!Q62=\"x\",Equipment!C62,\"\")","v":""},null,null,null,null,null,null,null,0,null,{"$f":"IF(AND($C$6=\"Yes\",$C$7=\"Yes\",$C$8=\"Yes\",E63<>\"\",G63>=2,I63>=36),Equipment!K62*102)","v":false},{"$f":"IF(AND($C$6=\"Yes\",$C$7=\"Yes\",$C$8=\"Yes\",E63<>\"\",G63>=2,I63>=36),Equipment!K62*0.0462)","v":false}]
[52,null,{"$f":"IF(Equipment!Q63=\"x\",Equipment!C63,\"\")","v":""},null,null,null,null,null,null,null,0,null,{"$f":"IF(AND($C$6=\"Yes\",$C$7=\"Yes\",$C$8=\"Yes\",E64<>\"\",G64>=2,I64>=36),Equipment!K63*102)","v":false},{"$f":"IF(AND($C$6=\"Yes\",$C$7=\"Yes\",$C$8=\"Yes\",E64<>\"\",G64>=2,I64>=36),Equipment!K63*0.0462)","v":false}]
[53,null,{"$f":"IF(Equipment!Q64=\"x\",Equipment!C64,\"\")","v":""},null,null,null,null,null,null,null,0,null,{"$f":"IF(AND($C$6=\"Yes\",$C$7=\"Yes\",$C$8=\"Yes\",E65<>\"\",G65>=2,I65>=36),Equipment!K64*102)","v":false},{"$f":"IF(AND($C$6=\"Yes\",$C$7=\"Yes\",$C$8=\"Yes\",E65<>\"\",G65>=2,I65>=36),Equipment!K64*0.0462)","v":false}]
[54,null,{"$f":"IF(Equipment!Q65=\"x\",Equipment!C65,\"\")","v":""},null,null,null,null,null,null,null,0,null,{"$f":"IF(AND($C$6=\"Yes\",$C$7=\"Yes\",$C$8=\"Yes\",E66<>\"\",G66>=2,I66>=36),Equipment!K65*102)","v":false},{"$f":"IF(AND($C$6=\"Yes\",$C$7=\"Yes\",$C$8=\"Yes\",E66<>\"\",G66>=2,I66>=36),Equipment!K65*0.0462)","v":false}]
[55,null,{"$f":"IF(Equipment!Q66=\"x\",Equipment!C66,\"\")","v":""},null,null,null,null,null,null,null,0,null,{"$f":"IF(AND($C$6=\"Yes\",$C$7=\"Yes\",$C$8=\"Yes\",E67<>\"\",G67>=2,I67>=36),Equipment!K66*102)","v":false},{"$f":"IF(AND($C$6=\"Yes\",$C$7=\"Yes\",$C$8=\"Yes\",E67<>\"\",G67>=2,I67>=36),Equipment!K66*0.0462)","v":false}]
[56,null,{"$f":"IF(Equipment!Q67=\"x\",Equipment!C67,\"\")","v":""},null,null,null,null,null,null,null,0,null,{"$f":"IF(AND($C$6=\"Yes\",$C$7=\"Yes\",$C$8=\"Yes\",E68<>\"\",G68>=2,I68>=36),Equipment!K67*102)","v":false},{"$f":"IF(AND($C$6=\"Yes\",$C$7=\"Yes\",$C$8=\"Yes\",E68<>\"\",G68>=2,I68>=36),Equipment!K67*0.0462)","v":false}]
[57,null,{"$f":"IF(Equipment!Q68=\"x\",Equipment!C68,\"\")","v":""},null,null,null,null,null,null,null,0,null,{"$f":"IF(AND($C$6=\"Yes\",$C$7=\"Yes\",$C$8=\"Yes\",E69<>\"\",G69>=2,I69>=36),Equipment!K68*102)","v":false},{"$f":"IF(AND($C$6=\"Yes\",$C$7=\"Yes\",$C$8=\"Yes\",E69<>\"\",G69>=2,I69>=36),Equipment!K68*0.0462)","v":false}]
[58,null,{"$f":"IF(Equipment!Q69=\"x\",Equipment!C69,\"\")","v":""},null,null,null,null,null,null,null,0,null,{"$f":"IF(AND($C$6=\"Yes\",$C$7=\"Yes\",$C$8=\"Yes\",E70<>\"\",G70>=2,I70>=36),Equipment!K69*102)","v":false},{"$f":"IF(AND($C$6=\"Yes\",$C$7=\"Yes\",$C$8=\"Yes\",E70<>\"\",G70>=2,I70>=36),Equipment!K69*0.0462)","v":false}]
[59,null,{"$f":"IF(Equipment!Q70=\"x\",Equipment!C70,\"\")","v":""},null,null,null,null,null,null,null,0,null,{"$f":"IF(AND($C$6=\"Yes\",$C$7=\"Yes\",$C$8=\"Yes\",E71<>\"\",G71>=2,I71>=36),Equipment!K70*102)","v":false},{"$f":"IF(AND($C$6=\"Yes\",$C$7=\"Yes\",$C$8=\"Yes\",E71<>\"\",G71>=2,I71>=36),Equipment!K70*0.0462)","v":false}]
[60,null,{"$f":"IF(Equipment!Q71=\"x\",Equipment!C71,\"\")","v":""},null,null,null,null,null,null,null,0,null,{"$f":"IF(AND($C$6=\"Yes\",$C$7=\"Yes\",$C$8=\"Yes\",E72<>\"\",G72>=2,I72>=36),Equipment!K71*102)","v":false},{"$f":"IF(AND($C$6=\"Yes\",$C$7=\"Yes\",$C$8=\"Yes\",E72<>\"\",G72>=2,I72>=36),Equipment!K71*0.0462)","v":false}]
[61,null,{"$f":"IF(Equipment!Q72=\"x\",Equipment!C72,\"\")","v":""},null,null,null,null,null,null,null,0,null,{"$f":"IF(AND($C$6=\"Yes\",$C$7=\"Yes\",$C$8=\"Yes\",E73<>\"\",G73>=2,I73>=36),Equipment!K72*102)","v":false},{"$f":"IF(AND($C$6=\"Yes\",$C$7=\"Yes\",$C$8=\"Yes\",E73<>\"\",G73>=2,I73>=36),Equipment!K72*0.0462)","v":false}]
[62,null,{"$f":"IF(Equipment!Q73=\"x\",Equipment!C73,\"\")","v":""},null,null,null,null,null,null,null,0,null,{"$f":"IF(AND($C$6=\"Yes\",$C$7=\"Yes\",$C$8=\"Yes\",E74<>\"\",G74>=2,I74>=36),Equipment!K73*102)","v":false},{"$f":"IF(AND($C$6=\"Yes\",$C$7=\"Yes\",$C$8=\"Yes\",E74<>\"\",G74>=2,I74>=36),Equipment!K73*0.0462)","v":false}]
[63,null,{"$f":"IF(Equipment!Q74=\"x\",Equipment!C74,\"\")","v":""},null,null,null,null,null,null,null,0,null,{"$f":"IF(AND($C$6=\"Yes\",$C$7=\"Yes\",$C$8=\"Yes\",E75<>\"\",G75>=2,I75>=36),Equipment!K74*102)","v":false},{"$f":"IF(AND($C$6=\"Yes\",$C$7=\"Yes\",$C$8=\"Yes\",E75<>\"\",G75>=2,I75>=36),Equipment!K74*0.0462)","v":false}]
[64,null,{"$f":"IF(Equipment!Q75=\"x\",Equipment!C75,\"\")","v":""},null,null,null,null,null,null,null,0,null,{"$f":"IF(AND($C$6=\"Yes\",$C$7=\"Yes\",$C$8=\"Yes\",E76<>\"\",G76>=2,I76>=36),Equipment!K75*102)","v":false},{"$f":"IF(AND($C$6=\"Yes\",$C$7=\"Yes\",$C$8=\"Yes\",E76<>\"\",G76>=2,I76>=36),Equipment!K75*0.0462)","v":false}]
[65,null,{"$f":"IF(Equipment!Q76=\"x\",Equipment!C76,\"\")","v":""},null,null,null,null,null,null,null,0,null,{"$f":"IF(AND($C$6=\"Yes\",$C$7=\"Yes\",$C$8=\"Yes\",E77<>\"\",G77>=2,I77>=36),Equipment!K76*102)","v":false},{"$f":"IF(AND($C$6=\"Yes\",$C$7=\"Yes\",$C$8=\"Yes\",E77<>\"\",G77>=2,I77>=36),Equipment!K76*0.0462)","v":false}]
[66,null,{"$f":"IF(Equipment!Q77=\"x\",Equipment!C77,\"\")","v":""},null,null,null,null,null,null,null,{"$f":"IF(AND($C$6=\"Yes\",$C$7=\"Yes\",$C$8=\"Yes\",G78>=2,I78>=36),MIN(E78*0.7,75),0)","v":0},null,{"$f":"IF(AND($C$6=\"Yes\",$C$7=\"Yes\",$C$8=\"Yes\",E78<>\"\",G78>=2,I78>=36),Equipment!K77*102)","v":false},{"$f":"IF(AND($C$6=\"Yes\",$C$7=\"Yes\",$C$8=\"Yes\",E78<>\"\",G78>=2,I78>=36),Equipment!K77*0.0462)","v":false}]
[67,null,{"$f":"IF(Equipment!Q78=\"x\",Equipment!C78,\"\")","v":""},null,null,null,null,null,null,null,0,null,{"$f":"IF(AND($C$6=\"Yes\",$C$7=\"Yes\",$C$8=\"Yes\",E79<>\"\",G79>=2,I79>=36),Equipment!K78*102)","v":false},{"$f":"IF(AND($C$6=\"Yes\",$C$7=\"Yes\",$C$8=\"Yes\",E79<>\"\",G79>=2,I79>=36),Equipment!K78*0.0462)","v":false}]
[68,null,{"$f":"IF(Equipment!Q79=\"x\",Equipment!C79,\"\")","v":""},null,null,null,null,null,null,null,0,null,{"$f":"IF(AND($C$6=\"Yes\",$C$7=\"Yes\",$C$8=\"Yes\",E80<>\"\",G80>=2,I80>=36),Equipment!K79*102)","v":false},{"$f":"IF(AND($C$6=\"Yes\",$C$7=\"Yes\",$C$8=\"Yes\",E80<>\"\",G80>=2,I80>=36),Equipment!K79*0.0462)","v":false}]
[69,null,{"$f":"IF(Equipment!Q80=\"x\",Equipment!C80,\"\")","v":""},null,null,null,null,null,null,null,0,null,{"$f":"IF(AND($C$6=\"Yes\",$C$7=\"Yes\",$C$8=\"Yes\",E81<>\"\",G81>=2,I81>=36),Equipment!K80*102)","v":false},{"$f":"IF(AND($C$6=\"Yes\",$C$7=\"Yes\",$C$8=\"Yes\",E81<>\"\",G81>=2,I81>=36),Equipment!K80*0.0462)","v":false}]
[70,null,{"$f":"IF(Equipment!Q81=\"x\",Equipment!C81,\"\")","v":""},null,null,null,null,null,null,null,0,null,{"$f":"IF(AND($C$6=\"Yes\",$C$7=\"Yes\",$C$8=\"Yes\",E82<>\"\",G82>=2,I82>=36),Equipment!K81*102)","v":false},{"$f":"IF(AND($C$6=\"Yes\",$C$7=\"Yes\",$C$8=\"Yes\",E82<>\"\",G82>=2,I82>=36),Equipment!K81*0.0462)","v":false}]
[71,null,{"$f":"IF(Equipment!Q82=\"x\",Equipment!C82,\"\")","v":""},null,null,null,null,null,null,null,0,null,{"$f":"IF(AND($C$6=\"Yes\",$C$7=\"Yes\",$C$8=\"Yes\",E83<>\"\",G83>=2,I83>=36),Equipment!K82*102)","v":false},{"$f":"IF(AND($C$6=\"Yes\",$C$7=\"Yes\",$C$8=\"Yes\",E83<>\"\",G83>=2,I83>=36),Equipment!K82*0.0462)","v":false}]
[72,null,{"$f":"IF(Equipment!Q83=\"x\",Equipment!C83,\"\")","v":""},null,null,null,null,null,null,null,0,null,{"$f":"IF(AND($C$6=\"Yes\",$C$7=\"Yes\",$C$8=\"Yes\",E84<>\"\",G84>=2,I84>=36),Equipment!K83*102)","v":false},{"$f":"IF(AND($C$6=\"Yes\",$C$7=\"Yes\",$C$8=\"Yes\",E84<>\"\",G84>=2,I84>=36),Equipment!K83*0.0462)","v":false}]
[73,null,{"$f":"IF(Equipment!Q84=\"x\",Equipment!C84,\"\")","v":""},null,null,null,null,null,null,null,0,null,{"$f":"IF(AND($C$6=\"Yes\",$C$7=\"Yes\",$C$8=\"Yes\",E85<>\"\",G85>=2,I85>=36),Equipment!K84*102)","v":false},{"$f":"IF(AND($C$6=\"Yes\",$C$7=\"Yes\",$C$8=\"Yes\",E85<>\"\",G85>=2,I85>=36),Equipment!K84*0.0462)","v":false}]
[74,null,{"$f":"IF(Equipment!Q85=\"x\",Equipment!C85,\"\")","v":""},null,null,null,null,null,null,null,0,null,{"$f":"IF(AND($C$6=\"Yes\",$C$7=\"Yes\",$C$8=\"Yes\",E86<>\"\",G86>=2,I86>=36),Equipment!K85*102)","v":false},{"$f":"IF(AND($C$6=\"Yes\",$C$7=\"Yes\",$C$8=\"Yes\",E86<>\"\",G86>=2,I86>=36),Equipment!K85*0.0462)","v":false}]
[75,null,{"$f":"IF(Equipment!Q86=\"x\",Equipment!C86,\"\")","v":""},null,null,null,null,null,null,null,0,null,{"$f":"IF(AND($C$6=\"Yes\",$C$7=\"Yes\",$C$8=\"Yes\",E87<>\"\",G87>=2,I87>=36),Equipment!K86*102)","v":false},{"$f":"IF(AND($C$6=\"Yes\",$C$7=\"Yes\",$C$8=\"Yes\",E87<>\"\",G87>=2,I87>=36),Equipment!K86*0.0462)","v":false}]
[76,null,{"$f":"IF(Equipment!Q87=\"x\",Equipment!C87,\"\")","v":""},null,null,null,null,null,null,null,0,null,{"$f":"IF(AND($C$6=\"Yes\",$C$7=\"Yes\",$C$8=\"Yes\",E88<>\"\",G88>=2,I88>=36),Equipment!K87*102)","v":false},{"$f":"IF(AND($C$6=\"Yes\",$C$7=\"Yes\",$C$8=\"Yes\",E88<>\"\",G88>=2,I88>=36),Equipment!K87*0.0462)","v":false}]
[77,null,{"$f":"IF(Equipment!Q88=\"x\",Equipment!C88,\"\")","v":""},null,null,null,null,null,null,null,0,null,{"$f":"IF(AND($C$6=\"Yes\",$C$7=\"Yes\",$C$8=\"Yes\",E89<>\"\",G89>=2,I89>=36),Equipment!K88*102)","v":false},{"$f":"IF(AND($C$6=\"Yes\",$C$7=\"Yes\",$C$8=\"Yes\",E89<>\"\",G89>=2,I89>=36),Equipment!K88*0.0462)","v":false}]
[78,null,{"$f":"IF(Equipment!Q89=\"x\",Equipment!C89,\"\")","v":""},null,null,null,null,null,null,null,0,null,{"$f":"IF(AND($C$6=\"Yes\",$C$7=\"Yes\",$C$8=\"Yes\",E90<>\"\",G90>=2,I90>=36),Equipment!K89*102)","v":false},{"$f":"IF(AND($C$6=\"Yes\",$C$7=\"Yes\",$C$8=\"Yes\",E90<>\"\",G90>=2,I90>=36),Equipment!K89*0.0462)","v":false}]
[79,null,{"$f":"IF(Equipment!Q90=\"x\",Equipment!C90,\"\")","v":""},null,null,null,null,null,null,null,0,null,{"$f":"IF(AND($C$6=\"Yes\",$C$7=\"Yes\",$C$8=\"Yes\",E91<>\"\",G91>=2,I91>=36),Equipment!K90*102)","v":false},{"$f":"IF(AND($C$6=\"Yes\",$C$7=\"Yes\",$C$8=\"Yes\",E91<>\"\",G91>=2,I91>=36),Equipment!K90*0.0462)","v":false}]
[80,null,{"$f":"IF(Equipment!Q91=\"x\",Equipment!C91,\"\")","v":""},null,null,null,null,null,null,null,0,null,{"$f":"IF(AND($C$6=\"Yes\",$C$7=\"Yes\",$C$8=\"Yes\",E92<>\"\",G92>=2,I92>=36),Equipment!K91*102)","v":false},{"$f":"IF(AND($C$6=\"Yes\",$C$7=\"Yes\",$C$8=\"Yes\",E92<>\"\",G92>=2,I92>=36),Equipment!K91*0.0462)","v":false}]
[81,null,{"$f":"IF(Equipment!Q92=\"x\",Equipment!C92,\"\")","v":""},null,null,null,null,null,null,null,0,null,{"$f":"IF(AND($C$6=\"Yes\",$C$7=\"Yes\",$C$8=\"Yes\",E93<>\"\",G93>=2,I93>=36),Equipment!K92*102)","v":false},{"$f":"IF(AND($C$6=\"Yes\",$C$7=\"Yes\",$C$8=\"Yes\",E93<>\"\",G93>=2,I93>=36),Equipment!K92*0.0462)","v":false}]
[82,null,{"$f":"IF(Equipment!Q93=\"x\",Equipment!C93,\"\")","v":""},null,null,null,null,null,null,null,0,null,{"$f":"IF(AND($C$6=\"Yes\",$C$7=\"Yes\",$C$8=\"Yes\",E94<>\"\",G94>=2,I94>=36),Equipment!K93*102)","v":false},{"$f":"IF(AND($C$6=\"Yes\",$C$7=\"Yes\",$C$8=\"Yes\",E94<>\"\",G94>=2,I94>=36),Equipment!K93*0.0462)","v":false}]
[83,null,{"$f":"IF(Equipment!Q94=\"x\",Equipment!C94,\"\")","v":""},null,null,null,null,null,null,null,0,null,{"$f":"IF(AND($C$6=\"Yes\",$C$7=\"Yes\",$C$8=\"Yes\",E95<>\"\",G95>=2,I95>=36),Equipment!K94*102)","v":false},{"$f":"IF(AND($C$6=\"Yes\",$C$7=\"Yes\",$C$8=\"Yes\",E95<>\"\",G95>=2,I95>=36),Equipment!K94*0.0462)","v":false}]
[84,null,{"$f":"IF(Equipment!Q95=\"x\",Equipment!C95,\"\")","v":""},null,null,null,null,null,null,null,0,null,{"$f":"IF(AND($C$6=\"Yes\",$C$7=\"Yes\",$C$8=\"Yes\",E96<>\"\",G96>=2,I96>=36),Equipment!K95*102)","v":false},{"$f":"IF(AND($C$6=\"Yes\",$C$7=\"Yes\",$C$8=\"Yes\",E96<>\"\",G96>=2,I96>=36),Equipment!K95*0.0462)","v":false}]
[85,null,{"$f":"IF(Equipment!Q96=\"x\",Equipment!C96,\"\")","v":""},null,null,null,null,null,null,null,0,null,{"$f":"IF(AND($C$6=\"Yes\",$C$7=\"Yes\",$C$8=\"Yes\",E97<>\"\",G97>=2,I97>=36),Equipment!K96*102)","v":false},{"$f":"IF(AND($C$6=\"Yes\",$C$7=\"Yes\",$C$8=\"Yes\",E97<>\"\",G97>=2,I97>=36),Equipment!K96*0.0462)","v":false}]
[86,null,{"$f":"IF(Equipment!Q97=\"x\",Equipment!C97,\"\")","v":""},null,null,null,null,null,null,null,0,null,{"$f":"IF(AND($C$6=\"Yes\",$C$7=\"Yes\",$C$8=\"Yes\",E98<>\"\",G98>=2,I98>=36),Equipment!K97*102)","v":false},{"$f":"IF(AND($C$6=\"Yes\",$C$7=\"Yes\",$C$8=\"Yes\",E98<>\"\",G98>=2,I98>=36),Equipment!K97*0.0462)","v":false}]
[87,null,{"$f":"IF(Equipment!Q98=\"x\",Equipment!C98,\"\")","v":""},null,null,null,null,null,null,null,0,null,{"$f":"IF(AND($C$6=\"Yes\",$C$7=\"Yes\",$C$8=\"Yes\",E99<>\"\",G99>=2,I99>=36),Equipment!K98*102)","v":false},{"$f":"IF(AND($C$6=\"Yes\",$C$7=\"Yes\",$C$8=\"Yes\",E99<>\"\",G99>=2,I99>=36),Equipment!K98*0.0462)","v":false}]
[88,null,{"$f":"IF(Equipment!Q99=\"x\",Equipment!C99,\"\")","v":""},null,null,null,null,null,null,null,0,null,{"$f":"IF(AND($C$6=\"Yes\",$C$7=\"Yes\",$C$8=\"Yes\",E100<>\"\",G100>=2,I100>=36),Equipment!K99*102)","v":false},{"$f":"IF(AND($C$6=\"Yes\",$C$7=\"Yes\",$C$8=\"Yes\",E100<>\"\",G100>=2,I100>=36),Equipment!K99*0.0462)","v":false}]
[89,null,{"$f":"IF(Equipment!Q100=\"x\",Equipment!C100,\"\")","v":""},null,null,null,null,null,null,null,0,null,{"$f":"IF(AND($C$6=\"Yes\",$C$7=\"Yes\",$C$8=\"Yes\",E101<>\"\",G101>=2,I101>=36),Equipment!K100*102)","v":false},{"$f":"IF(AND($C$6=\"Yes\",$C$7=\"Yes\",$C$8=\"Yes\",E101<>\"\",G101>=2,I101>=36),Equipment!K100*0.0462)","v":false}]
[90,null,{"$f":"IF(Equipment!Q101=\"x\",Equipment!C101,\"\")","v":""},null,null,null,null,null,null,null,0,null,{"$f":"IF(AND($C$6=\"Yes\",$C$7=\"Yes\",$C$8=\"Yes\",E102<>\"\",G102>=2,I102>=36),Equipment!K101*102)","v":false},{"$f":"IF(AND($C$6=\"Yes\",$C$7=\"Yes\",$C$8=\"Yes\",E102<>\"\",G102>=2,I102>=36),Equipment!K101*0.0462)","v":false}]
[91,null,{"$f":"IF(Equipment!Q102=\"x\",Equipment!C102,\"\")","v":""},null,null,null,null,null,null,null,0,null,{"$f":"IF(AND($C$6=\"Yes\",$C$7=\"Yes\",$C$8=\"Yes\",E103<>\"\",G103>=2,I103>=36),Equipment!K102*102)","v":false},{"$f":"IF(AND($C$6=\"Yes\",$C$7=\"Yes\",$C$8=\"Yes\",E103<>\"\",G103>=2,I103>=36),Equipment!K102*0.0462)","v":false}]
[92,null,{"$f":"IF(Equipment!Q103=\"x\",Equipment!C103,\"\")","v":""},null,null,null,null,null,null,null,0,null,{"$f":"IF(AND($C$6=\"Yes\",$C$7=\"Yes\",$C$8=\"Yes\",E104<>\"\",G104>=2,I104>=36),Equipment!K103*102)","v":false},{"$f":"IF(AND($C$6=\"Yes\",$C$7=\"Yes\",$C$8=\"Yes\",E104<>\"\",G104>=2,I104>=36),Equipment!K103*0.0462)","v":false}]
[93,null,{"$f":"IF(Equipment!Q104=\"x\",Equipment!C104,\"\")","v":""},null,null,null,null,null,null,null,0,null,{"$f":"IF(AND($C$6=\"Yes\",$C$7=\"Yes\",$C$8=\"Yes\",E105<>\"\",G105>=2,I105>=36),Equipment!K104*102)","v":false},{"$f":"IF(AND($C$6=\"Yes\",$C$7=\"Yes\",$C$8=\"Yes\",E105<>\"\",G105>=2,I105>=36),Equipment!K104*0.0462)","v":false}]
[94,null,{"$f":"IF(Equipment!Q105=\"x\",Equipment!C105,\"\")","v":""},null,null,null,null,null,null,null,0,null,{"$f":"IF(AND($C$6=\"Yes\",$C$7=\"Yes\",$C$8=\"Yes\",E106<>\"\",G106>=2,I106>=36),Equipment!K105*102)","v":false},{"$f":"IF(AND($C$6=\"Yes\",$C$7=\"Yes\",$C$8=\"Yes\",E106<>\"\",G106>=2,I106>=36),Equipment!K105*0.0462)","v":false}]
[95,null,{"$f":"IF(Equipment!Q106=\"x\",Equipment!C106,\"\")","v":""},null,null,null,null,null,null,null,0,null,{"$f":"IF(AND($C$6=\"Yes\",$C$7=\"Yes\",$C$8=\"Yes\",E107<>\"\",G107>=2,I107>=36),Equipment!K106*102)","v":false},{"$f":"IF(AND($C$6=\"Yes\",$C$7=\"Yes\",$C$8=\"Yes\",E107<>\"\",G107>=2,I107>=36),Equipment!K106*0.0462)","v":false}]
[96,null,{"$f":"IF(Equipment!Q107=\"x\",Equipment!C107,\"\")","v":""},null,null,null,null,null,null,null,0,null,{"$f":"IF(AND($C$6=\"Yes\",$C$7=\"Yes\",$C$8=\"Yes\",E108<>\"\",G108>=2,I108>=36),Equipment!K107*102)","v":false},{"$f":"IF(AND($C$6=\"Yes\",$C$7=\"Yes\",$C$8=\"Yes\",E108<>\"\",G108>=2,I108>=36),Equipment!K107*0.0462)","v":false}]
[97,null,{"$f":"IF(Equipment!Q108=\"x\",Equipment!C108,\"\")","v":""},null,null,null,null,null,null,null,0,null,{"$f":"IF(AND($C$6=\"Yes\",$C$7=\"Yes\",$C$8=\"Yes\",E109<>\"\",G109>=2,I109>=36),Equipment!K108*102)","v":false},{"$f":"IF(AND($C$6=\"Yes\",$C$7=\"Yes\",$C$8=\"Yes\",E109<>\"\",G109>=2,I109>=36),Equipment!K108*0.0462)","v":false}]
[98,null,{"$f":"IF(Equipment!Q109=\"x\",Equipment!C109,\"\")","v":""},null,null,null,null,null,null,null,0,null,{"$f":"IF(AND($C$6=\"Yes\",$C$7=\"Yes\",$C$8=\"Yes\",E110<>\"\",G110>=2,I110>=36),Equipment!K109*102)","v":false},{"$f":"IF(AND($C$6=\"Yes\",$C$7=\"Yes\",$C$8=\"Yes\",E110<>\"\",G110>=2,I110>=36),Equipment!K109*0.0462)","v":false}]
[99,null,{"$f":"IF(Equipment!Q110=\"x\",Equipment!C110,\"\")","v":""},null,null,null,null,null,null,null,0,null,{"$f":"IF(AND($C$6=\"Yes\",$C$7=\"Yes\",$C$8=\"Yes\",E111<>\"\",G111>=2,I111>=36),Equipment!K110*102)","v":false},{"$f":"IF(AND($C$6=\"Yes\",$C$7=\"Yes\",$C$8=\"Yes\",E111<>\"\",G111>=2,I111>=36),Equipment!K110*0.0462)","v":false}]
[100,null,{"$f":"IF(Equipment!Q111=\"x\",Equipment!C111,\"\")","v":""},null,null,null,null,null,null,null,0,null,{"$f":"IF(AND($C$6=\"Yes\",$C$7=\"Yes\",$C$8=\"Yes\",E112<>\"\",G112>=2,I112>=36),Equipment!K111*102)","v":false},{"$f":"IF(AND($C$6=\"Yes\",$C$7=\"Yes\",$C$8=\"Yes\",E112<>\"\",G112>=2,I112>=36),Equipment!K111*0.0462)","v":false}]
[101,null,{"$f":"IF(Equipment!Q112=\"x\",Equipment!C112,\"\")","v":""},null,null,null,null,null,null,null,0,null,{"$f":"IF(AND($C$6=\"Yes\",$C$7=\"Yes\",$C$8=\"Yes\",E113<>\"\",G113>=2,I113>=36),Equipment!K112*102)","v":false},{"$f":"IF(AND($C$6=\"Yes\",$C$7=\"Yes\",$C$8=\"Yes\",E113<>\"\",G113>=2,I113>=36),Equipment!K112*0.0462)","v":false}]
[102,null,{"$f":"IF(Equipment!Q113=\"x\",Equipment!C113,\"\")","v":""},null,null,null,null,null,null,null,0,null,{"$f":"IF(AND($C$6=\"Yes\",$C$7=\"Yes\",$C$8=\"Yes\",E114<>\"\",G114>=2,I114>=36),Equipment!K113*102)","v":false},{"$f":"IF(AND($C$6=\"Yes\",$C$7=\"Yes\",$C$8=\"Yes\",E114<>\"\",G114>=2,I114>=36),Equipment!K113*0.0462)","v":false}]
[103,null,{"$f":"IF(Equipment!Q114=\"x\",Equipment!C114,\"\")","v":""},null,null,null,null,null,null,null,0,null,{"$f":"IF(AND($C$6=\"Yes\",$C$7=\"Yes\",$C$8=\"Yes\",E115<>\"\",G115>=2,I115>=36),Equipment!K114*102)","v":false},{"$f":"IF(AND($C$6=\"Yes\",$C$7=\"Yes\",$C$8=\"Yes\",E115<>\"\",G115>=2,I115>=36),Equipment!K114*0.0462)","v":false}]
[104,null,{"$f":"IF(Equipment!Q115=\"x\",Equipment!C115,\"\")","v":""},null,null,null,null,null,null,null,0,null,{"$f":"IF(AND($C$6=\"Yes\",$C$7=\"Yes\",$C$8=\"Yes\",E116<>\"\",G116>=2,I116>=36),Equipment!K115*102)","v":false},{"$f":"IF(AND($C$6=\"Yes\",$C$7=\"Yes\",$C$8=\"Yes\",E116<>\"\",G116>=2,I116>=36),Equipment!K115*0.0462)","v":false}]
[105,null,{"$f":"IF(Equipment!Q116=\"x\",Equipment!C116,\"\")","v":""},null,null,null,null,null,null,null,0,null,{"$f":"IF(AND($C$6=\"Yes\",$C$7=\"Yes\",$C$8=\"Yes\",E117<>\"\",G117>=2,I117>=36),Equipment!K116*102)","v":false},{"$f":"IF(AND($C$6=\"Yes\",$C$7=\"Yes\",$C$8=\"Yes\",E117<>\"\",G117>=2,I117>=36),Equipment!K116*0.0462)","v":false}]
[106,null,{"$f":"IF(Equipment!Q117=\"x\",Equipment!C117,\"\")","v":""},null,null,null,null,null,null,null,0,null,{"$f":"IF(AND($C$6=\"Yes\",$C$7=\"Yes\",$C$8=\"Yes\",E118<>\"\",G118>=2,I118>=36),Equipment!K117*102)","v":false},{"$f":"IF(AND($C$6=\"Yes\",$C$7=\"Yes\",$C$8=\"Yes\",E118<>\"\",G118>=2,I118>=36),Equipment!K117*0.0462)","v":false}]
[107,null,{"$f":"IF(Equipment!Q118=\"x\",Equipment!C118,\"\")","v":""},null,null,null,null,null,null,null,0,null,{"$f":"IF(AND($C$6=\"Yes\",$C$7=\"Yes\",$C$8=\"Yes\",E119<>\"\",G119>=2,I119>=36),Equipment!K118*102)","v":false},{"$f":"IF(AND($C$6=\"Yes\",$C$7=\"Yes\",$C$8=\"Yes\",E119<>\"\",G119>=2,I119>=36),Equipment!K118*0.0462)","v":false}]
[108,null,{"$f":"IF(Equipment!Q119=\"x\",Equipment!C119,\"\")","v":""},null,null,null,null,null,null,null,0,null,{"$f":"IF(AND($C$6=\"Yes\",$C$7=\"Yes\",$C$8=\"Yes\",E120<>\"\",G120>=2,I120>=36),Equipment!K119*102)","v":false},{"$f":"IF(AND($C$6=\"Yes\",$C$7=\"Yes\",$C$8=\"Yes\",E120<>\"\",G120>=2,I120>=36),Equipment!K119*0.0462)","v":false}]
[109,null,{"$f":"IF(Equipment!Q120=\"x\",Equipment!C120,\"\")","v":""},null,null,null,null,null,null,null,0,null,{"$f":"IF(AND($C$6=\"Yes\",$C$7=\"Yes\",$C$8=\"Yes\",E121<>\"\",G121>=2,I121>=36),Equipment!K120*102)","v":false},{"$f":"IF(AND($C$6=\"Yes\",$C$7=\"Yes\",$C$8=\"Yes\",E121<>\"\",G121>=2,I121>=36),Equipment!K120*0.0462)","v":false}]
[110,null,{"$f":"IF(Equipment!Q121=\"x\",Equipment!C121,\"\")","v":""},null,null,null,null,null,null,null,0,null,{"$f":"IF(AND($C$6=\"Yes\",$C$7=\"Yes\",$C$8=\"Yes\",E122<>\"\",G122>=2,I122>=36),Equipment!K121*102)","v":false},{"$f":"IF(AND($C$6=\"Yes\",$C$7=\"Yes\",$C$8=\"Yes\",E122<>\"\",G122>=2,I122>=36),Equipment!K121*0.0462)","v":false}]
[111,null,{"$f":"IF(Equipment!Q122=\"x\",Equipment!C122,\"\")","v":""},null,null,null,null,null,null,null,0,null,{"$f":"IF(AND($C$6=\"Yes\",$C$7=\"Yes\",$C$8=\"Yes\",E123<>\"\",G123>=2,I123>=36),Equipment!K122*102)","v":false},{"$f":"IF(AND($C$6=\"Yes\",$C$7=\"Yes\",$C$8=\"Yes\",E123<>\"\",G123>=2,I123>=36),Equipment!K122*0.0462)","v":false}]
[112,null,{"$f":"IF(Equipment!Q123=\"x\",Equipment!C123,\"\")","v":""},null,null,null,null,null,null,null,0,null,{"$f":"IF(AND($C$6=\"Yes\",$C$7=\"Yes\",$C$8=\"Yes\",E124<>\"\",G124>=2,I124>=36),Equipment!K123*102)","v":false},{"$f":"IF(AND($C$6=\"Yes\",$C$7=\"Yes\",$C$8=\"Yes\",E124<>\"\",G124>=2,I124>=36),Equipment!K123*0.0462)","v":false}]
[113,null,{"$f":"IF(Equipment!Q124=\"x\",Equipment!C124,\"\")","v":""},null,null,null,null,null,null,null,0,null,{"$f":"IF(AND($C$6=\"Yes\",$C$7=\"Yes\",$C$8=\"Yes\",E125<>\"\",G125>=2,I125>=36),Equipment!K124*102)","v":false},{"$f":"IF(AND($C$6=\"Yes\",$C$7=\"Yes\",$C$8=\"Yes\",E125<>\"\",G125>=2,I125>=36),Equipment!K124*0.0462)","v":false}]
[114,null,{"$f":"IF(Equipment!Q125=\"x\",Equipment!C125,\"\")","v":""},null,null,null,null,null,null,null,0,null,{"$f":"IF(AND($C$6=\"Yes\",$C$7=\"Yes\",$C$8=\"Yes\",E126<>\"\",G126>=2,I126>=36),Equipment!K125*102)","v":false},{"$f":"IF(AND($C$6=\"Yes\",$C$7=\"Yes\",$C$8=\"Yes\",E126<>\"\",G126>=2,I126>=36),Equipment!K125*0.0462)","v":false}]
[115,null,{"$f":"IF(Equipment!Q126=\"x\",Equipment!C126,\"\")","v":""},null,null,null,null,null,null,null,0,null,{"$f":"IF(AND($C$6=\"Yes\",$C$7=\"Yes\",$C$8=\"Yes\",E127<>\"\",G127>=2,I127>=36),Equipment!K126*102)","v":false},{"$f":"IF(AND($C$6=\"Yes\",$C$7=\"Yes\",$C$8=\"Yes\",E127<>\"\",G127>=2,I127>=36),Equipment!K126*0.0462)","v":false}]
[116,null,{"$f":"IF(Equipment!Q127=\"x\",Equipment!C127,\"\")","v":""},null,null,null,null,null,null,null,0,null,{"$f":"IF(AND($C$6=\"Yes\",$C$7=\"Yes\",$C$8=\"Yes\",E128<>\"\",G128>=2,I128>=36),Equipment!K127*102)","v":false},{"$f":"IF(AND($C$6=\"Yes\",$C$7=\"Yes\",$C$8=\"Yes\",E128<>\"\",G128>=2,I128>=36),Equipment!K127*0.0462)","v":false}]
[117,null,{"$f":"IF(Equipment!Q128=\"x\",Equipment!C128,\"\")","v":""},null,null,null,null,null,null,null,0,null,{"$f":"IF(AND($C$6=\"Yes\",$C$7=\"Yes\",$C$8=\"Yes\",E129<>\"\",G129>=2,I129>=36),Equipment!K128*102)","v":false},{"$f":"IF(AND($C$6=\"Yes\",$C$7=\"Yes\",$C$8=\"Yes\",E129<>\"\",G129>=2,I129>=36),Equipment!K128*0.0462)","v":false}]
[118,null,{"$f":"IF(Equipment!Q129=\"x\",Equipment!C129,\"\")","v":""},null,null,null,null,null,null,null,0,null,{"$f":"IF(AND($C$6=\"Yes\",$C$7=\"Yes\",$C$8=\"Yes\",E130<>\"\",G130>=2,I130>=36),Equipment!K129*102)","v":false},{"$f":"IF(AND($C$6=\"Yes\",$C$7=\"Yes\",$C$8=\"Yes\",E130<>\"\",G130>=2,I130>=36),Equipment!K129*0.0462)","v":false}]
[119,null,{"$f":"IF(Equipment!Q130=\"x\",Equipment!C130,\"\")","v":""},null,null,null,null,null,null,null,0,null,{"$f":"IF(AND($C$6=\"Yes\",$C$7=\"Yes\",$C$8=\"Yes\",E131<>\"\",G131>=2,I131>=36),Equipment!K130*102)","v":false},{"$f":"IF(AND($C$6=\"Yes\",$C$7=\"Yes\",$C$8=\"Yes\",E131<>\"\",G131>=2,I131>=36),Equipment!K130*0.0462)","v":false}]
[120,null,{"$f":"IF(Equipment!Q131=\"x\",Equipment!C131,\"\")","v":""},null,null,null,null,null,null,null,0,null,{"$f":"IF(AND($C$6=\"Yes\",$C$7=\"Yes\",$C$8=\"Yes\",E132<>\"\",G132>=2,I132>=36),Equipment!K131*102)","v":false},{"$f":"IF(AND($C$6=\"Yes\",$C$7=\"Yes\",$C$8=\"Yes\",E132<>\"\",G132>=2,I132>=36),Equipment!K131*0.0462)","v":false}]
[121,null,{"$f":"IF(Equipment!Q132=\"x\",Equipment!C132,\"\")","v":""},null,null,null,null,null,null,null,0,null,{"$f":"IF(AND($C$6=\"Yes\",$C$7=\"Yes\",$C$8=\"Yes\",E133<>\"\",G133>=2,I133>=36),Equipment!K132*102)","v":false},{"$f":"IF(AND($C$6=\"Yes\",$C$7=\"Yes\",$C$8=\"Yes\",E133<>\"\",G133>=2,I133>=36),Equipment!K132*0.0462)","v":false}]
[122,null,{"$f":"IF(Equipment!Q133=\"x\",Equipment!C133,\"\")","v":""},null,null,null,null,null,null,null,0,null,{"$f":"IF(AND($C$6=\"Yes\",$C$7=\"Yes\",$C$8=\"Yes\",E134<>\"\",G134>=2,I134>=36),Equipment!K133*102)","v":false},{"$f":"IF(AND($C$6=\"Yes\",$C$7=\"Yes\",$C$8=\"Yes\",E134<>\"\",G134>=2,I134>=36),Equipment!K133*0.0462)","v":false}]
[123,null,{"$f":"IF(Equipment!Q134=\"x\",Equipment!C134,\"\")","v":""},null,null,null,null,null,null,null,0,null,{"$f":"IF(AND($C$6=\"Yes\",$C$7=\"Yes\",$C$8=\"Yes\",E135<>\"\",G135>=2,I135>=36),Equipment!K134*102)","v":false},{"$f":"IF(AND($C$6=\"Yes\",$C$7=\"Yes\",$C$8=\"Yes\",E135<>\"\",G135>=2,I135>=36),Equipment!K134*0.0462)","v":false}]
[124,null,{"$f":"IF(Equipment!Q135=\"x\",Equipment!C135,\"\")","v":""},null,null,null,null,null,null,null,0,null,{"$f":"IF(AND($C$6=\"Yes\",$C$7=\"Yes\",$C$8=\"Yes\",E136<>\"\",G136>=2,I136>=36),Equipment!K135*102)","v":false},{"$f":"IF(AND($C$6=\"Yes\",$C$7=\"Yes\",$C$8=\"Yes\",E136<>\"\",G136>=2,I136>=36),Equipment!K135*0.0462)","v":false}]
[125,null,{"$f":"IF(Equipment!Q136=\"x\",Equipment!C136,\"\")","v":""},null,null,null,null,null,null,null,0,null,{"$f":"IF(AND($C$6=\"Yes\",$C$7=\"Yes\",$C$8=\"Yes\",E137<>\"\",G137>=2,I137>=36),Equipment!K136*102)","v":false},{"$f":"IF(AND($C$6=\"Yes\",$C$7=\"Yes\",$C$8=\"Yes\",E137<>\"\",G137>=2,I137>=36),Equipment!K136*0.0462)","v":false}]
[126,null,{"$f":"IF(Equipment!Q137=\"x\",Equipment!C137,\"\")","v":""},null,null,null,null,null,null,null,0,null,{"$f":"IF(AND($C$6=\"Yes\",$C$7=\"Yes\",$C$8=\"Yes\",E138<>\"\",G138>=2,I138>=36),Equipment!K137*102)","v":false},{"$f":"IF(AND($C$6=\"Yes\",$C$7=\"Yes\",$C$8=\"Yes\",E138<>\"\",G138>=2,I138>=36),Equipment!K137*0.0462)","v":false}]
[127,null,{"$f":"IF(Equipment!Q138=\"x\",Equipment!C138,\"\")","v":""},null,null,null,null,null,null,null,0,null,{"$f":"IF(AND($C$6=\"Yes\",$C$7=\"Yes\",$C$8=\"Yes\",E139<>\"\",G139>=2,I139>=36),Equipment!K138*102)","v":false},{"$f":"IF(AND($C$6=\"Yes\",$C$7=\"Yes\",$C$8=\"Yes\",E139<>\"\",G139>=2,I139>=36),Equipment!K138*0.0462)","v":false}]
[128,null,{"$f":"IF(Equipment!Q139=\"x\",Equipment!C139,\"\")","v":""},null,null,null,null,null,null,null,0,null,{"$f":"IF(AND($C$6=\"Yes\",$C$7=\"Yes\",$C$8=\"Yes\",E140<>\"\",G140>=2,I140>=36),Equipment!K139*102)","v":false},{"$f":"IF(AND($C$6=\"Yes\",$C$7=\"Yes\",$C$8=\"Yes\",E140<>\"\",G140>=2,I140>=36),Equipment!K139*0.0462)","v":false}]
[129,null,{"$f":"IF(Equipment!Q140=\"x\",Equipment!C140,\"\")","v":""},null,null,null,null,null,null,null,0,null,{"$f":"IF(AND($C$6=\"Yes\",$C$7=\"Yes\",$C$8=\"Yes\",E141<>\"\",G141>=2,I141>=36),Equipment!K140*102)","v":false},{"$f":"IF(AND($C$6=\"Yes\",$C$7=\"Yes\",$C$8=\"Yes\",E141<>\"\",G141>=2,I141>=36),Equipment!K140*0.0462)","v":false}]
[130,null,{"$f":"IF(Equipment!Q141=\"x\",Equipment!C141,\"\")","v":""},null,null,null,null,null,null,null,{"$f":"IF(AND($C$6=\"Yes\",$C$7=\"Yes\",$C$8=\"Yes\",G142>=2,I142>=36),MIN(E142*0.7,75),0)","v":0},null,{"$f":"IF(AND($C$6=\"Yes\",$C$7=\"Yes\",$C$8=\"Yes\",E142<>\"\",G142>=2,I142>=36),Equipment!K141*102)","v":false},{"$f":"IF(AND($C$6=\"Yes\",$C$7=\"Yes\",$C$8=\"Yes\",E142<>\"\",G142>=2,I142>=36),Equipment!K141*0.0462)","v":false}]
[131,null,{"$f":"IF(Equipment!Q142=\"x\",Equipment!C142,\"\")","v":""},null,null,null,null,null,null,null,0,null,{"$f":"IF(AND($C$6=\"Yes\",$C$7=\"Yes\",$C$8=\"Yes\",E143<>\"\",G143>=2,I143>=36),Equipment!K142*102)","v":false},{"$f":"IF(AND($C$6=\"Yes\",$C$7=\"Yes\",$C$8=\"Yes\",E143<>\"\",G143>=2,I143>=36),Equipment!K142*0.0462)","v":false}]
[132,null,{"$f":"IF(Equipment!Q143=\"x\",Equipment!C143,\"\")","v":""},null,null,null,null,null,null,null,0,null,{"$f":"IF(AND($C$6=\"Yes\",$C$7=\"Yes\",$C$8=\"Yes\",E144<>\"\",G144>=2,I144>=36),Equipment!K143*102)","v":false},{"$f":"IF(AND($C$6=\"Yes\",$C$7=\"Yes\",$C$8=\"Yes\",E144<>\"\",G144>=2,I144>=36),Equipment!K143*0.0462)","v":false}]
[133,null,{"$f":"IF(Equipment!Q144=\"x\",Equipment!C144,\"\")","v":""},null,null,null,null,null,null,null,0,null,{"$f":"IF(AND($C$6=\"Yes\",$C$7=\"Yes\",$C$8=\"Yes\",E145<>\"\",G145>=2,I145>=36),Equipment!K144*102)","v":false},{"$f":"IF(AND($C$6=\"Yes\",$C$7=\"Yes\",$C$8=\"Yes\",E145<>\"\",G145>=2,I145>=36),Equipment!K144*0.0462)","v":false}]
[134,null,{"$f":"IF(Equipment!Q145=\"x\",Equipment!C145,\"\")","v":""},null,null,null,null,null,null,null,0,null,{"$f":"IF(AND($C$6=\"Yes\",$C$7=\"Yes\",$C$8=\"Yes\",E146<>\"\",G146>=2,I146>=36),Equipment!K145*102)","v":false},{"$f":"IF(AND($C$6=\"Yes\",$C$7=\"Yes\",$C$8=\"Yes\",E146<>\"\",G146>=2,I146>=36),Equipment!K145*0.0462)","v":false}]
[135,null,{"$f":"IF(Equipment!Q146=\"x\",Equipment!C146,\"\")","v":""},null,null,null,null,null,null,null,0,null,{"$f":"IF(AND($C$6=\"Yes\",$C$7=\"Yes\",$C$8=\"Yes\",E147<>\"\",G147>=2,I147>=36),Equipment!K146*102)","v":false},{"$f":"IF(AND($C$6=\"Yes\",$C$7=\"Yes\",$C$8=\"Yes\",E147<>\"\",G147>=2,I147>=36),Equipment!K146*0.0462)","v":false}]
[136,null,{"$f":"IF(Equipment!Q147=\"x\",Equipment!C147,\"\")","v":""},null,null,null,null,null,null,null,0,null,{"$f":"IF(AND($C$6=\"Yes\",$C$7=\"Yes\",$C$8=\"Yes\",E148<>\"\",G148>=2,I148>=36),Equipment!K147*102)","v":false},{"$f":"IF(AND($C$6=\"Yes\",$C$7=\"Yes\",$C$8=\"Yes\",E148<>\"\",G148>=2,I148>=36),Equipment!K147*0.0462)","v":false}]
[137,null,{"$f":"IF(Equipment!Q148=\"x\",Equipment!C148,\"\")","v":""},null,null,null,null,null,null,null,0,null,{"$f":"IF(AND($C$6=\"Yes\",$C$7=\"Yes\",$C$8=\"Yes\",E149<>\"\",G149>=2,I149>=36),Equipment!K148*102)","v":false},{"$f":"IF(AND($C$6=\"Yes\",$C$7=\"Yes\",$C$8=\"Yes\",E149<>\"\",G149>=2,I149>=36),Equipment!K148*0.0462)","v":false}]
[138,null,{"$f":"IF(Equipment!Q149=\"x\",Equipment!C149,\"\")","v":""},null,null,null,null,null,null,null,0,null,{"$f":"IF(AND($C$6=\"Yes\",$C$7=\"Yes\",$C$8=\"Yes\",E150<>\"\",G150>=2,I150>=36),Equipment!K149*102)","v":false},{"$f":"IF(AND($C$6=\"Yes\",$C$7=\"Yes\",$C$8=\"Yes\",E150<>\"\",G150>=2,I150>=36),Equipment!K149*0.0462)","v":false}]
[139,null,{"$f":"IF(Equipment!Q150=\"x\",Equipment!C150,\"\")","v":""},null,null,null,null,null,null,null,0,null,{"$f":"IF(AND($C$6=\"Yes\",$C$7=\"Yes\",$C$8=\"Yes\",E151<>\"\",G151>=2,I151>=36),Equipment!K150*102)","v":false},{"$f":"IF(AND($C$6=\"Yes\",$C$7=\"Yes\",$C$8=\"Yes\",E151<>\"\",G151>=2,I151>=36),Equipment!K150*0.0462)","v":false}]
[140,null,{"$f":"IF(Equipment!Q151=\"x\",Equipment!C151,\"\")","v":""},null,null,null,null,null,null,null,0,null,{"$f":"IF(AND($C$6=\"Yes\",$C$7=\"Yes\",$C$8=\"Yes\",E152<>\"\",G152>=2,I152>=36),Equipment!K151*102)","v":false},{"$f":"IF(AND($C$6=\"Yes\",$C$7=\"Yes\",$C$8=\"Yes\",E152<>\"\",G152>=2,I152>=36),Equipment!K151*0.0462)","v":false}]
[141,null,{"$f":"IF(Equipment!Q152=\"x\",Equipment!C152,\"\")","v":""},null,null,null,null,null,null,null,0,null,{"$f":"IF(AND($C$6=\"Yes\",$C$7=\"Yes\",$C$8=\"Yes\",E153<>\"\",G153>=2,I153>=36),Equipment!K152*102)","v":false},{"$f":"IF(AND($C$6=\"Yes\",$C$7=\"Yes\",$C$8=\"Yes\",E153<>\"\",G153>=2,I153>=36),Equipment!K152*0.0462)","v":false}]
[142,null,{"$f":"IF(Equipment!Q153=\"x\",Equipment!C153,\"\")","v":""},null,null,null,null,null,null,null,0,null,{"$f":"IF(AND($C$6=\"Yes\",$C$7=\"Yes\",$C$8=\"Yes\",E154<>\"\",G154>=2,I154>=36),Equipment!K153*102)","v":false},{"$f":"IF(AND($C$6=\"Yes\",$C$7=\"Yes\",$C$8=\"Yes\",E154<>\"\",G154>=2,I154>=36),Equipment!K153*0.0462)","v":false}]
[143,null,{"$f":"IF(Equipment!Q154=\"x\",Equipment!C154,\"\")","v":""},null,null,null,null,null,null,null,0,null,{"$f":"IF(AND($C$6=\"Yes\",$C$7=\"Yes\",$C$8=\"Yes\",E155<>\"\",G155>=2,I155>=36),Equipment!K154*102)","v":false},{"$f":"IF(AND($C$6=\"Yes\",$C$7=\"Yes\",$C$8=\"Yes\",E155<>\"\",G155>=2,I155>=36),Equipment!K154*0.0462)","v":false}]
[144,null,{"$f":"IF(Equipment!Q155=\"x\",Equipment!C155,\"\")","v":""},null,null,null,null,null,null,null,0,null,{"$f":"IF(AND($C$6=\"Yes\",$C$7=\"Yes\",$C$8=\"Yes\",E156<>\"\",G156>=2,I156>=36),Equipment!K155*102)","v":false},{"$f":"IF(AND($C$6=\"Yes\",$C$7=\"Yes\",$C$8=\"Yes\",E156<>\"\",G156>=2,I156>=36),Equipment!K155*0.0462)","v":false}]
[145,null,{"$f":"IF(Equipment!Q156=\"x\",Equipment!C156,\"\")","v":""},null,null,null,null,null,null,null,0,null,{"$f":"IF(AND($C$6=\"Yes\",$C$7=\"Yes\",$C$8=\"Yes\",E157<>\"\",G157>=2,I157>=36),Equipment!K156*102)","v":false},{"$f":"IF(AND($C$6=\"Yes\",$C$7=\"Yes\",$C$8=\"Yes\",E157<>\"\",G157>=2,I157>=36),Equipment!K156*0.0462)","v":false}]
[146,null,{"$f":"IF(Equipment!Q157=\"x\",Equipment!C157,\"\")","v":""},null,null,null,null,null,null,null,0,null,{"$f":"IF(AND($C$6=\"Yes\",$C$7=\"Yes\",$C$8=\"Yes\",E158<>\"\",G158>=2,I158>=36),Equipment!K157*102)","v":false},{"$f":"IF(AND($C$6=\"Yes\",$C$7=\"Yes\",$C$8=\"Yes\",E158<>\"\",G158>=2,I158>=36),Equipment!K157*0.0462)","v":false}]
[147,null,{"$f":"IF(Equipment!Q158=\"x\",Equipment!C158,\"\")","v":""},null,null,null,null,null,null,null,0,null,{"$f":"IF(AND($C$6=\"Yes\",$C$7=\"Yes\",$C$8=\"Yes\",E159<>\"\",G159>=2,I159>=36),Equipment!K158*102)","v":false},{"$f":"IF(AND($C$6=\"Yes\",$C$7=\"Yes\",$C$8=\"Yes\",E159<>\"\",G159>=2,I159>=36),Equipment!K158*0.0462)","v":false}]
[148,null,{"$f":"IF(Equipment!Q159=\"x\",Equipment!C159,\"\")","v":""},null,null,null,null,null,null,null,0,null,{"$f":"IF(AND($C$6=\"Yes\",$C$7=\"Yes\",$C$8=\"Yes\",E160<>\"\",G160>=2,I160>=36),Equipment!K159*102)","v":false},{"$f":"IF(AND($C$6=\"Yes\",$C$7=\"Yes\",$C$8=\"Yes\",E160<>\"\",G160>=2,I160>=36),Equipment!K159*0.0462)","v":false}]
[149,null,{"$f":"IF(Equipment!Q160=\"x\",Equipment!C160,\"\")","v":""},null,null,null,null,null,null,null,0,null,{"$f":"IF(AND($C$6=\"Yes\",$C$7=\"Yes\",$C$8=\"Yes\",E161<>\"\",G161>=2,I161>=36),Equipment!K160*102)","v":false},{"$f":"IF(AND($C$6=\"Yes\",$C$7=\"Yes\",$C$8=\"Yes\",E161<>\"\",G161>=2,I161>=36),Equipment!K160*0.0462)","v":false}]
[150,null,{"$f":"IF(Equipment!Q161=\"x\",Equipment!C161,\"\")","v":""},null,null,null,null,null,null,null,0,null,{"$f":"IF(AND($C$6=\"Yes\",$C$7=\"Yes\",$C$8=\"Yes\",E162<>\"\",G162>=2,I162>=36),Equipment!K161*102)","v":false},{"$f":"IF(AND($C$6=\"Yes\",$C$7=\"Yes\",$C$8=\"Yes\",E162<>\"\",G162>=2,I162>=36),Equipment!K161*0.0462)","v":false}]
[151,null,{"$f":"IF(Equipment!Q162=\"x\",Equipment!C162,\"\")","v":""},null,null,null,null,null,null,null,0,null,{"$f":"IF(AND($C$6=\"Yes\",$C$7=\"Yes\",$C$8=\"Yes\",E163<>\"\",G163>=2,I163>=36),Equipment!K162*102)","v":false},{"$f":"IF(AND($C$6=\"Yes\",$C$7=\"Yes\",$C$8=\"Yes\",E163<>\"\",G163>=2,I163>=36),Equipment!K162*0.0462)","v":false}]
[152,null,{"$f":"IF(Equipment!Q163=\"x\",Equipment!C163,\"\")","v":""},null,null,null,null,null,null,null,0,null,{"$f":"IF(AND($C$6=\"Yes\",$C$7=\"Yes\",$C$8=\"Yes\",E164<>\"\",G164>=2,I164>=36),Equipment!K163*102)","v":false},{"$f":"IF(AND($C$6=\"Yes\",$C$7=\"Yes\",$C$8=\"Yes\",E164<>\"\",G164>=2,I164>=36),Equipment!K163*0.0462)","v":false}]
[153,null,{"$f":"IF(Equipment!Q164=\"x\",Equipment!C164,\"\")","v":""},null,null,null,null,null,null,null,0,null,{"$f":"IF(AND($C$6=\"Yes\",$C$7=\"Yes\",$C$8=\"Yes\",E165<>\"\",G165>=2,I165>=36),Equipment!K164*102)","v":false},{"$f":"IF(AND($C$6=\"Yes\",$C$7=\"Yes\",$C$8=\"Yes\",E165<>\"\",G165>=2,I165>=36),Equipment!K164*0.0462)","v":false}]
[154,null,{"$f":"IF(Equipment!Q165=\"x\",Equipment!C165,\"\")","v":""},null,null,null,null,null,null,null,0,null,{"$f":"IF(AND($C$6=\"Yes\",$C$7=\"Yes\",$C$8=\"Yes\",E166<>\"\",G166>=2,I166>=36),Equipment!K165*102)","v":false},{"$f":"IF(AND($C$6=\"Yes\",$C$7=\"Yes\",$C$8=\"Yes\",E166<>\"\",G166>=2,I166>=36),Equipment!K165*0.0462)","v":false}]
[155,null,{"$f":"IF(Equipment!Q166=\"x\",Equipment!C166,\"\")","v":""},null,null,null,null,null,null,null,0,null,{"$f":"IF(AND($C$6=\"Yes\",$C$7=\"Yes\",$C$8=\"Yes\",E167<>\"\",G167>=2,I167>=36),Equipment!K166*102)","v":false},{"$f":"IF(AND($C$6=\"Yes\",$C$7=\"Yes\",$C$8=\"Yes\",E167<>\"\",G167>=2,I167>=36),Equipment!K166*0.0462)","v":false}]
[156,null,{"$f":"IF(Equipment!Q167=\"x\",Equipment!C167,\"\")","v":""},null,null,null,null,null,null,null,0,null,{"$f":"IF(AND($C$6=\"Yes\",$C$7=\"Yes\",$C$8=\"Yes\",E168<>\"\",G168>=2,I168>=36),Equipment!K167*102)","v":false},{"$f":"IF(AND($C$6=\"Yes\",$C$7=\"Yes\",$C$8=\"Yes\",E168<>\"\",G168>=2,I168>=36),Equipment!K167*0.0462)","v":false}]
[157,null,{"$f":"IF(Equipment!Q168=\"x\",Equipment!C168,\"\")","v":""},null,null,null,null,null,null,null,0,null,{"$f":"IF(AND($C$6=\"Yes\",$C$7=\"Yes\",$C$8=\"Yes\",E169<>\"\",G169>=2,I169>=36),Equipment!K168*102)","v":false},{"$f":"IF(AND($C$6=\"Yes\",$C$7=\"Yes\",$C$8=\"Yes\",E169<>\"\",G169>=2,I169>=36),Equipment!K168*0.0462)","v":false}]
[158,null,{"$f":"IF(Equipment!Q169=\"x\",Equipment!C169,\"\")","v":""},null,null,null,null,null,null,null,0,null,{"$f":"IF(AND($C$6=\"Yes\",$C$7=\"Yes\",$C$8=\"Yes\",E170<>\"\",G170>=2,I170>=36),Equipment!K169*102)","v":false},{"$f":"IF(AND($C$6=\"Yes\",$C$7=\"Yes\",$C$8=\"Yes\",E170<>\"\",G170>=2,I170>=36),Equipment!K169*0.0462)","v":false}]
[159,null,{"$f":"IF(Equipment!Q170=\"x\",Equipment!C170,\"\")","v":""},null,null,null,null,null,null,null,0,null,{"$f":"IF(AND($C$6=\"Yes\",$C$7=\"Yes\",$C$8=\"Yes\",E171<>\"\",G171>=2,I171>=36),Equipment!K170*102)","v":false},{"$f":"IF(AND($C$6=\"Yes\",$C$7=\"Yes\",$C$8=\"Yes\",E171<>\"\",G171>=2,I171>=36),Equipment!K170*0.0462)","v":false}]
[160,null,{"$f":"IF(Equipment!Q171=\"x\",Equipment!C171,\"\")","v":""},null,null,null,null,null,null,null,0,null,{"$f":"IF(AND($C$6=\"Yes\",$C$7=\"Yes\",$C$8=\"Yes\",E172<>\"\",G172>=2,I172>=36),Equipment!K171*102)","v":false},{"$f":"IF(AND($C$6=\"Yes\",$C$7=\"Yes\",$C$8=\"Yes\",E172<>\"\",G172>=2,I172>=36),Equipment!K171*0.0462)","v":false}]
[161,null,{"$f":"IF(Equipment!Q172=\"x\",Equipment!C172,\"\")","v":""},null,null,null,null,null,null,null,0,null,{"$f":"IF(AND($C$6=\"Yes\",$C$7=\"Yes\",$C$8=\"Yes\",E173<>\"\",G173>=2,I173>=36),Equipment!K172*102)","v":false},{"$f":"IF(AND($C$6=\"Yes\",$C$7=\"Yes\",$C$8=\"Yes\",E173<>\"\",G173>=2,I173>=36),Equipment!K172*0.0462)","v":false}]
[162,null,{"$f":"IF(Equipment!Q173=\"x\",Equipment!C173,\"\")","v":""},null,null,null,null,null,null,null,0,null,{"$f":"IF(AND($C$6=\"Yes\",$C$7=\"Yes\",$C$8=\"Yes\",E174<>\"\",G174>=2,I174>=36),Equipment!K173*102)","v":false},{"$f":"IF(AND($C$6=\"Yes\",$C$7=\"Yes\",$C$8=\"Yes\",E174<>\"\",G174>=2,I174>=36),Equipment!K173*0.0462)","v":false}]
[163,null,{"$f":"IF(Equipment!Q174=\"x\",Equipment!C174,\"\")","v":""},null,null,null,null,null,null,null,0,null,{"$f":"IF(AND($C$6=\"Yes\",$C$7=\"Yes\",$C$8=\"Yes\",E175<>\"\",G175>=2,I175>=36),Equipment!K174*102)","v":false},{"$f":"IF(AND($C$6=\"Yes\",$C$7=\"Yes\",$C$8=\"Yes\",E175<>\"\",G175>=2,I175>=36),Equipment!K174*0.0462)","v":false}]
[164,null,{"$f":"IF(Equipment!Q175=\"x\",Equipment!C175,\"\")","v":""},null,null,null,null,null,null,null,0,null,{"$f":"IF(AND($C$6=\"Yes\",$C$7=\"Yes\",$C$8=\"Yes\",E176<>\"\",G176>=2,I176>=36),Equipment!K175*102)","v":false},{"$f":"IF(AND($C$6=\"Yes\",$C$7=\"Yes\",$C$8=\"Yes\",E176<>\"\",G176>=2,I176>=36),Equipment!K175*0.0462)","v":false}]
[165,null,{"$f":"IF(Equipment!Q176=\"x\",Equipment!C176,\"\")","v":""},null,null,null,null,null,null,null,0,null,{"$f":"IF(AND($C$6=\"Yes\",$C$7=\"Yes\",$C$8=\"Yes\",E177<>\"\",G177>=2,I177>=36),Equipment!K176*102)","v":false},{"$f":"IF(AND($C$6=\"Yes\",$C$7=\"Yes\",$C$8=\"Yes\",E177<>\"\",G177>=2,I177>=36),Equipment!K176*0.0462)","v":false}]
[166,null,{"$f":"IF(Equipment!Q177=\"x\",Equipment!C177,\"\")","v":""},null,null,null,null,null,null,null,0,null,{"$f":"IF(AND($C$6=\"Yes\",$C$7=\"Yes\",$C$8=\"Yes\",E178<>\"\",G178>=2,I178>=36),Equipment!K177*102)","v":false},{"$f":"IF(AND($C$6=\"Yes\",$C$7=\"Yes\",$C$8=\"Yes\",E178<>\"\",G178>=2,I178>=36),Equipment!K177*0.0462)","v":false}]
[167,null,{"$f":"IF(Equipment!Q178=\"x\",Equipment!C178,\"\")","v":""},null,null,null,null,null,null,null,0,null,{"$f":"IF(AND($C$6=\"Yes\",$C$7=\"Yes\",$C$8=\"Yes\",E179<>\"\",G179>=2,I179>=36),Equipment!K178*102)","v":false},{"$f":"IF(AND($C$6=\"Yes\",$C$7=\"Yes\",$C$8=\"Yes\",E179<>\"\",G179>=2,I179>=36),Equipment!K178*0.0462)","v":false}]
[168,null,{"$f":"IF(Equipment!Q179=\"x\",Equipment!C179,\"\")","v":""},null,null,null,null,null,null,null,0,null,{"$f":"IF(AND($C$6=\"Yes\",$C$7=\"Yes\",$C$8=\"Yes\",E180<>\"\",G180>=2,I180>=36),Equipment!K179*102)","v":false},{"$f":"IF(AND($C$6=\"Yes\",$C$7=\"Yes\",$C$8=\"Yes\",E180<>\"\",G180>=2,I180>=36),Equipment!K179*0.0462)","v":false}]
[169,null,{"$f":"IF(Equipment!Q180=\"x\",Equipment!C180,\"\")","v":""},null,null,null,null,null,null,null,0,null,{"$f":"IF(AND($C$6=\"Yes\",$C$7=\"Yes\",$C$8=\"Yes\",E181<>\"\",G181>=2,I181>=36),Equipment!K180*102)","v":false},{"$f":"IF(AND($C$6=\"Yes\",$C$7=\"Yes\",$C$8=\"Yes\",E181<>\"\",G181>=2,I181>=36),Equipment!K180*0.0462)","v":false}]
[170,null,{"$f":"IF(Equipment!Q181=\"x\",Equipment!C181,\"\")","v":""},null,null,null,null,null,null,null,0,null,{"$f":"IF(AND($C$6=\"Yes\",$C$7=\"Yes\",$C$8=\"Yes\",E182<>\"\",G182>=2,I182>=36),Equipment!K181*102)","v":false},{"$f":"IF(AND($C$6=\"Yes\",$C$7=\"Yes\",$C$8=\"Yes\",E182<>\"\",G182>=2,I182>=36),Equipment!K181*0.0462)","v":false}]
[171,null,{"$f":"IF(Equipment!Q182=\"x\",Equipment!C182,\"\")","v":""},null,null,null,null,null,null,null,0,null,{"$f":"IF(AND($C$6=\"Yes\",$C$7=\"Yes\",$C$8=\"Yes\",E183<>\"\",G183>=2,I183>=36),Equipment!K182*102)","v":false},{"$f":"IF(AND($C$6=\"Yes\",$C$7=\"Yes\",$C$8=\"Yes\",E183<>\"\",G183>=2,I183>=36),Equipment!K182*0.0462)","v":false}]
[172,null,{"$f":"IF(Equipment!Q183=\"x\",Equipment!C183,\"\")","v":""},null,null,null,null,null,null,null,0,null,{"$f":"IF(AND($C$6=\"Yes\",$C$7=\"Yes\",$C$8=\"Yes\",E184<>\"\",G184>=2,I184>=36),Equipment!K183*102)","v":false},{"$f":"IF(AND($C$6=\"Yes\",$C$7=\"Yes\",$C$8=\"Yes\",E184<>\"\",G184>=2,I184>=36),Equipment!K183*0.0462)","v":false}]
[173,null,{"$f":"IF(Equipment!Q184=\"x\",Equipment!C184,\"\")","v":""},null,null,null,null,null,null,null,0,null,{"$f":"IF(AND($C$6=\"Yes\",$C$7=\"Yes\",$C$8=\"Yes\",E185<>\"\",G185>=2,I185>=36),Equipment!K184*102)","v":false},{"$f":"IF(AND($C$6=\"Yes\",$C$7=\"Yes\",$C$8=\"Yes\",E185<>\"\",G185>=2,I185>=36),Equipment!K184*0.0462)","v":false}]
[174,null,{"$f":"IF(Equipment!Q185=\"x\",Equipment!C185,\"\")","v":""},null,null,null,null,null,null,null,0,null,{"$f":"IF(AND($C$6=\"Yes\",$C$7=\"Yes\",$C$8=\"Yes\",E186<>\"\",G186>=2,I186>=36),Equipment!K185*102)","v":false},{"$f":"IF(AND($C$6=\"Yes\",$C$7=\"Yes\",$C$8=\"Yes\",E186<>\"\",G186>=2,I186>=36),Equipment!K185*0.0462)","v":false}]
[175,null,{"$f":"IF(Equipment!Q186=\"x\",Equipment!C186,\"\")","v":""},null,null,null,null,null,null,null,0,null,{"$f":"IF(AND($C$6=\"Yes\",$C$7=\"Yes\",$C$8=\"Yes\",E187<>\"\",G187>=2,I187>=36),Equipment!K186*102)","v":false},{"$f":"IF(AND($C$6=\"Yes\",$C$7=\"Yes\",$C$8=\"Yes\",E187<>\"\",G187>=2,I187>=36),Equipment!K186*0.0462)","v":false}]
[176,null,{"$f":"IF(Equipment!Q187=\"x\",Equipment!C187,\"\")","v":""},null,null,null,null,null,null,null,0,null,{"$f":"IF(AND($C$6=\"Yes\",$C$7=\"Yes\",$C$8=\"Yes\",E188<>\"\",G188>=2,I188>=36),Equipment!K187*102)","v":false},{"$f":"IF(AND($C$6=\"Yes\",$C$7=\"Yes\",$C$8=\"Yes\",E188<>\"\",G188>=2,I188>=36),Equipment!K187*0.0462)","v":false}]
[177,null,{"$f":"IF(Equipment!Q188=\"x\",Equipment!C188,\"\")","v":""},null,null,null,null,null,null,null,0,null,{"$f":"IF(AND($C$6=\"Yes\",$C$7=\"Yes\",$C$8=\"Yes\",E189<>\"\",G189>=2,I189>=36),Equipment!K188*102)","v":false},{"$f":"IF(AND($C$6=\"Yes\",$C$7=\"Yes\",$C$8=\"Yes\",E189<>\"\",G189>=2,I189>=36),Equipment!K188*0.0462)","v":false}]
[178,null,{"$f":"IF(Equipment!Q189=\"x\",Equipment!C189,\"\")","v":""},null,null,null,null,null,null,null,0,null,{"$f":"IF(AND($C$6=\"Yes\",$C$7=\"Yes\",$C$8=\"Yes\",E190<>\"\",G190>=2,I190>=36),Equipment!K189*102)","v":false},{"$f":"IF(AND($C$6=\"Yes\",$C$7=\"Yes\",$C$8=\"Yes\",E190<>\"\",G190>=2,I190>=36),Equipment!K189*0.0462)","v":false}]
[179,null,{"$f":"IF(Equipment!Q190=\"x\",Equipment!C190,\"\")","v":""},null,null,null,null,null,null,null,0,null,{"$f":"IF(AND($C$6=\"Yes\",$C$7=\"Yes\",$C$8=\"Yes\",E191<>\"\",G191>=2,I191>=36),Equipment!K190*102)","v":false},{"$f":"IF(AND($C$6=\"Yes\",$C$7=\"Yes\",$C$8=\"Yes\",E191<>\"\",G191>=2,I191>=36),Equipment!K190*0.0462)","v":false}]
[180,null,{"$f":"IF(Equipment!Q191=\"x\",Equipment!C191,\"\")","v":""},null,null,null,null,null,null,null,0,null,{"$f":"IF(AND($C$6=\"Yes\",$C$7=\"Yes\",$C$8=\"Yes\",E192<>\"\",G192>=2,I192>=36),Equipment!K191*102)","v":false},{"$f":"IF(AND($C$6=\"Yes\",$C$7=\"Yes\",$C$8=\"Yes\",E192<>\"\",G192>=2,I192>=36),Equipment!K191*0.0462)","v":false}]
[181,null,{"$f":"IF(Equipment!Q192=\"x\",Equipment!C192,\"\")","v":""},null,null,null,null,null,null,null,0,null,{"$f":"IF(AND($C$6=\"Yes\",$C$7=\"Yes\",$C$8=\"Yes\",E193<>\"\",G193>=2,I193>=36),Equipment!K192*102)","v":false},{"$f":"IF(AND($C$6=\"Yes\",$C$7=\"Yes\",$C$8=\"Yes\",E193<>\"\",G193>=2,I193>=36),Equipment!K192*0.0462)","v":false}]
[182,null,{"$f":"IF(Equipment!Q193=\"x\",Equipment!C193,\"\")","v":""},null,null,null,null,null,null,null,0,null,{"$f":"IF(AND($C$6=\"Yes\",$C$7=\"Yes\",$C$8=\"Yes\",E194<>\"\",G194>=2,I194>=36),Equipment!K193*102)","v":false},{"$f":"IF(AND($C$6=\"Yes\",$C$7=\"Yes\",$C$8=\"Yes\",E194<>\"\",G194>=2,I194>=36),Equipment!K193*0.0462)","v":false}]
[183,null,{"$f":"IF(Equipment!Q194=\"x\",Equipment!C194,\"\")","v":""},null,null,null,null,null,null,null,0,null,{"$f":"IF(AND($C$6=\"Yes\",$C$7=\"Yes\",$C$8=\"Yes\",E195<>\"\",G195>=2,I195>=36),Equipment!K194*102)","v":false},{"$f":"IF(AND($C$6=\"Yes\",$C$7=\"Yes\",$C$8=\"Yes\",E195<>\"\",G195>=2,I195>=36),Equipment!K194*0.0462)","v":false}]
[184,null,{"$f":"IF(Equipment!Q195=\"x\",Equipment!C195,\"\")","v":""},null,null,null,null,null,null,null,0,null,{"$f":"IF(AND($C$6=\"Yes\",$C$7=\"Yes\",$C$8=\"Yes\",E196<>\"\",G196>=2,I196>=36),Equipment!K195*102)","v":false},{"$f":"IF(AND($C$6=\"Yes\",$C$7=\"Yes\",$C$8=\"Yes\",E196<>\"\",G196>=2,I196>=36),Equipment!K195*0.0462)","v":false}]
[185,null,{"$f":"IF(Equipment!Q196=\"x\",Equipment!C196,\"\")","v":""},null,null,null,null,null,null,null,0,null,{"$f":"IF(AND($C$6=\"Yes\",$C$7=\"Yes\",$C$8=\"Yes\",E197<>\"\",G197>=2,I197>=36),Equipment!K196*102)","v":false},{"$f":"IF(AND($C$6=\"Yes\",$C$7=\"Yes\",$C$8=\"Yes\",E197<>\"\",G197>=2,I197>=36),Equipment!K196*0.0462)","v":false}]
[186,null,{"$f":"IF(Equipment!Q197=\"x\",Equipment!C197,\"\")","v":""},null,null,null,null,null,null,null,0,null,{"$f":"IF(AND($C$6=\"Yes\",$C$7=\"Yes\",$C$8=\"Yes\",E198<>\"\",G198>=2,I198>=36),Equipment!K197*102)","v":false},{"$f":"IF(AND($C$6=\"Yes\",$C$7=\"Yes\",$C$8=\"Yes\",E198<>\"\",G198>=2,I198>=36),Equipment!K197*0.0462)","v":false}]
[187,null,{"$f":"IF(Equipment!Q198=\"x\",Equipment!C198,\"\")","v":""},null,null,null,null,null,null,null,0,null,{"$f":"IF(AND($C$6=\"Yes\",$C$7=\"Yes\",$C$8=\"Yes\",E199<>\"\",G199>=2,I199>=36),Equipment!K198*102)","v":false},{"$f":"IF(AND($C$6=\"Yes\",$C$7=\"Yes\",$C$8=\"Yes\",E199<>\"\",G199>=2,I199>=36),Equipment!K198*0.0462)","v":false}]
[188,null,{"$f":"IF(Equipment!Q199=\"x\",Equipment!C199,\"\")","v":""},null,null,null,null,null,null,null,0,null,{"$f":"IF(AND($C$6=\"Yes\",$C$7=\"Yes\",$C$8=\"Yes\",E200<>\"\",G200>=2,I200>=36),Equipment!K199*102)","v":false},{"$f":"IF(AND($C$6=\"Yes\",$C$7=\"Yes\",$C$8=\"Yes\",E200<>\"\",G200>=2,I200>=36),Equipment!K199*0.0462)","v":false}]
[189,null,{"$f":"IF(Equipment!Q200=\"x\",Equipment!C200,\"\")","v":""},null,null,null,null,null,null,null,0,null,{"$f":"IF(AND($C$6=\"Yes\",$C$7=\"Yes\",$C$8=\"Yes\",E201<>\"\",G201>=2,I201>=36),Equipment!K200*102)","v":false},{"$f":"IF(AND($C$6=\"Yes\",$C$7=\"Yes\",$C$8=\"Yes\",E201<>\"\",G201>=2,I201>=36),Equipment!K200*0.0462)","v":false}]
[190,null,{"$f":"IF(Equipment!Q201=\"x\",Equipment!C201,\"\")","v":""},null,null,null,null,null,null,null,0,null,{"$f":"IF(AND($C$6=\"Yes\",$C$7=\"Yes\",$C$8=\"Yes\",E202<>\"\",G202>=2,I202>=36),Equipment!K201*102)","v":false},{"$f":"IF(AND($C$6=\"Yes\",$C$7=\"Yes\",$C$8=\"Yes\",E202<>\"\",G202>=2,I202>=36),Equipment!K201*0.0462)","v":false}]
[191,null,{"$f":"IF(Equipment!Q202=\"x\",Equipment!C202,\"\")","v":""},null,null,null,null,null,null,null,0,null,{"$f":"IF(AND($C$6=\"Yes\",$C$7=\"Yes\",$C$8=\"Yes\",E203<>\"\",G203>=2,I203>=36),Equipment!K202*102)","v":false},{"$f":"IF(AND($C$6=\"Yes\",$C$7=\"Yes\",$C$8=\"Yes\",E203<>\"\",G203>=2,I203>=36),Equipment!K202*0.0462)","v":false}]
[192,null,{"$f":"IF(Equipment!Q203=\"x\",Equipment!C203,\"\")","v":""},null,null,null,null,null,null,null,0,null,{"$f":"IF(AND($C$6=\"Yes\",$C$7=\"Yes\",$C$8=\"Yes\",E204<>\"\",G204>=2,I204>=36),Equipment!K203*102)","v":false},{"$f":"IF(AND($C$6=\"Yes\",$C$7=\"Yes\",$C$8=\"Yes\",E204<>\"\",G204>=2,I204>=36),Equipment!K203*0.0462)","v":false}]
[193,null,{"$f":"IF(Equipment!Q204=\"x\",Equipment!C204,\"\")","v":""},null,null,null,null,null,null,null,0,null,{"$f":"IF(AND($C$6=\"Yes\",$C$7=\"Yes\",$C$8=\"Yes\",E205<>\"\",G205>=2,I205>=36),Equipment!K204*102)","v":false},{"$f":"IF(AND($C$6=\"Yes\",$C$7=\"Yes\",$C$8=\"Yes\",E205<>\"\",G205>=2,I205>=36),Equipment!K204*0.0462)","v":false}]
[194,null,{"$f":"IF(Equipment!Q205=\"x\",Equipment!C205,\"\")","v":""},null,null,null,null,null,null,null,{"$f":"IF(AND($C$6=\"Yes\",$C$7=\"Yes\",$C$8=\"Yes\",G206>=2,I206>=36),MIN(E206*0.7,75),0)","v":0},null,{"$f":"IF(AND($C$6=\"Yes\",$C$7=\"Yes\",$C$8=\"Yes\",E206<>\"\",G206>=2,I206>=36),Equipment!K205*102)","v":false},{"$f":"IF(AND($C$6=\"Yes\",$C$7=\"Yes\",$C$8=\"Yes\",E206<>\"\",G206>=2,I206>=36),Equipment!K205*0.0462)","v":false}]
[195,null,{"$f":"IF(Equipment!Q206=\"x\",Equipment!C206,\"\")","v":""},null,null,null,null,null,null,null,0,null,{"$f":"IF(AND($C$6=\"Yes\",$C$7=\"Yes\",$C$8=\"Yes\",E207<>\"\",G207>=2,I207>=36),Equipment!K206*102)","v":false},{"$f":"IF(AND($C$6=\"Yes\",$C$7=\"Yes\",$C$8=\"Yes\",E207<>\"\",G207>=2,I207>=36),Equipment!K206*0.0462)","v":false}]
[196,null,{"$f":"IF(Equipment!Q207=\"x\",Equipment!C207,\"\")","v":""},null,null,null,null,null,null,null,0,null,{"$f":"IF(AND($C$6=\"Yes\",$C$7=\"Yes\",$C$8=\"Yes\",E208<>\"\",G208>=2,I208>=36),Equipment!K207*102)","v":false},{"$f":"IF(AND($C$6=\"Yes\",$C$7=\"Yes\",$C$8=\"Yes\",E208<>\"\",G208>=2,I208>=36),Equipment!K207*0.0462)","v":false}]
[197,null,{"$f":"IF(Equipment!Q208=\"x\",Equipment!C208,\"\")","v":""},null,null,null,null,null,null,null,0,null,{"$f":"IF(AND($C$6=\"Yes\",$C$7=\"Yes\",$C$8=\"Yes\",E209<>\"\",G209>=2,I209>=36),Equipment!K208*102)","v":false},{"$f":"IF(AND($C$6=\"Yes\",$C$7=\"Yes\",$C$8=\"Yes\",E209<>\"\",G209>=2,I209>=36),Equipment!K208*0.0462)","v":false}]
[198,null,{"$f":"IF(Equipment!Q209=\"x\",Equipment!C209,\"\")","v":""},null,null,null,null,null,null,null,0,null,{"$f":"IF(AND($C$6=\"Yes\",$C$7=\"Yes\",$C$8=\"Yes\",E210<>\"\",G210>=2,I210>=36),Equipment!K209*102)","v":false},{"$f":"IF(AND($C$6=\"Yes\",$C$7=\"Yes\",$C$8=\"Yes\",E210<>\"\",G210>=2,I210>=36),Equipment!K209*0.0462)","v":false}]
[199,null,{"$f":"IF(Equipment!Q210=\"x\",Equipment!C210,\"\")","v":""},null,null,null,null,null,null,null,0,null,{"$f":"IF(AND($C$6=\"Yes\",$C$7=\"Yes\",$C$8=\"Yes\",E211<>\"\",G211>=2,I211>=36),Equipment!K210*102)","v":false},{"$f":"IF(AND($C$6=\"Yes\",$C$7=\"Yes\",$C$8=\"Yes\",E211<>\"\",G211>=2,I211>=36),Equipment!K210*0.0462)","v":false}]
[200,null,{"$f":"IF(Equipment!Q211=\"x\",Equipment!C211,\"\")","v":""},null,null,null,null,null,null,null,0,null,{"$f":"IF(AND($C$6=\"Yes\",$C$7=\"Yes\",$C$8=\"Yes\",E212<>\"\",G212>=2,I212>=36),Equipment!K211*102)","v":false},{"$f":"IF(AND($C$6=\"Yes\",$C$7=\"Yes\",$C$8=\"Yes\",E212<>\"\",G212>=2,I212>=36),Equipment!K211*0.0462)","v":false}]

{"sheet":"PMAs (Chiller)","index":4,"n_rows":214,"n_cols":26,"rows_kept":214,"cut":false,"hidden":false,"merged":[[12,2,12,14],[13,2,13,3],[13,4,13,5],[13,11,13,12],[13,13,13,14],[13,15,13,16],[1,1,2,13],[3,25,4,28],[4,2,4,17],[5,3,5,17],[6,3,6,17],[7,25,11,28],[7,3,10,17],[16,2,16,3],[16,4,16,5],[16,11,16,12],[16,13,16,14],[16,15,16,16],[17,2,17,3],[17,4,17,5],[17,11,17,12],[17,13,17,14],[17,15,17,16],[14,2,14,3],[14,4,14,5],[14,11,14,12],[14,13,14,14],[14,15,14,16],[15,2,15,3],[15,4,15,5],[15,11,15,12],[15,13,15,14],[15,15,15,16],[20,2,20,3],[20,4,20,5],[20,11,20,12],[20,13,20,14],[20,15,20,16],[21,2,21,3],[21,4,21,5],[21,11,21,12],[21,13,21,14],[21,15,21,16],[18,2,18,3],[18,4,18,5],[18,11,18,12],[18,13,18,14],[18,15,18,16],[19,2,19,3],[19,4,19,5],[19,11,19,12],[19,13,19,14],[19,15,19,16],[26,2,26,3],[26,4,26,5],[26,11,26,12],[26,13,26,14],[26,15,26,16],[27,2,27,3],[27,4,27,5],[27,11,27,12],[27,13,27,14],[27,15,27,16],[24,2,24,3],[24,4,24,5],[24,11,24,12],[24,13,24,14],[24,15,24,16],[22,2,22,3],[22,4,22,5],[22,11,22,12],[22,13,22,14],[22,15,22,16],[23,2,23,3],[23,4,23,5],[23,11,23,12],[23,13,23,14],[23,15,23,16],[25,15,25,16],[25,13,25,14],[25,11,25,12],[25,4,25,5],[25,2,25,3],[30,2,30,3],[30,4,30,5],[30,11,30,12],[30,13,30,14],[30,15,30,16],[31,2,31,3],[31,4,31,5],[31,11,31,12],[31,13,31,14],[31,15,31,16],[28,2,28,3],[28,4,28,5],[28,11,28,12],[28,13,28,14],[28,15,28,16],[29,2,29,3],[29,4,29,5],[29,11,29,12],[29,13,29,14],[29,15,29,16],[34,2,34,3],[34,4,34,5],[34,11,34,12],[34,13,34,14],[34,15,34,16],[35,2,35,3],[35,4,35,5],[35,11,35,12],[35,13,35,14],[35,15,35,16],[32,2,32,3],[32,4,32,5],[32,11,32,12],[32,13,32,14],[32,15,32,16],[33,2,33,3],[33,4,33,5],[33,11,33,12],[33,13,33,14],[33,15,33,16],[38,2,38,3],[38,4,38,5],[38,11,38,12],[38,13,38,14],[38,15,38,16],[39,2,39,3],[39,4,39,5],[39,11,39,12],[39,13,39,14],[39,15,39,16],[36,2,36,3],[36,4,36,5],[36,11,36,12],[36,13,36,14],[36,15,36,16],[37,2,37,3],[37,4,37,5],[37,11,37,12],[37,13,37,14],[37,15,37,16],[42,2,42,3],[42,4,42,5],[42,11,42,12],[42,13,42,14],[42,15,42,16],[43,2,43,3],[43,4,43,5],[43,11,43,12],[43,13,43,14],[43,15,43,16],[40,2,40,3],[40,4,40,5],[40,11,40,12],[40,13,40,14],[40,15,40,16],[41,2,41,3],[41,4,41,5],[41,11,41,12],[41,13,41,14],[41,15,41,16],[46,2,46,3],[46,4,46,5],[46,11,46,12],[46,13,46,14],[46,15,46,16],[47,2,47,3],[47,4,47,5],[47,11,47,12],[47,13,47,14],[47,15,47,16],[44,2,44,3],[44,4,44,5],[44,11,44,12],[44,13,44,14],[44,15,44,16],[45,2,45,3],[45,4,45,5],[45,11,45,12],[45,13,45,14],[45,15,45,16],[50,2,50,3],[50,4,50,5],[50,11,50,12],[50,13,50,14],[50,15,50,16],[51,2,51,3],[51,4,51,5],[51,11,51,12],[51,13,51,14],[51,15,51,16],[48,2,48,3],[48,4,48,5],[48,11,48,12],[48,13,48,14],[48,15,48,16],[49,2,49,3],[49,4,49,5],[49,11,49,12],[49,13,49,14],[49,15,49,16],[54,2,54,3],[54,4,54,5],[54,11,54,12],[54,13,54,14],[54,15,54,16],[55,2,55,3],[55,4,55,5],[55,11,55,12],[55,13,55,14],[55,15,55,16],[52,2,52,3],[52,4,52,5],[52,11,52,12],[52,13,52,14],[52,15,52,16],[53,2,53,3],[53,4,53,5],[53,11,53,12],[53,13,53,14],[53,15,53,16],[58,2,58,3],[58,4,58,5],[58,11,58,12],[58,13,58,14],[58,15,58,16],[59,2,59,3],[59,4,59,5],[59,11,59,12],[59,13,59,14],[59,15,59,16],[56,2,56,3],[56,4,56,5],[56,11,56,12],[56,13,56,14],[56,15,56,16],[57,2,57,3],[57,4,57,5],[57,11,57,12],[57,13,57,14],[57,15,57,16],[62,2,62,3],[62,4,62,5],[62,11,62,12],[62,13,62,14],[62,15,62,16],[63,2,63,3],[63,4,63,5],[63,11,63,12],[63,13,63,14],[63,15,63,16],[60,2,60,3],[60,4,60,5],[60,11,60,12],[60,13,60,14],[60,15,60,16],[61,2,61,3],[61,4,61,5],[61,11,61,12],[61,13,61,14],[61,15,61,16],[66,2,66,3],[66,4,66,5],[66,11,66,12],[66,13,66,14],[66,15,66,16],[67,2,67,3],[67,4,67,5],[67,11,67,12],[67,13,67,14],[67,15,67,16],[64,2,64,3],[64,4,64,5],[64,11,64,12],[64,13,64,14],[64,15,64,16],[65,2,65,3],[65,4,65,5],[65,11,65,12],[65,13,65,14],[65,15,65,16],[70,2,70,3],[70,4,70,5],[70,11,70,12],[70,13,70,14],[70,15,70,16],[71,2,71,3],[71,4,71,5],[71,11,71,12],[71,13,71,14],[71,15,71,16],[68,2,68,3],[68,4,68,5],[68,11,68,12],[68,13,68,14],[68,15,68,16],[69,2,69,3],[69,4,69,5],[69,11,69,12],[69,13,69,14],[69,15,69,16],[74,2,74,3],[74,4,74,5],[74,11,74,12],[74,13,74,14],[74,15,74,16],[75,2,75,3],[75,4,75,5],[75,11,75,12],[75,13,75,14],[75,15,75,16],[72,2,72,3],[72,4,72,5],[72,11,72,12],[72,13,72,14],[72,15,72,16],[73,2,73,3],[73,4,73,5],[73,11,73,12],[73,13,73,14],[73,15,73,16],[78,2,78,3],[78,4,78,5],[78,11,78,12],[78,13,78,14],[78,15,78,16],[79,2,79,3],[79,4,79,5],[79,11,79,12],[79,13,79,14],[79,15,79,16],[76,2,76,3],[76,4,76,5],[76,11,76,12],[76,13,76,14],[76,15,76,16],[77,2,77,3],[77,4,77,5],[77,11,77,12],[77,13,77,14],[77,15,77,16],[82,2,82,3],[82,4,82,5],[82,11,82,12],[82,13,82,14],[82,15,82,16],[83,2,83,3],[83,4,83,5],[83,11,83,12],[83,13,83,14],[83,15,83,16],[80,2,80,3],[80,4,80,5],[80,11,80,12],[80,13,80,14],[80,15,80,16],[81,2,81,3],[81,4,81,5],[81,11,81,12],[81,13,81,14],[81,15,81,16],[86,2,86,3],[86,4,86,5],[86,11,86,12],[86,13,86,14],[86,15,86,16],[87,2,87,3],[87,4,87,5],[87,11,87,12],[87,13,87,14],[87,15,87,16],[84,2,84,3],[84,4,84,5],[84,11,84,12],[84,13,84,14],[84,15,84,16],[85,2,85,3],[85,4,85,5],[85,11,85,12],[85,13,85,14],[85,15,85,16],[90,2,90,3],[90,4,90,5],[90,11,90,12],[90,13,90,14],[90,15,90,16],[91,2,91,3],[91,4,91,5],[91,11,91,12],[91,13,91,14],[91,15,91,16],[88,2,88,3],[88,4,88,5],[88,11,88,12],[88,13,88,14],[88,15,88,16],[89,2,89,3],[89,4,89,5],[89,11,89,12],[89,13,89,14],[89,15,89,16],[94,2,94,3],[94,4,94,5],[94,11,94,12],[94,13,94,14],[94,15,94,16],[95,2,95,3],[95,4,95,5],[95,11,95,12],[95,13,95,14],[95,15,95,16],[92,2,92,3],[92,4,92,5],[92,11,92,12],[92,13,92,14],[92,15,92,16],[93,2,93,3],[93,4,93,5],[93,11,93,12],[93,13,93,14],[93,15,93,16],[98,2,98,3],[98,4,98,5],[98,11,98,12],[98,13,98,14],[98,15,98,16],[99,2,99,3],[99,4,99,5],[99,11,99,12],[99,13,99,14],[99,15,99,16],[96,2,96,3],[96,4,96,5],[96,11,96,12],[96,13,96,14],[96,15,96,16],[97,2,97,3],[97,4,97,5],[97,11,97,12],[97,13,97,14],[97,15,97,16],[102,2,102,3],[102,4,102,5],[102,11,102,12],[102,13,102,14],[102,15,102,16],[103,2,103,3],[103,4,103,5],[103,11,103,12],[103,13,103,14],[103,15,103,16],[100,2,100,3],[100,4,100,5],[100,11,100,12],[100,13,100,14],[100,15,100,16],[101,2,101,3],[101,4,101,5],[101,11,101,12],[101,13,101,14],[101,15,101,16],[106,2,106,3],[106,4,106,5],[106,11,106,12],[106,13,106,14],[106,15,106,16],[107,2,107,3],[107,4,107,5],[107,11,107,12],[107,13,107,14],[107,15,107,16],[104,2,104,3],[104,4,104,5],[104,11,104,12],[104,13,104,14],[104,15,104,16],[105,2,105,3],[105,4,105,5],[105,11,105,12],[105,13,105,14],[105,15,105,16],[110,2,110,3],[110,4,110,5],[110,11,110,12],[110,13,110,14],[110,15,110,16],[111,2,111,3],[111,4,111,5],[111,11,111,12],[111,13,111,14],[111,15,111,16],[108,2,108,3],[108,4,108,5],[108,11,108,12],[108,13,108,14],[108,15,108,16],[109,2,109,3],[109,4,109,5],[109,11,109,12],[109,13,109,14],[109,15,109,16],[114,2,114,3],[114,4,114,5],[114,11,114,12],[114,13,114,14],[114,15,114,16],[115,2,115,3],[115,4,115,5],[115,11,115,12],[115,13,115,14],[115,15,115,16],[112,2,112,3],[112,4,112,5],[112,11,112,12],[112,13,112,14],[112,15,112,16],[113,2,113,3],[113,4,113,5],[113,11,113,12],[113,13,113,14],[113,15,113,16],[118,2,118,3],[118,4,118,5],[118,11,118,12],[118,13,118,14],[118,15,118,16],[119,2,119,3],[119,4,119,5],[119,11,119,12],[119,13,119,14],[119,15,119,16],[116,2,116,3],[116,4,116,5],[116,11,116,12],[116,13,116,14],[116,15,116,16],[117,2,117,3],[117,4,117,5],[117,11,117,12],[117,13,117,14],[117,15,117,16],[122,2,122,3],[122,4,122,5],[122,11,122,12],[122,13,122,14],[122,15,122,16],[123,2,123,3],[123,4,123,5],[123,11,123,12],[123,13,123,14],[123,15,123,16],[120,2,120,3],[120,4,120,5],[120,11,120,12],[120,13,120,14],[120,15,120,16],[121,2,121,3],[121,4,121,5],[121,11,121,12],[121,13,121,14],[121,15,121,16],[126,2,126,3],[126,4,126,5],[126,11,126,12],[126,13,126,14],[126,15,126,16],[127,2,127,3],[127,4,127,5],[127,11,127,12],[127,13,127,14],[127,15,127,16],[124,2,124,3],[124,4,124,5],[124,11,124,12],[124,13,124,14],[124,15,124,16],[125,2,125,3],[125,4,125,5],[125,11,125,12],[125,13,125,14],[125,15,125,16],[130,2,130,3],[130,4,130,5],[130,11,130,12],[130,13,130,14],[130,15,130,16],[131,2,131,3],[131,4,131,5],[131,11,131,12],[131,13,131,14],[131,15,131,16],[128,2,128,3],[128,4,128,5],[128,11,128,12],[128,13,128,14],[128,15,128,16],[129,2,129,3],[129,4,129,5],[129,11,129,12],[129,13,129,14],[129,15,129,16],[134,2,134,3],[134,4,134,5],[134,11,134,12],[134,13,134,14],[134,15,134,16],[135,2,135,3],[135,4,135,5],[135,11,135,12],[135,13,135,14],[135,15,135,16],[132,2,132,3],[132,4,132,5],[132,11,132,12],[132,13,132,14],[132,15,132,16],[133,2,133,3],[133,4,133,5],[133,11,133,12],[133,13,133,14],[133,15,133,16],[138,2,138,3],[138,4,138,5],[138,11,138,12],[138,13,138,14],[138,15,138,16],[139,2,139,3],[139,4,139,5],[139,11,139,12],[139,13,139,14],[139,15,139,16],[136,2,136,3],[136,4,136,5],[136,11,136,12],[136,13,136,14],[136,15,136,16],[137,2,137,3],[137,4,137,5],[137,11,137,12],[137,13,137,14],[137,15,137,16],[142,2,142,3],[142,4,142,5],[142,11,142,12],[142,13,142,14],[142,15,142,16],[143,2,143,3],[143,4,143,5],[143,11,143,12],[143,13,143,14],[143,15,143,16],[140,2,140,3],[140,4,140,5],[140,11,140,12],[140,13,140,14],[140,15,140,16],[141,2,141,3],[141,4,141,5],[141,11,141,12],[141,13,141,14],[141,15,141,16],[146,2,146,3],[146,4,146,5],[146,11,146,12],[146,13,146,14],[146,15,146,16],[147,2,147,3],[147,4,147,5],[147,11,147,12],[147,13,147,14],[147,15,147,16],[144,2,144,3],[144,4,144,5],[144,11,144,12],[144,13,144,14],[144,15,144,16],[145,2,145,3],[145,4,145,5],[145,11,145,12],[145,13,145,14],[145,15,145,16],[150,2,150,3],[150,4,150,5],[150,11,150,12],[150,13,150,14],[150,15,150,16],[151,2,151,3],[151,4,151,5],[151,11,151,12],[151,13,151,14],[151,15,151,16],[148,2,148,3],[148,4,148,5],[148,11,148,12],[148,13,148,14],[148,15,148,16],[149,2,149,3],[149,4,149,5],[149,11,149,12],[149,13,149,14],[149,15,149,16],[154,2,154,3],[154,4,154,5],[154,11,154,12],[154,13,154,14],[154,15,154,16],[155,2,155,3],[155,4,155,5],[155,11,155,12],[155,13,155,14],[155,15,155,16],[152,2,152,3],[152,4,152,5],[152,11,152,12],[152,13,152,14],[152,15,152,16],[153,2,153,3],[153,4,153,5],[153,11,153,12],[153,13,153,14],[153,15,153,16],[158,2,158,3],[158,4,158,5],[158,11,158,12],[158,13,158,14],[158,15,158,16],[159,2,159,3],[159,4,159,5],[159,11,159,12],[159,13,159,14],[159,15,159,16],[156,2,156,3],[156,4,156,5],[156,11,156,12],[156,13,156,14],[156,15,156,16],[157,2,157,3],[157,4,157,5],[157,11,157,12],[157,13,157,14],[157,15,157,16],[162,2,162,3],[162,4,162,5],[162,11,162,12],[162,13,162,14],[162,15,162,16],[163,2,163,3],[163,4,163,5],[163,11,163,12],[163,13,163,14],[163,15,163,16],[160,2,160,3],[160,4,160,5],[160,11,160,12],[160,13,160,14],[160,15,160,16],[161,2,161,3],[161,4,161,5],[161,11,161,12],[161,13,161,14],[161,15,161,16],[166,2,166,3],[166,4,166,5],[166,11,166,12],[166,13,166,14],[166,15,166,16],[167,2,167,3],[167,4,167,5],[167,11,167,12],[167,13,167,14],[167,15,167,16],[164,2,164,3],[164,4,164,5],[164,11,164,12],[164,13,164,14],[164,15,164,16],[165,2,165,3],[165,4,165,5],[165,11,165,12],[165,13,165,14],[165,15,165,16],[170,2,170,3],[170,4,170,5],[170,11,170,12],[170,13,170,14],[170,15,170,16],[171,2,171,3],[171,4,171,5],[171,11,171,12],[171,13,171,14],[171,15,171,16],[168,2,168,3],[168,4,168,5],[168,11,168,12],[168,13,168,14],[168,15,168,16],[169,2,169,3],[169,4,169,5],[169,11,169,12],[169,13,169,14],[169,15,169,16],[174,2,174,3],[174,4,174,5],[174,11,174,12],[174,13,174,14],[174,15,174,16],[175,2,175,3],[175,4,175,5],[175,11,175,12],[175,13,175,14],[175,15,175,16],[172,2,172,3],[172,4,172,5],[172,11,172,12],[172,13,172,14],[172,15,172,16],[173,2,173,3],[173,4,173,5],[173,11,173,12],[173,13,173,14],[173,15,173,16],[178,2,178,3],[178,4,178,5],[178,11,178,12],[178,13,178,14],[178,15,178,16],[179,2,179,3],[179,4,179,5],[179,11,179,12],[179,13,179,14],[179,15,179,16],[176,2,176,3],[176,4,176,5],[176,11,176,12],[176,13,176,14],[176,15,176,16],[177,2,177,3],[177,4,177,5],[177,11,177,12],[177,13,177,14],[177,15,177,16],[182,2,182,3],[182,4,182,5],[182,11,182,12],[182,13,182,14],[182,15,182,16],[183,2,183,3],[183,4,183,5],[183,11,183,12],[183,13,183,14],[183,15,183,16],[180,2,180,3],[180,4,180,5],[180,11,180,12],[180,13,180,14],[180,15,180,16],[181,2,181,3],[181,4,181,5],[181,11,181,12],[181,13,181,14],[181,15,181,16],[186,2,186,3],[186,4,186,5],[186,11,186,12],[186,13,186,14],[186,15,186,16],[187,2,187,3],[187,4,187,5],[187,11,187,12],[187,13,187,14],[187,15,187,16],[184,2,184,3],[184,4,184,5],[184,11,184,12],[184,13,184,14],[184,15,184,16],[185,2,185,3],[185,4,185,5],[185,11,185,12],[185,13,185,14],[185,15,185,16],[190,2,190,3],[190,4,190,5],[190,11,190,12],[190,13,190,14],[190,15,190,16],[191,2,191,3],[191,4,191,5],[191,11,191,12],[191,13,191,14],[191,15,191,16],[188,2,188,3],[188,4,188,5],[188,11,188,12],[188,13,188,14],[188,15,188,16],[189,2,189,3],[189,4,189,5],[189,11,189,12],[189,13,189,14],[189,15,189,16],[194,2,194,3],[194,4,194,5],[194,11,194,12],[194,13,194,14],[194,15,194,16],[195,2,195,3],[195,4,195,5],[195,11,195,12],[195,13,195,14],[195,15,195,16],[192,2,192,3],[192,4,192,5],[192,11,192,12],[192,13,192,14],[192,15,192,16],[193,2,193,3],[193,4,193,5],[193,11,193,12],[193,13,193,14],[193,15,193,16],[198,2,198,3],[198,4,198,5],[198,11,198,12],[198,13,198,14],[198,15,198,16],[199,2,199,3],[199,4,199,5],[199,11,199,12],[199,13,199,14],[199,15,199,16],[196,2,196,3],[196,4,196,5],[196,11,196,12],[196,13,196,14],[196,15,196,16],[197,2,197,3],[197,4,197,5],[197,11,197,12],[197,13,197,14],[197,15,197,16],[202,2,202,3],[202,4,202,5],[202,11,202,12],[202,13,202,14],[202,15,202,16],[203,2,203,3],[203,4,203,5],[203,11,203,12],[203,13,203,14],[203,15,203,16],[200,2,200,3],[200,4,200,5],[200,11,200,12],[200,13,200,14],[200,15,200,16],[201,2,201,3],[201,4,201,5],[201,11,201,12],[201,13,201,14],[201,15,201,16],[209,11,209,12],[209,13,209,14],[209,15,209,16],[206,2,206,3],[206,4,206,5],[206,11,206,12],[206,13,206,14],[206,15,206,16],[207,2,207,3],[207,4,207,5],[207,11,207,12],[207,13,207,14],[207,15,207,16],[204,2,204,3],[204,4,204,5],[204,11,204,12],[204,13,204,14],[204,15,204,16],[205,2,205,3],[205,4,205,5],[205,11,205,12],[205,13,205,14],[205,15,205,16],[208,2,208,3],[208,4,208,5],[208,11,208,12],[208,13,208,14],[208,15,208,16],[209,2,209,3],[209,4,209,5],[212,2,212,3],[212,4,212,5],[212,11,212,12],[212,13,212,14],[212,15,212,16],[213,2,213,3],[213,4,213,5]],"merged_total":1013,"flags":["merged_cut"]}
[]
[null,"Maintenance Agreements (Chillers**)",null,null,null,null,null,null,null,null,null,null,null,null,null,null,null,"Total kWh/yr Savings",{"$f":"SUM(R15:R214)","v":0},null,"Incentive",{"$f":"SUM(P15:Q214)","v":0}]
[null,null,null,null,null,null,null,null,null,null,null,null,null,null,"Customer Costs",{"$f":"SUM(E15:F214)","v":0},null,"Total kW Savings",{"$f":"SUM(S15:S214)","v":0},null,"Electric Cost Savings/YR",{"$f":"IFERROR(S2*INDEX(kWhRates,MATCH(RateSchedule,RateSchedules,0))+S3*12*INDEX(kWRates,MATCH(RateSchedule,RateSchedules,0)),0)","v":0},null,null,null,"Instructions"]
[null,null,null,null,null,null,null,null,null,null,null,null,null,null,null,null,null,null,null,null,null,null,null,null,null,"Complete the yellow cells for each applicable chiller"]
[null,null,"Confirm the following:"]
[null,null,null,"1. Maintenance agreement duration is at least 3 years"]
[null,null,null,"2. No customer agreement is currently in place.",null,null,null,null,null,null,null,null,null,null,null,null,null,null,null,null,null,null,null,null,null,"**Note"]
[null,null,null,"3. Maintenance agreement: \nAir Cooled -- includes annual coil cleaning; compressor oil acid test; refrigerant leak test; electrical component inspection/test\nWater Cooled -- includes annual coil cleaning per year; cooling tower cleaning/descaling; compressor oil acid test; refrigerant leak test; electrical component inspection/test",null,null,null,null,null,null,null,null,null,null,null,null,null,null,null,null,null,null,null,null,null,"• All fields must be completed to calculate the savings & incentives\n• Minimum of two customer vists per year"]
[]
[]
[]
[]
[null,null,"Maintenance Agreement Details:"]
[null,null,"Rooftop Unit Label (from equipment tab)",null,"Customer Cost",null,"Tons","Compressor Type","Heat Rejection","VFD Installed","VFD HP","**PMA visits per year\n(Minimum 2 visits)",null,"PMA Duration (months)",null,"Estimated Incentive",null,"kWh savings","kW savings","IPLV","FLV","Tons",null,null,null,"attributes to add"]
[1,null,{"$f":"IF(Equipment!Q12=\"x\",Equipment!C12,\"\")","v":""},null,null,null,null,null,null,null,null,null,null,null,null,{"$f":"IF(AND($C$6=\"Yes\",$C$7=\"Yes\",$C$8=\"Yes\",L15>=2,N15>=36),MIN(G15*5),0)","v":0},null,{"$f":"IF(AND($C$6=\"Yes\",$C$7=\"Yes\",$C$8=\"Yes\",E15<>\"\",L15>=2,N15>=36),Equipment!K12*T15*ChillerESF*INDEX(BuildingTypes[EFLH],MATCH(BuildingType,BuildingTypes[Building Type],0)))","v":false},{"$f":"IF(AND($C$6=\"Yes\",$C$7=\"Yes\",$C$8=\"Yes\",E15<>\"\",L15>=2,N15>=36),Equipment!K12*U15*ChillerDSF*ChillerCF)","v":false},{"$f":"IF(G15=\"\",\"\",\nINDEX(ChillerEfficiencies[IPLV (kW/ton)],MATCH(1,\n(H15=ChillerEfficiencies[Compressor Type])*\n(I15=ChillerEfficiencies[Heat Rejection])*\n(J15=ChillerEfficiencies[VFD])*\n(IFERROR(G15>=ChillerEfficiencies[Lower Size (tons)],1))*\n(IFERROR(G15<ChillerEfficiencies[Higher Size (tons)],1)),\n0)+0))","v":""},null,{"$f":"IF(C15=\"\",\"\",INDEX(Equipment!K:K,MATCH(C15,Equipment!C:C,0)))","v":""},null,null,null,"HOU"]
[2,null,{"$f":"IF(Equipment!Q13=\"x\",Equipment!C13,\"\")","v":""},null,null,null,null,null,null,null,null,null,null,null,null,{"$f":"IF(AND($C$6=\"Yes\",$C$7=\"Yes\",$C$8=\"Yes\",L16>=2,N16>=36),MIN(E16*0.7,75),0)","v":0},null,{"$f":"IF(AND($C$6=\"Yes\",$C$7=\"Yes\",$C$8=\"Yes\",E16<>\"\",L16>=2,N16>=36),Equipment!K13*T16*U16*ChillerESF)","v":false},{"$f":"IF(AND($C$6=\"Yes\",$C$7=\"Yes\",$C$8=\"Yes\",E16<>\"\",L16>=2,N16>=36),Equipment!K13*U16*ChillerDSF*ChillerCF)","v":false},null,null,null,null,null,null,"heat rejection"]
[3,null,{"$f":"IF(Equipment!Q14=\"x\",Equipment!C14,\"\")","v":""},null,null,null,null,null,null,null,null,null,null,null,null,0,null,{"$f":"IF(AND($C$6=\"Yes\",$C$7=\"Yes\",$C$8=\"Yes\",E17<>\"\",L17>=2,N17>=36),Equipment!K14*T17*U17*ChillerESF)","v":false},{"$f":"IF(AND($C$6=\"Yes\",$C$7=\"Yes\",$C$8=\"Yes\",E17<>\"\",L17>=2,N17>=36),Equipment!K14*U17*ChillerDSF*ChillerCF)","v":false}]
[4,null,{"$f":"IF(Equipment!Q15=\"x\",Equipment!C15,\"\")","v":""},null,null,null,null,null,null,null,null,null,null,null,null,0,null,{"$f":"IF(AND($C$6=\"Yes\",$C$7=\"Yes\",$C$8=\"Yes\",E18<>\"\",L18>=2,N18>=36),Equipment!K15*T18*U18*ChillerESF)","v":false},{"$f":"IF(AND($C$6=\"Yes\",$C$7=\"Yes\",$C$8=\"Yes\",E18<>\"\",L18>=2,N18>=36),Equipment!K15*U18*ChillerDSF*ChillerCF)","v":false},null,null,null,null,null,null,"attributes to adjust"]
[5,null,{"$f":"IF(Equipment!Q16=\"x\",Equipment!C16,\"\")","v":""},null,null,null,null,null,null,null,null,null,null,null,null,0,null,{"$f":"IF(AND($C$6=\"Yes\",$C$7=\"Yes\",$C$8=\"Yes\",E19<>\"\",L19>=2,N19>=36),Equipment!K16*T19*U19*ChillerESF)","v":false},{"$f":"IF(AND($C$6=\"Yes\",$C$7=\"Yes\",$C$8=\"Yes\",E19<>\"\",L19>=2,N19>=36),Equipment!K16*U19*ChillerDSF*ChillerCF)","v":false},null,null,null,null,null,null,"compressor type"]
[6,null,{"$f":"IF(Equipment!Q17=\"x\",Equipment!C17,\"\")","v":""},null,null,null,null,null,null,null,null,null,null,null,null,0,null,{"$f":"IF(AND($C$6=\"Yes\",$C$7=\"Yes\",$C$8=\"Yes\",E20<>\"\",L20>=2,N20>=36),Equipment!K17*T20*U20*ChillerESF)","v":false},{"$f":"IF(AND($C$6=\"Yes\",$C$7=\"Yes\",$C$8=\"Yes\",E20<>\"\",L20>=2,N20>=36),Equipment!K17*U20*ChillerDSF*ChillerCF)","v":false}]
[7,null,{"$f":"IF(Equipment!Q18=\"x\",Equipment!C18,\"\")","v":""},null,null,null,null,null,null,null,null,null,null,null,null,0,null,{"$f":"IF(AND($C$6=\"Yes\",$C$7=\"Yes\",$C$8=\"Yes\",E21<>\"\",L21>=2,N21>=36),Equipment!K18*T21*U21*ChillerESF)","v":false},{"$f":"IF(AND($C$6=\"Yes\",$C$7=\"Yes\",$C$8=\"Yes\",E21<>\"\",L21>=2,N21>=36),Equipment!K18*U21*ChillerDSF*ChillerCF)","v":false}]
[8,null,{"$f":"IF(Equipment!Q19=\"x\",Equipment!C19,\"\")","v":""},null,null,null,null,null,null,null,null,null,null,null,null,0,null,{"$f":"IF(AND($C$6=\"Yes\",$C$7=\"Yes\",$C$8=\"Yes\",E22<>\"\",L22>=2,N22>=36),Equipment!K19*T22*U22*ChillerESF)","v":false},{"$f":"IF(AND($C$6=\"Yes\",$C$7=\"Yes\",$C$8=\"Yes\",E22<>\"\",L22>=2,N22>=36),Equipment!K19*U22*ChillerDSF*ChillerCF)","v":false}]
[9,null,{"$f":"IF(Equipment!Q20=\"x\",Equipment!C20,\"\")","v":""},null,null,null,null,null,null,null,null,null,null,null,null,0,null,{"$f":"IF(AND($C$6=\"Yes\",$C$7=\"Yes\",$C$8=\"Yes\",E23<>\"\",L23>=2,N23>=36),Equipment!K20*T23*U23*ChillerESF)","v":false},{"$f":"IF(AND($C$6=\"Yes\",$C$7=\"Yes\",$C$8=\"Yes\",E23<>\"\",L23>=2,N23>=36),Equipment!K20*U23*ChillerDSF*ChillerCF)","v":false}]
[10,null,{"$f":"IF(Equipment!Q21=\"x\",Equipment!C21,\"\")","v":""},null,null,null,null,null,null,null,null,null,null,null,null,0,null,{"$f":"IF(AND($C$6=\"Yes\",$C$7=\"Yes\",$C$8=\"Yes\",E24<>\"\",L24>=2,N24>=36),Equipment!K21*T24*U24*ChillerESF)","v":false},{"$f":"IF(AND($C$6=\"Yes\",$C$7=\"Yes\",$C$8=\"Yes\",E24<>\"\",L24>=2,N24>=36),Equipment!K21*U24*ChillerDSF*ChillerCF)","v":false}]
[11,null,{"$f":"IF(Equipment!Q22=\"x\",Equipment!C22,\"\")","v":""},null,null,null,null,null,null,null,null,null,null,null,null,0,null,{"$f":"IF(AND($C$6=\"Yes\",$C$7=\"Yes\",$C$8=\"Yes\",E25<>\"\",L25>=2,N25>=36),Equipment!K22*T25*U25*ChillerESF)","v":false},{"$f":"IF(AND($C$6=\"Yes\",$C$7=\"Yes\",$C$8=\"Yes\",E25<>\"\",L25>=2,N25>=36),Equipment!K22*U25*ChillerDSF*ChillerCF)","v":false}]
[12,null,{"$f":"IF(Equipment!Q23=\"x\",Equipment!C23,\"\")","v":""},null,null,null,null,null,null,null,null,null,null,null,null,0,null,{"$f":"IF(AND($C$6=\"Yes\",$C$7=\"Yes\",$C$8=\"Yes\",E26<>\"\",L26>=2,N26>=36),Equipment!K23*T26*U26*ChillerESF)","v":false},{"$f":"IF(AND($C$6=\"Yes\",$C$7=\"Yes\",$C$8=\"Yes\",E26<>\"\",L26>=2,N26>=36),Equipment!K23*U26*ChillerDSF*ChillerCF)","v":false}]
[13,null,{"$f":"IF(Equipment!Q24=\"x\",Equipment!C24,\"\")","v":""},null,null,null,null,null,null,null,null,null,null,null,null,0,null,{"$f":"IF(AND($C$6=\"Yes\",$C$7=\"Yes\",$C$8=\"Yes\",E27<>\"\",L27>=2,N27>=36),Equipment!K24*T27*U27*ChillerESF)","v":false},{"$f":"IF(AND($C$6=\"Yes\",$C$7=\"Yes\",$C$8=\"Yes\",E27<>\"\",L27>=2,N27>=36),Equipment!K24*U27*ChillerDSF*ChillerCF)","v":false}]
[14,null,{"$f":"IF(Equipment!Q25=\"x\",Equipment!C25,\"\")","v":""},null,null,null,null,null,null,null,null,null,null,null,null,0,null,{"$f":"IF(AND($C$6=\"Yes\",$C$7=\"Yes\",$C$8=\"Yes\",E28<>\"\",L28>=2,N28>=36),Equipment!K25*T28*U28*ChillerESF)","v":false},{"$f":"IF(AND($C$6=\"Yes\",$C$7=\"Yes\",$C$8=\"Yes\",E28<>\"\",L28>=2,N28>=36),Equipment!K25*U28*ChillerDSF*ChillerCF)","v":false}]
[15,null,{"$f":"IF(Equipment!Q26=\"x\",Equipment!C26,\"\")","v":""},null,null,null,null,null,null,null,null,null,null,null,null,0,null,{"$f":"IF(AND($C$6=\"Yes\",$C$7=\"Yes\",$C$8=\"Yes\",E29<>\"\",L29>=2,N29>=36),Equipment!K26*T29*U29*ChillerESF)","v":false},{"$f":"IF(AND($C$6=\"Yes\",$C$7=\"Yes\",$C$8=\"Yes\",E29<>\"\",L29>=2,N29>=36),Equipment!K26*U29*ChillerDSF*ChillerCF)","v":false}]
[16,null,{"$f":"IF(Equipment!Q27=\"x\",Equipment!C27,\"\")","v":""},null,null,null,null,null,null,null,null,null,null,null,null,0,null,{"$f":"IF(AND($C$6=\"Yes\",$C$7=\"Yes\",$C$8=\"Yes\",E30<>\"\",L30>=2,N30>=36),Equipment!K27*T30*U30*ChillerESF)","v":false},{"$f":"IF(AND($C$6=\"Yes\",$C$7=\"Yes\",$C$8=\"Yes\",E30<>\"\",L30>=2,N30>=36),Equipment!K27*U30*ChillerDSF*ChillerCF)","v":false}]
[17,null,{"$f":"IF(Equipment!Q28=\"x\",Equipment!C28,\"\")","v":""},null,null,null,null,null,null,null,null,null,null,null,null,0,null,{"$f":"IF(AND($C$6=\"Yes\",$C$7=\"Yes\",$C$8=\"Yes\",E31<>\"\",L31>=2,N31>=36),Equipment!K28*T31*U31*ChillerESF)","v":false},{"$f":"IF(AND($C$6=\"Yes\",$C$7=\"Yes\",$C$8=\"Yes\",E31<>\"\",L31>=2,N31>=36),Equipment!K28*U31*ChillerDSF*ChillerCF)","v":false}]
[18,null,{"$f":"IF(Equipment!Q29=\"x\",Equipment!C29,\"\")","v":""},null,null,null,null,null,null,null,null,null,null,null,null,0,null,{"$f":"IF(AND($C$6=\"Yes\",$C$7=\"Yes\",$C$8=\"Yes\",E32<>\"\",L32>=2,N32>=36),Equipment!K29*T32*U32*ChillerESF)","v":false},{"$f":"IF(AND($C$6=\"Yes\",$C$7=\"Yes\",$C$8=\"Yes\",E32<>\"\",L32>=2,N32>=36),Equipment!K29*U32*ChillerDSF*ChillerCF)","v":false}]
[19,null,{"$f":"IF(Equipment!Q30=\"x\",Equipment!C30,\"\")","v":""},null,null,null,null,null,null,null,null,null,null,null,null,0,null,{"$f":"IF(AND($C$6=\"Yes\",$C$7=\"Yes\",$C$8=\"Yes\",E33<>\"\",L33>=2,N33>=36),Equipment!K30*T33*U33*ChillerESF)","v":false},{"$f":"IF(AND($C$6=\"Yes\",$C$7=\"Yes\",$C$8=\"Yes\",E33<>\"\",L33>=2,N33>=36),Equipment!K30*U33*ChillerDSF*ChillerCF)","v":false}]
[20,null,{"$f":"IF(Equipment!Q31=\"x\",Equipment!C31,\"\")","v":""},null,null,null,null,null,null,null,null,null,null,null,null,0,null,{"$f":"IF(AND($C$6=\"Yes\",$C$7=\"Yes\",$C$8=\"Yes\",E34<>\"\",L34>=2,N34>=36),Equipment!K31*T34*U34*ChillerESF)","v":false},{"$f":"IF(AND($C$6=\"Yes\",$C$7=\"Yes\",$C$8=\"Yes\",E34<>\"\",L34>=2,N34>=36),Equipment!K31*U34*ChillerDSF*ChillerCF)","v":false}]
[21,null,{"$f":"IF(Equipment!Q32=\"x\",Equipment!C32,\"\")","v":""},null,null,null,null,null,null,null,null,null,null,null,null,0,null,{"$f":"IF(AND($C$6=\"Yes\",$C$7=\"Yes\",$C$8=\"Yes\",E35<>\"\",L35>=2,N35>=36),Equipment!K32*T35*U35*ChillerESF)","v":false},{"$f":"IF(AND($C$6=\"Yes\",$C$7=\"Yes\",$C$8=\"Yes\",E35<>\"\",L35>=2,N35>=36),Equipment!K32*U35*ChillerDSF*ChillerCF)","v":false}]
[22,null,{"$f":"IF(Equipment!Q33=\"x\",Equipment!C33,\"\")","v":""},null,null,null,null,null,null,null,null,null,null,null,null,0,null,{"$f":"IF(AND($C$6=\"Yes\",$C$7=\"Yes\",$C$8=\"Yes\",E36<>\"\",L36>=2,N36>=36),Equipment!K33*T36*U36*ChillerESF)","v":false},{"$f":"IF(AND($C$6=\"Yes\",$C$7=\"Yes\",$C$8=\"Yes\",E36<>\"\",L36>=2,N36>=36),Equipment!K33*U36*ChillerDSF*ChillerCF)","v":false}]
[23,null,{"$f":"IF(Equipment!Q34=\"x\",Equipment!C34,\"\")","v":""},null,null,null,null,null,null,null,null,null,null,null,null,0,null,{"$f":"IF(AND($C$6=\"Yes\",$C$7=\"Yes\",$C$8=\"Yes\",E37<>\"\",L37>=2,N37>=36),Equipment!K34*T37*U37*ChillerESF)","v":false},{"$f":"IF(AND($C$6=\"Yes\",$C$7=\"Yes\",$C$8=\"Yes\",E37<>\"\",L37>=2,N37>=36),Equipment!K34*U37*ChillerDSF*ChillerCF)","v":false}]
[24,null,{"$f":"IF(Equipment!Q35=\"x\",Equipment!C35,\"\")","v":""},null,null,null,null,null,null,null,null,null,null,null,null,0,null,{"$f":"IF(AND($C$6=\"Yes\",$C$7=\"Yes\",$C$8=\"Yes\",E38<>\"\",L38>=2,N38>=36),Equipment!K35*T38*U38*ChillerESF)","v":false},{"$f":"IF(AND($C$6=\"Yes\",$C$7=\"Yes\",$C$8=\"Yes\",E38<>\"\",L38>=2,N38>=36),Equipment!K35*U38*ChillerDSF*ChillerCF)","v":false}]
[25,null,{"$f":"IF(Equipment!Q36=\"x\",Equipment!C36,\"\")","v":""},null,null,null,null,null,null,null,null,null,null,null,null,0,null,{"$f":"IF(AND($C$6=\"Yes\",$C$7=\"Yes\",$C$8=\"Yes\",E39<>\"\",L39>=2,N39>=36),Equipment!K36*T39*U39*ChillerESF)","v":false},{"$f":"IF(AND($C$6=\"Yes\",$C$7=\"Yes\",$C$8=\"Yes\",E39<>\"\",L39>=2,N39>=36),Equipment!K36*U39*ChillerDSF*ChillerCF)","v":false}]
[26,null,{"$f":"IF(Equipment!Q37=\"x\",Equipment!C37,\"\")","v":""},null,null,null,null,null,null,null,null,null,null,null,null,0,null,{"$f":"IF(AND($C$6=\"Yes\",$C$7=\"Yes\",$C$8=\"Yes\",E40<>\"\",L40>=2,N40>=36),Equipment!K37*102)","v":false},{"$f":"IF(AND($C$6=\"Yes\",$C$7=\"Yes\",$C$8=\"Yes\",E40<>\"\",L40>=2,N40>=36),Equipment!K37*0.0462)","v":false}]
[27,null,{"$f":"IF(Equipment!Q38=\"x\",Equipment!C38,\"\")","v":""},null,null,null,null,null,null,null,null,null,null,null,null,0,null,{"$f":"IF(AND($C$6=\"Yes\",$C$7=\"Yes\",$C$8=\"Yes\",E41<>\"\",L41>=2,N41>=36),Equipment!K38*102)","v":false},{"$f":"IF(AND($C$6=\"Yes\",$C$7=\"Yes\",$C$8=\"Yes\",E41<>\"\",L41>=2,N41>=36),Equipment!K38*0.0462)","v":false}]
[28,null,{"$f":"IF(Equipment!Q39=\"x\",Equipment!C39,\"\")","v":""},null,null,null,null,null,null,null,null,null,null,null,null,0,null,{"$f":"IF(AND($C$6=\"Yes\",$C$7=\"Yes\",$C$8=\"Yes\",E42<>\"\",L42>=2,N42>=36),Equipment!K39*102)","v":false},{"$f":"IF(AND($C$6=\"Yes\",$C$7=\"Yes\",$C$8=\"Yes\",E42<>\"\",L42>=2,N42>=36),Equipment!K39*0.0462)","v":false}]
[29,null,{"$f":"IF(Equipment!Q40=\"x\",Equipment!C40,\"\")","v":""},null,null,null,null,null,null,null,null,null,null,null,null,0,null,{"$f":"IF(AND($C$6=\"Yes\",$C$7=\"Yes\",$C$8=\"Yes\",E43<>\"\",L43>=2,N43>=36),Equipment!K40*102)","v":false},{"$f":"IF(AND($C$6=\"Yes\",$C$7=\"Yes\",$C$8=\"Yes\",E43<>\"\",L43>=2,N43>=36),Equipment!K40*0.0462)","v":false}]
[30,null,{"$f":"IF(Equipment!Q41=\"x\",Equipment!C41,\"\")","v":""},null,null,null,null,null,null,null,null,null,null,null,null,0,null,{"$f":"IF(AND($C$6=\"Yes\",$C$7=\"Yes\",$C$8=\"Yes\",E44<>\"\",L44>=2,N44>=36),Equipment!K41*102)","v":false},{"$f":"IF(AND($C$6=\"Yes\",$C$7=\"Yes\",$C$8=\"Yes\",E44<>\"\",L44>=2,N44>=36),Equipment!K41*0.0462)","v":false}]
[31,null,{"$f":"IF(Equipment!Q42=\"x\",Equipment!C42,\"\")","v":""},null,null,null,null,null,null,null,null,null,null,null,null,0,null,{"$f":"IF(AND($C$6=\"Yes\",$C$7=\"Yes\",$C$8=\"Yes\",E45<>\"\",L45>=2,N45>=36),Equipment!K42*102)","v":false},{"$f":"IF(AND($C$6=\"Yes\",$C$7=\"Yes\",$C$8=\"Yes\",E45<>\"\",L45>=2,N45>=36),Equipment!K42*0.0462)","v":false}]
[32,null,{"$f":"IF(Equipment!Q43=\"x\",Equipment!C43,\"\")","v":""},null,null,null,null,null,null,null,null,null,null,null,null,0,null,{"$f":"IF(AND($C$6=\"Yes\",$C$7=\"Yes\",$C$8=\"Yes\",E46<>\"\",L46>=2,N46>=36),Equipment!K43*102)","v":false},{"$f":"IF(AND($C$6=\"Yes\",$C$7=\"Yes\",$C$8=\"Yes\",E46<>\"\",L46>=2,N46>=36),Equipment!K43*0.0462)","v":false}]
[33,null,{"$f":"IF(Equipment!Q44=\"x\",Equipment!C44,\"\")","v":""},null,null,null,null,null,null,null,null,null,null,null,null,0,null,{"$f":"IF(AND($C$6=\"Yes\",$C$7=\"Yes\",$C$8=\"Yes\",E47<>\"\",L47>=2,N47>=36),Equipment!K44*102)","v":false},{"$f":"IF(AND($C$6=\"Yes\",$C$7=\"Yes\",$C$8=\"Yes\",E47<>\"\",L47>=2,N47>=36),Equipment!K44*0.0462)","v":false}]
[34,null,{"$f":"IF(Equipment!Q45=\"x\",Equipment!C45,\"\")","v":""},null,null,null,null,null,null,null,null,null,null,null,null,{"$f":"IF(AND($C$6=\"Yes\",$C$7=\"Yes\",$C$8=\"Yes\",L48>=2,N48>=36),MIN(E48*0.7,75),0)","v":0},null,{"$f":"IF(AND($C$6=\"Yes\",$C$7=\"Yes\",$C$8=\"Yes\",E48<>\"\",L48>=2,N48>=36),Equipment!K45*102)","v":false},{"$f":"IF(AND($C$6=\"Yes\",$C$7=\"Yes\",$C$8=\"Yes\",E48<>\"\",L48>=2,N48>=36),Equipment!K45*0.0462)","v":false}]
[35,null,{"$f":"IF(Equipment!Q46=\"x\",Equipment!C46,\"\")","v":""},null,null,null,null,null,null,null,null,null,null,null,null,0,null,{"$f":"IF(AND($C$6=\"Yes\",$C$7=\"Yes\",$C$8=\"Yes\",E49<>\"\",L49>=2,N49>=36),Equipment!K46*102)","v":false},{"$f":"IF(AND($C$6=\"Yes\",$C$7=\"Yes\",$C$8=\"Yes\",E49<>\"\",L49>=2,N49>=36),Equipment!K46*0.0462)","v":false}]
[36,null,{"$f":"IF(Equipment!Q47=\"x\",Equipment!C47,\"\")","v":""},null,null,null,null,null,null,null,null,null,null,null,null,0,null,{"$f":"IF(AND($C$6=\"Yes\",$C$7=\"Yes\",$C$8=\"Yes\",E50<>\"\",L50>=2,N50>=36),Equipment!K47*102)","v":false},{"$f":"IF(AND($C$6=\"Yes\",$C$7=\"Yes\",$C$8=\"Yes\",E50<>\"\",L50>=2,N50>=36),Equipment!K47*0.0462)","v":false}]
[37,null,{"$f":"IF(Equipment!Q48=\"x\",Equipment!C48,\"\")","v":""},null,null,null,null,null,null,null,null,null,null,null,null,0,null,{"$f":"IF(AND($C$6=\"Yes\",$C$7=\"Yes\",$C$8=\"Yes\",E51<>\"\",L51>=2,N51>=36),Equipment!K48*102)","v":false},{"$f":"IF(AND($C$6=\"Yes\",$C$7=\"Yes\",$C$8=\"Yes\",E51<>\"\",L51>=2,N51>=36),Equipment!K48*0.0462)","v":false}]
[38,null,{"$f":"IF(Equipment!Q49=\"x\",Equipment!C49,\"\")","v":""},null,null,null,null,null,null,null,null,null,null,null,null,0,null,{"$f":"IF(AND($C$6=\"Yes\",$C$7=\"Yes\",$C$8=\"Yes\",E52<>\"\",L52>=2,N52>=36),Equipment!K49*102)","v":false},{"$f":"IF(AND($C$6=\"Yes\",$C$7=\"Yes\",$C$8=\"Yes\",E52<>\"\",L52>=2,N52>=36),Equipment!K49*0.0462)","v":false}]
[39,null,{"$f":"IF(Equipment!Q50=\"x\",Equipment!C50,\"\")","v":""},null,null,null,null,null,null,null,null,null,null,null,null,0,null,{"$f":"IF(AND($C$6=\"Yes\",$C$7=\"Yes\",$C$8=\"Yes\",E53<>\"\",L53>=2,N53>=36),Equipment!K50*102)","v":false},{"$f":"IF(AND($C$6=\"Yes\",$C$7=\"Yes\",$C$8=\"Yes\",E53<>\"\",L53>=2,N53>=36),Equipment!K50*0.0462)","v":false}]
[40,null,{"$f":"IF(Equipment!Q51=\"x\",Equipment!C51,\"\")","v":""},null,null,null,null,null,null,null,null,null,null,null,null,0,null,{"$f":"IF(AND($C$6=\"Yes\",$C$7=\"Yes\",$C$8=\"Yes\",E54<>\"\",L54>=2,N54>=36),Equipment!K51*102)","v":false},{"$f":"IF(AND($C$6=\"Yes\",$C$7=\"Yes\",$C$8=\"Yes\",E54<>\"\",L54>=2,N54>=36),Equipment!K51*0.0462)","v":false}]
[41,null,{"$f":"IF(Equipment!Q52=\"x\",Equipment!C52,\"\")","v":""},null,null,null,null,null,null,null,null,null,null,null,null,0,null,{"$f":"IF(AND($C$6=\"Yes\",$C$7=\"Yes\",$C$8=\"Yes\",E55<>\"\",L55>=2,N55>=36),Equipment!K52*102)","v":false},{"$f":"IF(AND($C$6=\"Yes\",$C$7=\"Yes\",$C$8=\"Yes\",E55<>\"\",L55>=2,N55>=36),Equipment!K52*0.0462)","v":false}]
[42,null,{"$f":"IF(Equipment!Q53=\"x\",Equipment!C53,\"\")","v":""},null,null,null,null,null,null,null,null,null,null,null,null,0,null,{"$f":"IF(AND($C$6=\"Yes\",$C$7=\"Yes\",$C$8=\"Yes\",E56<>\"\",L56>=2,N56>=36),Equipment!K53*102)","v":false},{"$f":"IF(AND($C$6=\"Yes\",$C$7=\"Yes\",$C$8=\"Yes\",E56<>\"\",L56>=2,N56>=36),Equipment!K53*0.0462)","v":false}]
[43,null,{"$f":"IF(Equipment!Q54=\"x\",Equipment!C54,\"\")","v":""},null,null,null,null,null,null,null,null,null,null,null,null,0,null,{"$f":"IF(AND($C$6=\"Yes\",$C$7=\"Yes\",$C$8=\"Yes\",E57<>\"\",L57>=2,N57>=36),Equipment!K54*102)","v":false},{"$f":"IF(AND($C$6=\"Yes\",$C$7=\"Yes\",$C$8=\"Yes\",E57<>\"\",L57>=2,N57>=36),Equipment!K54*0.0462)","v":false}]
[44,null,{"$f":"IF(Equipment!Q55=\"x\",Equipment!C55,\"\")","v":""},null,null,null,null,null,null,null,null,null,null,null,null,0,null,{"$f":"IF(AND($C$6=\"Yes\",$C$7=\"Yes\",$C$8=\"Yes\",E58<>\"\",L58>=2,N58>=36),Equipment!K55*102)","v":false},{"$f":"IF(AND($C$6=\"Yes\",$C$7=\"Yes\",$C$8=\"Yes\",E58<>\"\",L58>=2,N58>=36),Equipment!K55*0.0462)","v":false}]
[45,null,{"$f":"IF(Equipment!Q56=\"x\",Equipment!C56,\"\")","v":""},null,null,null,null,null,null,null,null,null,null,null,null,0,null,{"$f":"IF(AND($C$6=\"Yes\",$C$7=\"Yes\",$C$8=\"Yes\",E59<>\"\",L59>=2,N59>=36),Equipment!K56*102)","v":false},{"$f":"IF(AND($C$6=\"Yes\",$C$7=\"Yes\",$C$8=\"Yes\",E59<>\"\",L59>=2,N59>=36),Equipment!K56*0.0462)","v":false}]
[46,null,{"$f":"IF(Equipment!Q57=\"x\",Equipment!C57,\"\")","v":""},null,null,null,null,null,null,null,null,null,null,null,null,0,null,{"$f":"IF(AND($C$6=\"Yes\",$C$7=\"Yes\",$C$8=\"Yes\",E60<>\"\",L60>=2,N60>=36),Equipment!K57*102)","v":false},{"$f":"IF(AND($C$6=\"Yes\",$C$7=\"Yes\",$C$8=\"Yes\",E60<>\"\",L60>=2,N60>=36),Equipment!K57*0.0462)","v":false}]
[47,null,{"$f":"IF(Equipment!Q58=\"x\",Equipment!C58,\"\")","v":""},null,null,null,null,null,null,null,null,null,null,null,null,0,null,{"$f":"IF(AND($C$6=\"Yes\",$C$7=\"Yes\",$C$8=\"Yes\",E61<>\"\",L61>=2,N61>=36),Equipment!K58*102)","v":false},{"$f":"IF(AND($C$6=\"Yes\",$C$7=\"Yes\",$C$8=\"Yes\",E61<>\"\",L61>=2,N61>=36),Equipment!K58*0.0462)","v":false}]
[48,null,{"$f":"IF(Equipment!Q59=\"x\",Equipment!C59,\"\")","v":""},null,null,null,null,null,null,null,null,null,null,null,null,0,null,{"$f":"IF(AND($C$6=\"Yes\",$C$7=\"Yes\",$C$8=\"Yes\",E62<>\"\",L62>=2,N62>=36),Equipment!K59*102)","v":false},{"$f":"IF(AND($C$6=\"Yes\",$C$7=\"Yes\",$C$8=\"Yes\",E62<>\"\",L62>=2,N62>=36),Equipment!K59*0.0462)","v":false}]
[49,null,{"$f":"IF(Equipment!Q60=\"x\",Equipment!C60,\"\")","v":""},null,null,null,null,null,null,null,null,null,null,null,null,0,null,{"$f":"IF(AND($C$6=\"Yes\",$C$7=\"Yes\",$C$8=\"Yes\",E63<>\"\",L63>=2,N63>=36),Equipment!K60*102)","v":false},{"$f":"IF(AND($C$6=\"Yes\",$C$7=\"Yes\",$C$8=\"Yes\",E63<>\"\",L63>=2,N63>=36),Equipment!K60*0.0462)","v":false}]
[50,null,{"$f":"IF(Equipment!Q61=\"x\",Equipment!C61,\"\")","v":""},null,null,null,null,null,null,null,null,null,null,null,null,0,null,{"$f":"IF(AND($C$6=\"Yes\",$C$7=\"Yes\",$C$8=\"Yes\",E64<>\"\",L64>=2,N64>=36),Equipment!K61*102)","v":false},{"$f":"IF(AND($C$6=\"Yes\",$C$7=\"Yes\",$C$8=\"Yes\",E64<>\"\",L64>=2,N64>=36),Equipment!K61*0.0462)","v":false}]
[51,null,{"$f":"IF(Equipment!Q62=\"x\",Equipment!C62,\"\")","v":""},null,null,null,null,null,null,null,null,null,null,null,null,0,null,{"$f":"IF(AND($C$6=\"Yes\",$C$7=\"Yes\",$C$8=\"Yes\",E65<>\"\",L65>=2,N65>=36),Equipment!K62*102)","v":false},{"$f":"IF(AND($C$6=\"Yes\",$C$7=\"Yes\",$C$8=\"Yes\",E65<>\"\",L65>=2,N65>=36),Equipment!K62*0.0462)","v":false}]
[52,null,{"$f":"IF(Equipment!Q63=\"x\",Equipment!C63,\"\")","v":""},null,null,null,null,null,null,null,null,null,null,null,null,0,null,{"$f":"IF(AND($C$6=\"Yes\",$C$7=\"Yes\",$C$8=\"Yes\",E66<>\"\",L66>=2,N66>=36),Equipment!K63*102)","v":false},{"$f":"IF(AND($C$6=\"Yes\",$C$7=\"Yes\",$C$8=\"Yes\",E66<>\"\",L66>=2,N66>=36),Equipment!K63*0.0462)","v":false}]
[53,null,{"$f":"IF(Equipment!Q64=\"x\",Equipment!C64,\"\")","v":""},null,null,null,null,null,null,null,null,null,null,null,null,0,null,{"$f":"IF(AND($C$6=\"Yes\",$C$7=\"Yes\",$C$8=\"Yes\",E67<>\"\",L67>=2,N67>=36),Equipment!K64*102)","v":false},{"$f":"IF(AND($C$6=\"Yes\",$C$7=\"Yes\",$C$8=\"Yes\",E67<>\"\",L67>=2,N67>=36),Equipment!K64*0.0462)","v":false}]
[54,null,{"$f":"IF(Equipment!Q65=\"x\",Equipment!C65,\"\")","v":""},null,null,null,null,null,null,null,null,null,null,null,null,0,null,{"$f":"IF(AND($C$6=\"Yes\",$C$7=\"Yes\",$C$8=\"Yes\",E68<>\"\",L68>=2,N68>=36),Equipment!K65*102)","v":false},{"$f":"IF(AND($C$6=\"Yes\",$C$7=\"Yes\",$C$8=\"Yes\",E68<>\"\",L68>=2,N68>=36),Equipment!K65*0.0462)","v":false}]
[55,null,{"$f":"IF(Equipment!Q66=\"x\",Equipment!C66,\"\")","v":""},null,null,null,null,null,null,null,null,null,null,null,null,0,null,{"$f":"IF(AND($C$6=\"Yes\",$C$7=\"Yes\",$C$8=\"Yes\",E69<>\"\",L69>=2,N69>=36),Equipment!K66*102)","v":false},{"$f":"IF(AND($C$6=\"Yes\",$C$7=\"Yes\",$C$8=\"Yes\",E69<>\"\",L69>=2,N69>=36),Equipment!K66*0.0462)","v":false}]
[56,null,{"$f":"IF(Equipment!Q67=\"x\",Equipment!C67,\"\")","v":""},null,null,null,null,null,null,null,null,null,null,null,null,0,null,{"$f":"IF(AND($C$6=\"Yes\",$C$7=\"Yes\",$C$8=\"Yes\",E70<>\"\",L70>=2,N70>=36),Equipment!K67*102)","v":false},{"$f":"IF(AND($C$6=\"Yes\",$C$7=\"Yes\",$C$8=\"Yes\",E70<>\"\",L70>=2,N70>=36),Equipment!K67*0.0462)","v":false}]
[57,null,{"$f":"IF(Equipment!Q68=\"x\",Equipment!C68,\"\")","v":""},null,null,null,null,null,null,null,null,null,null,null,null,0,null,{"$f":"IF(AND($C$6=\"Yes\",$C$7=\"Yes\",$C$8=\"Yes\",E71<>\"\",L71>=2,N71>=36),Equipment!K68*102)","v":false},{"$f":"IF(AND($C$6=\"Yes\",$C$7=\"Yes\",$C$8=\"Yes\",E71<>\"\",L71>=2,N71>=36),Equipment!K68*0.0462)","v":false}]
[58,null,{"$f":"IF(Equipment!Q69=\"x\",Equipment!C69,\"\")","v":""},null,null,null,null,null,null,null,null,null,null,null,null,0,null,{"$f":"IF(AND($C$6=\"Yes\",$C$7=\"Yes\",$C$8=\"Yes\",E72<>\"\",L72>=2,N72>=36),Equipment!K69*102)","v":false},{"$f":"IF(AND($C$6=\"Yes\",$C$7=\"Yes\",$C$8=\"Yes\",E72<>\"\",L72>=2,N72>=36),Equipment!K69*0.0462)","v":false}]
[59,null,{"$f":"IF(Equipment!Q70=\"x\",Equipment!C70,\"\")","v":""},null,null,null,null,null,null,null,null,null,null,null,null,0,null,{"$f":"IF(AND($C$6=\"Yes\",$C$7=\"Yes\",$C$8=\"Yes\",E73<>\"\",L73>=2,N73>=36),Equipment!K70*102)","v":false},{"$f":"IF(AND($C$6=\"Yes\",$C$7=\"Yes\",$C$8=\"Yes\",E73<>\"\",L73>=2,N73>=36),Equipment!K70*0.0462)","v":false}]
[60,null,{"$f":"IF(Equipment!Q71=\"x\",Equipment!C71,\"\")","v":""},null,null,null,null,null,null,null,null,null,null,null,null,0,null,{"$f":"IF(AND($C$6=\"Yes\",$C$7=\"Yes\",$C$8=\"Yes\",E74<>\"\",L74>=2,N74>=36),Equipment!K71*102)","v":false},{"$f":"IF(AND($C$6=\"Yes\",$C$7=\"Yes\",$C$8=\"Yes\",E74<>\"\",L74>=2,N74>=36),Equipment!K71*0.0462)","v":false}]
[61,null,{"$f":"IF(Equipment!Q72=\"x\",Equipment!C72,\"\")","v":""},null,null,null,null,null,null,null,null,null,null,null,null,0,null,{"$f":"IF(AND($C$6=\"Yes\",$C$7=\"Yes\",$C$8=\"Yes\",E75<>\"\",L75>=2,N75>=36),Equipment!K72*102)","v":false},{"$f":"IF(AND($C$6=\"Yes\",$C$7=\"Yes\",$C$8=\"Yes\",E75<>\"\",L75>=2,N75>=36),Equipment!K72*0.0462)","v":false}]
[62,null,{"$f":"IF(Equipment!Q73=\"x\",Equipment!C73,\"\")","v":""},null,null,null,null,null,null,null,null,null,null,null,null,0,null,{"$f":"IF(AND($C$6=\"Yes\",$C$7=\"Yes\",$C$8=\"Yes\",E76<>\"\",L76>=2,N76>=36),Equipment!K73*102)","v":false},{"$f":"IF(AND($C$6=\"Yes\",$C$7=\"Yes\",$C$8=\"Yes\",E76<>\"\",L76>=2,N76>=36),Equipment!K73*0.0462)","v":false}]
[63,null,{"$f":"IF(Equipment!Q74=\"x\",Equipment!C74,\"\")","v":""},null,null,null,null,null,null,null,null,null,null,null,null,0,null,{"$f":"IF(AND($C$6=\"Yes\",$C$7=\"Yes\",$C$8=\"Yes\",E77<>\"\",L77>=2,N77>=36),Equipment!K74*102)","v":false},{"$f":"IF(AND($C$6=\"Yes\",$C$7=\"Yes\",$C$8=\"Yes\",E77<>\"\",L77>=2,N77>=36),Equipment!K74*0.0462)","v":false}]
[64,null,{"$f":"IF(Equipment!Q75=\"x\",Equipment!C75,\"\")","v":""},null,null,null,null,null,null,null,null,null,null,null,null,0,null,{"$f":"IF(AND($C$6=\"Yes\",$C$7=\"Yes\",$C$8=\"Yes\",E78<>\"\",L78>=2,N78>=36),Equipment!K75*102)","v":false},{"$f":"IF(AND($C$6=\"Yes\",$C$7=\"Yes\",$C$8=\"Yes\",E78<>\"\",L78>=2,N78>=36),Equipment!K75*0.0462)","v":false}]
[65,null,{"$f":"IF(Equipment!Q76=\"x\",Equipment!C76,\"\")","v":""},null,null,null,null,null,null,null,null,null,null,null,null,0,null,{"$f":"IF(AND($C$6=\"Yes\",$C$7=\"Yes\",$C$8=\"Yes\",E79<>\"\",L79>=2,N79>=36),Equipment!K76*102)","v":false},{"$f":"IF(AND($C$6=\"Yes\",$C$7=\"Yes\",$C$8=\"Yes\",E79<>\"\",L79>=2,N79>=36),Equipment!K76*0.0462)","v":false}]
[66,null,{"$f":"IF(Equipment!Q77=\"x\",Equipment!C77,\"\")","v":""},null,null,null,null,null,null,null,null,null,null,null,null,{"$f":"IF(AND($C$6=\"Yes\",$C$7=\"Yes\",$C$8=\"Yes\",L80>=2,N80>=36),MIN(E80*0.7,75),0)","v":0},null,{"$f":"IF(AND($C$6=\"Yes\",$C$7=\"Yes\",$C$8=\"Yes\",E80<>\"\",L80>=2,N80>=36),Equipment!K77*102)","v":false},{"$f":"IF(AND($C$6=\"Yes\",$C$7=\"Yes\",$C$8=\"Yes\",E80<>\"\",L80>=2,N80>=36),Equipment!K77*0.0462)","v":false}]
[67,null,{"$f":"IF(Equipment!Q78=\"x\",Equipment!C78,\"\")","v":""},null,null,null,null,null,null,null,null,null,null,null,null,0,null,{"$f":"IF(AND($C$6=\"Yes\",$C$7=\"Yes\",$C$8=\"Yes\",E81<>\"\",L81>=2,N81>=36),Equipment!K78*102)","v":false},{"$f":"IF(AND($C$6=\"Yes\",$C$7=\"Yes\",$C$8=\"Yes\",E81<>\"\",L81>=2,N81>=36),Equipment!K78*0.0462)","v":false}]
[68,null,{"$f":"IF(Equipment!Q79=\"x\",Equipment!C79,\"\")","v":""},null,null,null,null,null,null,null,null,null,null,null,null,0,null,{"$f":"IF(AND($C$6=\"Yes\",$C$7=\"Yes\",$C$8=\"Yes\",E82<>\"\",L82>=2,N82>=36),Equipment!K79*102)","v":false},{"$f":"IF(AND($C$6=\"Yes\",$C$7=\"Yes\",$C$8=\"Yes\",E82<>\"\",L82>=2,N82>=36),Equipment!K79*0.0462)","v":false}]
[69,null,{"$f":"IF(Equipment!Q80=\"x\",Equipment!C80,\"\")","v":""},null,null,null,null,null,null,null,null,null,null,null,null,0,null,{"$f":"IF(AND($C$6=\"Yes\",$C$7=\"Yes\",$C$8=\"Yes\",E83<>\"\",L83>=2,N83>=36),Equipment!K80*102)","v":false},{"$f":"IF(AND($C$6=\"Yes\",$C$7=\"Yes\",$C$8=\"Yes\",E83<>\"\",L83>=2,N83>=36),Equipment!K80*0.0462)","v":false}]
[70,null,{"$f":"IF(Equipment!Q81=\"x\",Equipment!C81,\"\")","v":""},null,null,null,null,null,null,null,null,null,null,null,null,0,null,{"$f":"IF(AND($C$6=\"Yes\",$C$7=\"Yes\",$C$8=\"Yes\",E84<>\"\",L84>=2,N84>=36),Equipment!K81*102)","v":false},{"$f":"IF(AND($C$6=\"Yes\",$C$7=\"Yes\",$C$8=\"Yes\",E84<>\"\",L84>=2,N84>=36),Equipment!K81*0.0462)","v":false}]
[71,null,{"$f":"IF(Equipment!Q82=\"x\",Equipment!C82,\"\")","v":""},null,null,null,null,null,null,null,null,null,null,null,null,0,null,{"$f":"IF(AND($C$6=\"Yes\",$C$7=\"Yes\",$C$8=\"Yes\",E85<>\"\",L85>=2,N85>=36),Equipment!K82*102)","v":false},{"$f":"IF(AND($C$6=\"Yes\",$C$7=\"Yes\",$C$8=\"Yes\",E85<>\"\",L85>=2,N85>=36),Equipment!K82*0.0462)","v":false}]
[72,null,{"$f":"IF(Equipment!Q83=\"x\",Equipment!C83,\"\")","v":""},null,null,null,null,null,null,null,null,null,null,null,null,0,null,{"$f":"IF(AND($C$6=\"Yes\",$C$7=\"Yes\",$C$8=\"Yes\",E86<>\"\",L86>=2,N86>=36),Equipment!K83*102)","v":false},{"$f":"IF(AND($C$6=\"Yes\",$C$7=\"Yes\",$C$8=\"Yes\",E86<>\"\",L86>=2,N86>=36),Equipment!K83*0.0462)","v":false}]
[73,null,{"$f":"IF(Equipment!Q84=\"x\",Equipment!C84,\"\")","v":""},null,null,null,null,null,null,null,null,null,null,null,null,0,null,{"$f":"IF(AND($C$6=\"Yes\",$C$7=\"Yes\",$C$8=\"Yes\",E87<>\"\",L87>=2,N87>=36),Equipment!K84*102)","v":false},{"$f":"IF(AND($C$6=\"Yes\",$C$7=\"Yes\",$C$8=\"Yes\",E87<>\"\",L87>=2,N87>=36),Equipment!K84*0.0462)","v":false}]
[74,null,{"$f":"IF(Equipment!Q85=\"x\",Equipment!C85,\"\")","v":""},null,null,null,null,null,null,null,null,null,null,null,null,0,null,{"$f":"IF(AND($C$6=\"Yes\",$C$7=\"Yes\",$C$8=\"Yes\",E88<>\"\",L88>=2,N88>=36),Equipment!K85*102)","v":false},{"$f":"IF(AND($C$6=\"Yes\",$C$7=\"Yes\",$C$8=\"Yes\",E88<>\"\",L88>=2,N88>=36),Equipment!K85*0.0462)","v":false}]
[75,null,{"$f":"IF(Equipment!Q86=\"x\",Equipment!C86,\"\")","v":""},null,null,null,null,null,null,null,null,null,null,null,null,0,null,{"$f":"IF(AND($C$6=\"Yes\",$C$7=\"Yes\",$C$8=\"Yes\",E89<>\"\",L89>=2,N89>=36),Equipment!K86*102)","v":false},{"$f":"IF(AND($C$6=\"Yes\",$C$7=\"Yes\",$C$8=\"Yes\",E89<>\"\",L89>=2,N89>=36),Equipment!K86*0.0462)","v":false}]
[76,null,{"$f":"IF(Equipment!Q87=\"x\",Equipment!C87,\"\")","v":""},null,null,null,null,null,null,null,null,null,null,null,null,0,null,{"$f":"IF(AND($C$6=\"Yes\",$C$7=\"Yes\",$C$8=\"Yes\",E90<>\"\",L90>=2,N90>=36),Equipment!K87*102)","v":false},{"$f":"IF(AND($C$6=\"Yes\",$C$7=\"Yes\",$C$8=\"Yes\",E90<>\"\",L90>=2,N90>=36),Equipment!K87*0.0462)","v":false}]
[77,null,{"$f":"IF(Equipment!Q88=\"x\",Equipment!C88,\"\")","v":""},null,null,null,null,null,null,null,null,null,null,null,null,0,null,{"$f":"IF(AND($C$6=\"Yes\",$C$7=\"Yes\",$C$8=\"Yes\",E91<>\"\",L91>=2,N91>=36),Equipment!K88*102)","v":false},{"$f":"IF(AND($C$6=\"Yes\",$C$7=\"Yes\",$C$8=\"Yes\",E91<>\"\",L91>=2,N91>=36),Equipment!K88*0.0462)","v":false}]
[78,null,{"$f":"IF(Equipment!Q89=\"x\",Equipment!C89,\"\")","v":""},null,null,null,null,null,null,null,null,null,null,null,null,0,null,{"$f":"IF(AND($C$6=\"Yes\",$C$7=\"Yes\",$C$8=\"Yes\",E92<>\"\",L92>=2,N92>=36),Equipment!K89*102)","v":false},{"$f":"IF(AND($C$6=\"Yes\",$C$7=\"Yes\",$C$8=\"Yes\",E92<>\"\",L92>=2,N92>=36),Equipment!K89*0.0462)","v":false}]
[79,null,{"$f":"IF(Equipment!Q90=\"x\",Equipment!C90,\"\")","v":""},null,null,null,null,null,null,null,null,null,null,null,null,0,null,{"$f":"IF(AND($C$6=\"Yes\",$C$7=\"Yes\",$C$8=\"Yes\",E93<>\"\",L93>=2,N93>=36),Equipment!K90*102)","v":false},{"$f":"IF(AND($C$6=\"Yes\",$C$7=\"Yes\",$C$8=\"Yes\",E93<>\"\",L93>=2,N93>=36),Equipment!K90*0.0462)","v":false}]
[80,null,{"$f":"IF(Equipment!Q91=\"x\",Equipment!C91,\"\")","v":""},null,null,null,null,null,null,null,null,null,null,null,null,0,null,{"$f":"IF(AND($C$6=\"Yes\",$C$7=\"Yes\",$C$8=\"Yes\",E94<>\"\",L94>=2,N94>=36),Equipment!K91*102)","v":false},{"$f":"IF(AND($C$6=\"Yes\",$C$7=\"Yes\",$C$8=\"Yes\",E94<>\"\",L94>=2,N94>=36),Equipment!K91*0.0462)","v":false}]
[81,null,{"$f":"IF(Equipment!Q92=\"x\",Equipment!C92,\"\")","v":""},null,null,null,null,null,null,null,null,null,null,null,null,0,null,{"$f":"IF(AND($C$6=\"Yes\",$C$7=\"Yes\",$C$8=\"Yes\",E95<>\"\",L95>=2,N95>=36),Equipment!K92*102)","v":false},{"$f":"IF(AND($C$6=\"Yes\",$C$7=\"Yes\",$C$8=\"Yes\",E95<>\"\",L95>=2,N95>=36),Equipment!K92*0.0462)","v":false}]
[82,null,{"$f":"IF(Equipment!Q93=\"x\",Equipment!C93,\"\")","v":""},null,null,null,null,null,null,null,null,null,null,null,null,0,null,{"$f":"IF(AND($C$6=\"Yes\",$C$7=\"Yes\",$C$8=\"Yes\",E96<>\"\",L96>=2,N96>=36),Equipment!K93*102)","v":false},{"$f":"IF(AND($C$6=\"Yes\",$C$7=\"Yes\",$C$8=\"Yes\",E96<>\"\",L96>=2,N96>=36),Equipment!K93*0.0462)","v":false}]
[83,null,{"$f":"IF(Equipment!Q94=\"x\",Equipment!C94,\"\")","v":""},null,null,null,null,null,null,null,null,null,null,null,null,0,null,{"$f":"IF(AND($C$6=\"Yes\",$C$7=\"Yes\",$C$8=\"Yes\",E97<>\"\",L97>=2,N97>=36),Equipment!K94*102)","v":false},{"$f":"IF(AND($C$6=\"Yes\",$C$7=\"Yes\",$C$8=\"Yes\",E97<>\"\",L97>=2,N97>=36),Equipment!K94*0.0462)","v":false}]
[84,null,{"$f":"IF(Equipment!Q95=\"x\",Equipment!C95,\"\")","v":""},null,null,null,null,null,null,null,null,null,null,null,null,0,null,{"$f":"IF(AND($C$6=\"Yes\",$C$7=\"Yes\",$C$8=\"Yes\",E98<>\"\",L98>=2,N98>=36),Equipment!K95*102)","v":false},{"$f":"IF(AND($C$6=\"Yes\",$C$7=\"Yes\",$C$8=\"Yes\",E98<>\"\",L98>=2,N98>=36),Equipment!K95*0.0462)","v":false}]
[85,null,{"$f":"IF(Equipment!Q96=\"x\",Equipment!C96,\"\")","v":""},null,null,null,null,null,null,null,null,null,null,null,null,0,null,{"$f":"IF(AND($C$6=\"Yes\",$C$7=\"Yes\",$C$8=\"Yes\",E99<>\"\",L99>=2,N99>=36),Equipment!K96*102)","v":false},{"$f":"IF(AND($C$6=\"Yes\",$C$7=\"Yes\",$C$8=\"Yes\",E99<>\"\",L99>=2,N99>=36),Equipment!K96*0.0462)","v":false}]
[86,null,{"$f":"IF(Equipment!Q97=\"x\",Equipment!C97,\"\")","v":""},null,null,null,null,null,null,null,null,null,null,null,null,0,null,{"$f":"IF(AND($C$6=\"Yes\",$C$7=\"Yes\",$C$8=\"Yes\",E100<>\"\",L100>=2,N100>=36),Equipment!K97*102)","v":false},{"$f":"IF(AND($C$6=\"Yes\",$C$7=\"Yes\",$C$8=\"Yes\",E100<>\"\",L100>=2,N100>=36),Equipment!K97*0.0462)","v":false}]
[87,null,{"$f":"IF(Equipment!Q98=\"x\",Equipment!C98,\"\")","v":""},null,null,null,null,null,null,null,null,null,null,null,null,0,null,{"$f":"IF(AND($C$6=\"Yes\",$C$7=\"Yes\",$C$8=\"Yes\",E101<>\"\",L101>=2,N101>=36),Equipment!K98*102)","v":false},{"$f":"IF(AND($C$6=\"Yes\",$C$7=\"Yes\",$C$8=\"Yes\",E101<>\"\",L101>=2,N101>=36),Equipment!K98*0.0462)","v":false}]
[88,null,{"$f":"IF(Equipment!Q99=\"x\",Equipment!C99,\"\")","v":""},null,null,null,null,null,null,null,null,null,null,null,null,0,null,{"$f":"IF(AND($C$6=\"Yes\",$C$7=\"Yes\",$C$8=\"Yes\",E102<>\"\",L102>=2,N102>=36),Equipment!K99*102)","v":false},{"$f":"IF(AND($C$6=\"Yes\",$C$7=\"Yes\",$C$8=\"Yes\",E102<>\"\",L102>=2,N102>=36),Equipment!K99*0.0462)","v":false}]
[89,null,{"$f":"IF(Equipment!Q100=\"x\",Equipment!C100,\"\")","v":""},null,null,null,null,null,null,null,null,null,null,null,null,0,null,{"$f":"IF(AND($C$6=\"Yes\",$C$7=\"Yes\",$C$8=\"Yes\",E103<>\"\",L103>=2,N103>=36),Equipment!K100*102)","v":false},{"$f":"IF(AND($C$6=\"Yes\",$C$7=\"Yes\",$C$8=\"Yes\",E103<>\"\",L103>=2,N103>=36),Equipment!K100*0.0462)","v":false}]
[90,null,{"$f":"IF(Equipment!Q101=\"x\",Equipment!C101,\"\")","v":""},null,null,null,null,null,null,null,null,null,null,null,null,0,null,{"$f":"IF(AND($C$6=\"Yes\",$C$7=\"Yes\",$C$8=\"Yes\",E104<>\"\",L104>=2,N104>=36),Equipment!K101*102)","v":false},{"$f":"IF(AND($C$6=\"Yes\",$C$7=\"Yes\",$C$8=\"Yes\",E104<>\"\",L104>=2,N104>=36),Equipment!K101*0.0462)","v":false}]
[91,null,{"$f":"IF(Equipment!Q102=\"x\",Equipment!C102,\"\")","v":""},null,null,null,null,null,null,null,null,null,null,null,null,0,null,{"$f":"IF(AND($C$6=\"Yes\",$C$7=\"Yes\",$C$8=\"Yes\",E105<>\"\",L105>=2,N105>=36),Equipment!K102*102)","v":false},{"$f":"IF(AND($C$6=\"Yes\",$C$7=\"Yes\",$C$8=\"Yes\",E105<>\"\",L105>=2,N105>=36),Equipment!K102*0.0462)","v":false}]
[92,null,{"$f":"IF(Equipment!Q103=\"x\",Equipment!C103,\"\")","v":""},null,null,null,null,null,null,null,null,null,null,null,null,0,null,{"$f":"IF(AND($C$6=\"Yes\",$C$7=\"Yes\",$C$8=\"Yes\",E106<>\"\",L106>=2,N106>=36),Equipment!K103*102)","v":false},{"$f":"IF(AND($C$6=\"Yes\",$C$7=\"Yes\",$C$8=\"Yes\",E106<>\"\",L106>=2,N106>=36),Equipment!K103*0.0462)","v":false}]
[93,null,{"$f":"IF(Equipment!Q104=\"x\",Equipment!C104,\"\")","v":""},null,null,null,null,null,null,null,null,null,null,null,null,0,null,{"$f":"IF(AND($C$6=\"Yes\",$C$7=\"Yes\",$C$8=\"Yes\",E107<>\"\",L107>=2,N107>=36),Equipment!K104*102)","v":false},{"$f":"IF(AND($C$6=\"Yes\",$C$7=\"Yes\",$C$8=\"Yes\",E107<>\"\",L107>=2,N107>=36),Equipment!K104*0.0462)","v":false}]
[94,null,{"$f":"IF(Equipment!Q105=\"x\",Equipment!C105,\"\")","v":""},null,null,null,null,null,null,null,null,null,null,null,null,0,null,{"$f":"IF(AND($C$6=\"Yes\",$C$7=\"Yes\",$C$8=\"Yes\",E108<>\"\",L108>=2,N108>=36),Equipment!K105*102)","v":false},{"$f":"IF(AND($C$6=\"Yes\",$C$7=\"Yes\",$C$8=\"Yes\",E108<>\"\",L108>=2,N108>=36),Equipment!K105*0.0462)","v":false}]
[95,null,{"$f":"IF(Equipment!Q106=\"x\",Equipment!C106,\"\")","v":""},null,null,null,null,null,null,null,null,null,null,null,null,0,null,{"$f":"IF(AND($C$6=\"Yes\",$C$7=\"Yes\",$C$8=\"Yes\",E109<>\"\",L109>=2,N109>=36),Equipment!K106*102)","v":false},{"$f":"IF(AND($C$6=\"Yes\",$C$7=\"Yes\",$C$8=\"Yes\",E109<>\"\",L109>=2,N109>=36),Equipment!K106*0.0462)","v":false}]
[96,null,{"$f":"IF(Equipment!Q107=\"x\",Equipment!C107,\"\")","v":""},null,null,null,null,null,null,null,null,null,null,null,null,0,null,{"$f":"IF(AND($C$6=\"Yes\",$C$7=\"Yes\",$C$8=\"Yes\",E110<>\"\",L110>=2,N110>=36),Equipment!K107*102)","v":false},{"$f":"IF(AND($C$6=\"Yes\",$C$7=\"Yes\",$C$8=\"Yes\",E110<>\"\",L110>=2,N110>=36),Equipment!K107*0.0462)","v":false}]
[97,null,{"$f":"IF(Equipment!Q108=\"x\",Equipment!C108,\"\")","v":""},null,null,null,null,null,null,null,null,null,null,null,null,0,null,{"$f":"IF(AND($C$6=\"Yes\",$C$7=\"Yes\",$C$8=\"Yes\",E111<>\"\",L111>=2,N111>=36),Equipment!K108*102)","v":false},{"$f":"IF(AND($C$6=\"Yes\",$C$7=\"Yes\",$C$8=\"Yes\",E111<>\"\",L111>=2,N111>=36),Equipment!K108*0.0462)","v":false}]
[98,null,{"$f":"IF(Equipment!Q109=\"x\",Equipment!C109,\"\")","v":""},null,null,null,null,null,null,null,null,null,null,null,null,{"$f":"IF(AND($C$6=\"Yes\",$C$7=\"Yes\",$C$8=\"Yes\",L112>=2,N112>=36),MIN(E112*0.7,75),0)","v":0},null,{"$f":"IF(AND($C$6=\"Yes\",$C$7=\"Yes\",$C$8=\"Yes\",E112<>\"\",L112>=2,N112>=36),Equipment!K109*102)","v":false},{"$f":"IF(AND($C$6=\"Yes\",$C$7=\"Yes\",$C$8=\"Yes\",E112<>\"\",L112>=2,N112>=36),Equipment!K109*0.0462)","v":false}]
[99,null,{"$f":"IF(Equipment!Q110=\"x\",Equipment!C110,\"\")","v":""},null,null,null,null,null,null,null,null,null,null,null,null,0,null,{"$f":"IF(AND($C$6=\"Yes\",$C$7=\"Yes\",$C$8=\"Yes\",E113<>\"\",L113>=2,N113>=36),Equipment!K110*102)","v":false},{"$f":"IF(AND($C$6=\"Yes\",$C$7=\"Yes\",$C$8=\"Yes\",E113<>\"\",L113>=2,N113>=36),Equipment!K110*0.0462)","v":false}]
[100,null,{"$f":"IF(Equipment!Q111=\"x\",Equipment!C111,\"\")","v":""},null,null,null,null,null,null,null,null,null,null,null,null,0,null,{"$f":"IF(AND($C$6=\"Yes\",$C$7=\"Yes\",$C$8=\"Yes\",E114<>\"\",L114>=2,N114>=36),Equipment!K111*102)","v":false},{"$f":"IF(AND($C$6=\"Yes\",$C$7=\"Yes\",$C$8=\"Yes\",E114<>\"\",L114>=2,N114>=36),Equipment!K111*0.0462)","v":false}]
[101,null,{"$f":"IF(Equipment!Q112=\"x\",Equipment!C112,\"\")","v":""},null,null,null,null,null,null,null,null,null,null,null,null,0,null,{"$f":"IF(AND($C$6=\"Yes\",$C$7=\"Yes\",$C$8=\"Yes\",E115<>\"\",L115>=2,N115>=36),Equipment!K112*102)","v":false},{"$f":"IF(AND($C$6=\"Yes\",$C$7=\"Yes\",$C$8=\"Yes\",E115<>\"\",L115>=2,N115>=36),Equipment!K112*0.0462)","v":false}]
[102,null,{"$f":"IF(Equipment!Q113=\"x\",Equipment!C113,\"\")","v":""},null,null,null,null,null,null,null,null,null,null,null,null,0,null,{"$f":"IF(AND($C$6=\"Yes\",$C$7=\"Yes\",$C$8=\"Yes\",E116<>\"\",L116>=2,N116>=36),Equipment!K113*102)","v":false},{"$f":"IF(AND($C$6=\"Yes\",$C$7=\"Yes\",$C$8=\"Yes\",E116<>\"\",L116>=2,N116>=36),Equipment!K113*0.0462)","v":false}]
[103,null,{"$f":"IF(Equipment!Q114=\"x\",Equipment!C114,\"\")","v":""},null,null,null,null,null,null,null,null,null,null,null,null,0,null,{"$f":"IF(AND($C$6=\"Yes\",$C$7=\"Yes\",$C$8=\"Yes\",E117<>\"\",L117>=2,N117>=36),Equipment!K114*102)","v":false},{"$f":"IF(AND($C$6=\"Yes\",$C$7=\"Yes\",$C$8=\"Yes\",E117<>\"\",L117>=2,N117>=36),Equipment!K114*0.0462)","v":false}]
[104,null,{"$f":"IF(Equipment!Q115=\"x\",Equipment!C115,\"\")","v":""},null,null,null,null,null,null,null,null,null,null,null,null,0,null,{"$f":"IF(AND($C$6=\"Yes\",$C$7=\"Yes\",$C$8=\"Yes\",E118<>\"\",L118>=2,N118>=36),Equipment!K115*102)","v":false},{"$f":"IF(AND($C$6=\"Yes\",$C$7=\"Yes\",$C$8=\"Yes\",E118<>\"\",L118>=2,N118>=36),Equipment!K115*0.0462)","v":false}]
[105,null,{"$f":"IF(Equipment!Q116=\"x\",Equipment!C116,\"\")","v":""},null,null,null,null,null,null,null,null,null,null,null,null,0,null,{"$f":"IF(AND($C$6=\"Yes\",$C$7=\"Yes\",$C$8=\"Yes\",E119<>\"\",L119>=2,N119>=36),Equipment!K116*102)","v":false},{"$f":"IF(AND($C$6=\"Yes\",$C$7=\"Yes\",$C$8=\"Yes\",E119<>\"\",L119>=2,N119>=36),Equipment!K116*0.0462)","v":false}]
[106,null,{"$f":"IF(Equipment!Q117=\"x\",Equipment!C117,\"\")","v":""},null,null,null,null,null,null,null,null,null,null,null,null,0,null,{"$f":"IF(AND($C$6=\"Yes\",$C$7=\"Yes\",$C$8=\"Yes\",E120<>\"\",L120>=2,N120>=36),Equipment!K117*102)","v":false},{"$f":"IF(AND($C$6=\"Yes\",$C$7=\"Yes\",$C$8=\"Yes\",E120<>\"\",L120>=2,N120>=36),Equipment!K117*0.0462)","v":false}]
[107,null,{"$f":"IF(Equipment!Q118=\"x\",Equipment!C118,\"\")","v":""},null,null,null,null,null,null,null,null,null,null,null,null,0,null,{"$f":"IF(AND($C$6=\"Yes\",$C$7=\"Yes\",$C$8=\"Yes\",E121<>\"\",L121>=2,N121>=36),Equipment!K118*102)","v":false},{"$f":"IF(AND($C$6=\"Yes\",$C$7=\"Yes\",$C$8=\"Yes\",E121<>\"\",L121>=2,N121>=36),Equipment!K118*0.0462)","v":false}]
[108,null,{"$f":"IF(Equipment!Q119=\"x\",Equipment!C119,\"\")","v":""},null,null,null,null,null,null,null,null,null,null,null,null,0,null,{"$f":"IF(AND($C$6=\"Yes\",$C$7=\"Yes\",$C$8=\"Yes\",E122<>\"\",L122>=2,N122>=36),Equipment!K119*102)","v":false},{"$f":"IF(AND($C$6=\"Yes\",$C$7=\"Yes\",$C$8=\"Yes\",E122<>\"\",L122>=2,N122>=36),Equipment!K119*0.0462)","v":false}]
[109,null,{"$f":"IF(Equipment!Q120=\"x\",Equipment!C120,\"\")","v":""},null,null,null,null,null,null,null,null,null,null,null,null,0,null,{"$f":"IF(AND($C$6=\"Yes\",$C$7=\"Yes\",$C$8=\"Yes\",E123<>\"\",L123>=2,N123>=36),Equipment!K120*102)","v":false},{"$f":"IF(AND($C$6=\"Yes\",$C$7=\"Yes\",$C$8=\"Yes\",E123<>\"\",L123>=2,N123>=36),Equipment!K120*0.0462)","v":false}]
[110,null,{"$f":"IF(Equipment!Q121=\"x\",Equipment!C121,\"\")","v":""},null,null,null,null,null,null,null,null,null,null,null,null,0,null,{"$f":"IF(AND($C$6=\"Yes\",$C$7=\"Yes\",$C$8=\"Yes\",E124<>\"\",L124>=2,N124>=36),Equipment!K121*102)","v":false},{"$f":"IF(AND($C$6=\"Yes\",$C$7=\"Yes\",$C$8=\"Yes\",E124<>\"\",L124>=2,N124>=36),Equipment!K121*0.0462)","v":false}]
[111,null,{"$f":"IF(Equipment!Q122=\"x\",Equipment!C122,\"\")","v":""},null,null,null,null,null,null,null,null,null,null,null,null,0,null,{"$f":"IF(AND($C$6=\"Yes\",$C$7=\"Yes\",$C$8=\"Yes\",E125<>\"\",L125>=2,N125>=36),Equipment!K122*102)","v":false},{"$f":"IF(AND($C$6=\"Yes\",$C$7=\"Yes\",$C$8=\"Yes\",E125<>\"\",L125>=2,N125>=36),Equipment!K122*0.0462)","v":false}]
[112,null,{"$f":"IF(Equipment!Q123=\"x\",Equipment!C123,\"\")","v":""},null,null,null,null,null,null,null,null,null,null,null,null,0,null,{"$f":"IF(AND($C$6=\"Yes\",$C$7=\"Yes\",$C$8=\"Yes\",E126<>\"\",L126>=2,N126>=36),Equipment!K123*102)","v":false},{"$f":"IF(AND($C$6=\"Yes\",$C$7=\"Yes\",$C$8=\"Yes\",E126<>\"\",L126>=2,N126>=36),Equipment!K123*0.0462)","v":false}]
[113,null,{"$f":"IF(Equipment!Q124=\"x\",Equipment!C124,\"\")","v":""},null,null,null,null,null,null,null,null,null,null,null,null,0,null,{"$f":"IF(AND($C$6=\"Yes\",$C$7=\"Yes\",$C$8=\"Yes\",E127<>\"\",L127>=2,N127>=36),Equipment!K124*102)","v":false},{"$f":"IF(AND($C$6=\"Yes\",$C$7=\"Yes\",$C$8=\"Yes\",E127<>\"\",L127>=2,N127>=36),Equipment!K124*0.0462)","v":false}]
[114,null,{"$f":"IF(Equipment!Q125=\"x\",Equipment!C125,\"\")","v":""},null,null,null,null,null,null,null,null,null,null,null,null,0,null,{"$f":"IF(AND($C$6=\"Yes\",$C$7=\"Yes\",$C$8=\"Yes\",E128<>\"\",L128>=2,N128>=36),Equipment!K125*102)","v":false},{"$f":"IF(AND($C$6=\"Yes\",$C$7=\"Yes\",$C$8=\"Yes\",E128<>\"\",L128>=2,N128>=36),Equipment!K125*0.0462)","v":false}]
[115,null,{"$f":"IF(Equipment!Q126=\"x\",Equipment!C126,\"\")","v":""},null,null,null,null,null,null,null,null,null,null,null,null,0,null,{"$f":"IF(AND($C$6=\"Yes\",$C$7=\"Yes\",$C$8=\"Yes\",E129<>\"\",L129>=2,N129>=36),Equipment!K126*102)","v":false},{"$f":"IF(AND($C$6=\"Yes\",$C$7=\"Yes\",$C$8=\"Yes\",E129<>\"\",L129>=2,N129>=36),Equipment!K126*0.0462)","v":false}]
[116,null,{"$f":"IF(Equipment!Q127=\"x\",Equipment!C127,\"\")","v":""},null,null,null,null,null,null,null,null,null,null,null,null,0,null,{"$f":"IF(AND($C$6=\"Yes\",$C$7=\"Yes\",$C$8=\"Yes\",E130<>\"\",L130>=2,N130>=36),Equipment!K127*102)","v":false},{"$f":"IF(AND($C$6=\"Yes\",$C$7=\"Yes\",$C$8=\"Yes\",E130<>\"\",L130>=2,N130>=36),Equipment!K127*0.0462)","v":false}]
[117,null,{"$f":"IF(Equipment!Q128=\"x\",Equipment!C128,\"\")","v":""},null,null,null,null,null,null,null,null,null,null,null,null,0,null,{"$f":"IF(AND($C$6=\"Yes\",$C$7=\"Yes\",$C$8=\"Yes\",E131<>\"\",L131>=2,N131>=36),Equipment!K128*102)","v":false},{"$f":"IF(AND($C$6=\"Yes\",$C$7=\"Yes\",$C$8=\"Yes\",E131<>\"\",L131>=2,N131>=36),Equipment!K128*0.0462)","v":false}]
[118,null,{"$f":"IF(Equipment!Q129=\"x\",Equipment!C129,\"\")","v":""},null,null,null,null,null,null,null,null,null,null,null,null,0,null,{"$f":"IF(AND($C$6=\"Yes\",$C$7=\"Yes\",$C$8=\"Yes\",E132<>\"\",L132>=2,N132>=36),Equipment!K129*102)","v":false},{"$f":"IF(AND($C$6=\"Yes\",$C$7=\"Yes\",$C$8=\"Yes\",E132<>\"\",L132>=2,N132>=36),Equipment!K129*0.0462)","v":false}]
[119,null,{"$f":"IF(Equipment!Q130=\"x\",Equipment!C130,\"\")","v":""},null,null,null,null,null,null,null,null,null,null,null,null,0,null,{"$f":"IF(AND($C$6=\"Yes\",$C$7=\"Yes\",$C$8=\"Yes\",E133<>\"\",L133>=2,N133>=36),Equipment!K130*102)","v":false},{"$f":"IF(AND($C$6=\"Yes\",$C$7=\"Yes\",$C$8=\"Yes\",E133<>\"\",L133>=2,N133>=36),Equipment!K130*0.0462)","v":false}]
[120,null,{"$f":"IF(Equipment!Q131=\"x\",Equipment!C131,\"\")","v":""},null,null,null,null,null,null,null,null,null,null,null,null,0,null,{"$f":"IF(AND($C$6=\"Yes\",$C$7=\"Yes\",$C$8=\"Yes\",E134<>\"\",L134>=2,N134>=36),Equipment!K131*102)","v":false},{"$f":"IF(AND($C$6=\"Yes\",$C$7=\"Yes\",$C$8=\"Yes\",E134<>\"\",L134>=2,N134>=36),Equipment!K131*0.0462)","v":false}]
[121,null,{"$f":"IF(Equipment!Q132=\"x\",Equipment!C132,\"\")","v":""},null,null,null,null,null,null,null,null,null,null,null,null,0,null,{"$f":"IF(AND($C$6=\"Yes\",$C$7=\"Yes\",$C$8=\"Yes\",E135<>\"\",L135>=2,N135>=36),Equipment!K132*102)","v":false},{"$f":"IF(AND($C$6=\"Yes\",$C$7=\"Yes\",$C$8=\"Yes\",E135<>\"\",L135>=2,N135>=36),Equipment!K132*0.0462)","v":false}]
[122,null,{"$f":"IF(Equipment!Q133=\"x\",Equipment!C133,\"\")","v":""},null,null,null,null,null,null,null,null,null,null,null,null,0,null,{"$f":"IF(AND($C$6=\"Yes\",$C$7=\"Yes\",$C$8=\"Yes\",E136<>\"\",L136>=2,N136>=36),Equipment!K133*102)","v":false},{"$f":"IF(AND($C$6=\"Yes\",$C$7=\"Yes\",$C$8=\"Yes\",E136<>\"\",L136>=2,N136>=36),Equipment!K133*0.0462)","v":false}]
[123,null,{"$f":"IF(Equipment!Q134=\"x\",Equipment!C134,\"\")","v":""},null,null,null,null,null,null,null,null,null,null,null,null,0,null,{"$f":"IF(AND($C$6=\"Yes\",$C$7=\"Yes\",$C$8=\"Yes\",E137<>\"\",L137>=2,N137>=36),Equipment!K134*102)","v":false},{"$f":"IF(AND($C$6=\"Yes\",$C$7=\"Yes\",$C$8=\"Yes\",E137<>\"\",L137>=2,N137>=36),Equipment!K134*0.0462)","v":false}]
[124,null,{"$f":"IF(Equipment!Q135=\"x\",Equipment!C135,\"\")","v":""},null,null,null,null,null,null,null,null,null,null,null,null,0,null,{"$f":"IF(AND($C$6=\"Yes\",$C$7=\"Yes\",$C$8=\"Yes\",E138<>\"\",L138>=2,N138>=36),Equipment!K135*102)","v":false},{"$f":"IF(AND($C$6=\"Yes\",$C$7=\"Yes\",$C$8=\"Yes\",E138<>\"\",L138>=2,N138>=36),Equipment!K135*0.0462)","v":false}]
[125,null,{"$f":"IF(Equipment!Q136=\"x\",Equipment!C136,\"\")","v":""},null,null,null,null,null,null,null,null,null,null,null,null,0,null,{"$f":"IF(AND($C$6=\"Yes\",$C$7=\"Yes\",$C$8=\"Yes\",E139<>\"\",L139>=2,N139>=36),Equipment!K136*102)","v":false},{"$f":"IF(AND($C$6=\"Yes\",$C$7=\"Yes\",$C$8=\"Yes\",E139<>\"\",L139>=2,N139>=36),Equipment!K136*0.0462)","v":false}]
[126,null,{"$f":"IF(Equipment!Q137=\"x\",Equipment!C137,\"\")","v":""},null,null,null,null,null,null,null,null,null,null,null,null,0,null,{"$f":"IF(AND($C$6=\"Yes\",$C$7=\"Yes\",$C$8=\"Yes\",E140<>\"\",L140>=2,N140>=36),Equipment!K137*102)","v":false},{"$f":"IF(AND($C$6=\"Yes\",$C$7=\"Yes\",$C$8=\"Yes\",E140<>\"\",L140>=2,N140>=36),Equipment!K137*0.0462)","v":false}]
[127,null,{"$f":"IF(Equipment!Q138=\"x\",Equipment!C138,\"\")","v":""},null,null,null,null,null,null,null,null,null,null,null,null,0,null,{"$f":"IF(AND($C$6=\"Yes\",$C$7=\"Yes\",$C$8=\"Yes\",E141<>\"\",L141>=2,N141>=36),Equipment!K138*102)","v":false},{"$f":"IF(AND($C$6=\"Yes\",$C$7=\"Yes\",$C$8=\"Yes\",E141<>\"\",L141>=2,N141>=36),Equipment!K138*0.0462)","v":false}]
[128,null,{"$f":"IF(Equipment!Q139=\"x\",Equipment!C139,\"\")","v":""},null,null,null,null,null,null,null,null,null,null,null,null,0,null,{"$f":"IF(AND($C$6=\"Yes\",$C$7=\"Yes\",$C$8=\"Yes\",E142<>\"\",L142>=2,N142>=36),Equipment!K139*102)","v":false},{"$f":"IF(AND($C$6=\"Yes\",$C$7=\"Yes\",$C$8=\"Yes\",E142<>\"\",L142>=2,N142>=36),Equipment!K139*0.0462)","v":false}]
[129,null,{"$f":"IF(Equipment!Q140=\"x\",Equipment!C140,\"\")","v":""},null,null,null,null,null,null,null,null,null,null,null,null,0,null,{"$f":"IF(AND($C$6=\"Yes\",$C$7=\"Yes\",$C$8=\"Yes\",E143<>\"\",L143>=2,N143>=36),Equipment!K140*102)","v":false},{"$f":"IF(AND($C$6=\"Yes\",$C$7=\"Yes\",$C$8=\"Yes\",E143<>\"\",L143>=2,N143>=36),Equipment!K140*0.0462)","v":false}]
[130,null,{"$f":"IF(Equipment!Q141=\"x\",Equipment!C141,\"\")","v":""},null,null,null,null,null,null,null,null,null,null,null,null,{"$f":"IF(AND($C$6=\"Yes\",$C$7=\"Yes\",$C$8=\"Yes\",L144>=2,N144>=36),MIN(E144*0.7,75),0)","v":0},null,{"$f":"IF(AND($C$6=\"Yes\",$C$7=\"Yes\",$C$8=\"Yes\",E144<>\"\",L144>=2,N144>=36),Equipment!K141*102)","v":false},{"$f":"IF(AND($C$6=\"Yes\",$C$7=\"Yes\",$C$8=\"Yes\",E144<>\"\",L144>=2,N144>=36),Equipment!K141*0.0462)","v":false}]
[131,null,{"$f":"IF(Equipment!Q142=\"x\",Equipment!C142,\"\")","v":""},null,null,null,null,null,null,null,null,null,null,null,null,0,null,{"$f":"IF(AND($C$6=\"Yes\",$C$7=\"Yes\",$C$8=\"Yes\",E145<>\"\",L145>=2,N145>=36),Equipment!K142*102)","v":false},{"$f":"IF(AND($C$6=\"Yes\",$C$7=\"Yes\",$C$8=\"Yes\",E145<>\"\",L145>=2,N145>=36),Equipment!K142*0.0462)","v":false}]
[132,null,{"$f":"IF(Equipment!Q143=\"x\",Equipment!C143,\"\")","v":""},null,null,null,null,null,null,null,null,null,null,null,null,0,null,{"$f":"IF(AND($C$6=\"Yes\",$C$7=\"Yes\",$C$8=\"Yes\",E146<>\"\",L146>=2,N146>=36),Equipment!K143*102)","v":false},{"$f":"IF(AND($C$6=\"Yes\",$C$7=\"Yes\",$C$8=\"Yes\",E146<>\"\",L146>=2,N146>=36),Equipment!K143*0.0462)","v":false}]
[133,null,{"$f":"IF(Equipment!Q144=\"x\",Equipment!C144,\"\")","v":""},null,null,null,null,null,null,null,null,null,null,null,null,0,null,{"$f":"IF(AND($C$6=\"Yes\",$C$7=\"Yes\",$C$8=\"Yes\",E147<>\"\",L147>=2,N147>=36),Equipment!K144*102)","v":false},{"$f":"IF(AND($C$6=\"Yes\",$C$7=\"Yes\",$C$8=\"Yes\",E147<>\"\",L147>=2,N147>=36),Equipment!K144*0.0462)","v":false}]
[134,null,{"$f":"IF(Equipment!Q145=\"x\",Equipment!C145,\"\")","v":""},null,null,null,null,null,null,null,null,null,null,null,null,0,null,{"$f":"IF(AND($C$6=\"Yes\",$C$7=\"Yes\",$C$8=\"Yes\",E148<>\"\",L148>=2,N148>=36),Equipment!K145*102)","v":false},{"$f":"IF(AND($C$6=\"Yes\",$C$7=\"Yes\",$C$8=\"Yes\",E148<>\"\",L148>=2,N148>=36),Equipment!K145*0.0462)","v":false}]
[135,null,{"$f":"IF(Equipment!Q146=\"x\",Equipment!C146,\"\")","v":""},null,null,null,null,null,null,null,null,null,null,null,null,0,null,{"$f":"IF(AND($C$6=\"Yes\",$C$7=\"Yes\",$C$8=\"Yes\",E149<>\"\",L149>=2,N149>=36),Equipment!K146*102)","v":false},{"$f":"IF(AND($C$6=\"Yes\",$C$7=\"Yes\",$C$8=\"Yes\",E149<>\"\",L149>=2,N149>=36),Equipment!K146*0.0462)","v":false}]
[136,null,{"$f":"IF(Equipment!Q147=\"x\",Equipment!C147,\"\")","v":""},null,null,null,null,null,null,null,null,null,null,null,null,0,null,{"$f":"IF(AND($C$6=\"Yes\",$C$7=\"Yes\",$C$8=\"Yes\",E150<>\"\",L150>=2,N150>=36),Equipment!K147*102)","v":false},{"$f":"IF(AND($C$6=\"Yes\",$C$7=\"Yes\",$C$8=\"Yes\",E150<>\"\",L150>=2,N150>=36),Equipment!K147*0.0462)","v":false}]
[137,null,{"$f":"IF(Equipment!Q148=\"x\",Equipment!C148,\"\")","v":""},null,null,null,null,null,null,null,null,null,null,null,null,0,null,{"$f":"IF(AND($C$6=\"Yes\",$C$7=\"Yes\",$C$8=\"Yes\",E151<>\"\",L151>=2,N151>=36),Equipment!K148*102)","v":false},{"$f":"IF(AND($C$6=\"Yes\",$C$7=\"Yes\",$C$8=\"Yes\",E151<>\"\",L151>=2,N151>=36),Equipment!K148*0.0462)","v":false}]
[138,null,{"$f":"IF(Equipment!Q149=\"x\",Equipment!C149,\"\")","v":""},null,null,null,null,null,null,null,null,null,null,null,null,0,null,{"$f":"IF(AND($C$6=\"Yes\",$C$7=\"Yes\",$C$8=\"Yes\",E152<>\"\",L152>=2,N152>=36),Equipment!K149*102)","v":false},{"$f":"IF(AND($C$6=\"Yes\",$C$7=\"Yes\",$C$8=\"Yes\",E152<>\"\",L152>=2,N152>=36),Equipment!K149*0.0462)","v":false}]
[139,null,{"$f":"IF(Equipment!Q150=\"x\",Equipment!C150,\"\")","v":""},null,null,null,null,null,null,null,null,null,null,null,null,0,null,{"$f":"IF(AND($C$6=\"Yes\",$C$7=\"Yes\",$C$8=\"Yes\",E153<>\"\",L153>=2,N153>=36),Equipment!K150*102)","v":false},{"$f":"IF(AND($C$6=\"Yes\",$C$7=\"Yes\",$C$8=\"Yes\",E153<>\"\",L153>=2,N153>=36),Equipment!K150*0.0462)","v":false}]
[140,null,{"$f":"IF(Equipment!Q151=\"x\",Equipment!C151,\"\")","v":""},null,null,null,null,null,null,null,null,null,null,null,null,0,null,{"$f":"IF(AND($C$6=\"Yes\",$C$7=\"Yes\",$C$8=\"Yes\",E154<>\"\",L154>=2,N154>=36),Equipment!K151*102)","v":false},{"$f":"IF(AND($C$6=\"Yes\",$C$7=\"Yes\",$C$8=\"Yes\",E154<>\"\",L154>=2,N154>=36),Equipment!K151*0.0462)","v":false}]
[141,null,{"$f":"IF(Equipment!Q152=\"x\",Equipment!C152,\"\")","v":""},null,null,null,null,null,null,null,null,null,null,null,null,0,null,{"$f":"IF(AND($C$6=\"Yes\",$C$7=\"Yes\",$C$8=\"Yes\",E155<>\"\",L155>=2,N155>=36),Equipment!K152*102)","v":false},{"$f":"IF(AND($C$6=\"Yes\",$C$7=\"Yes\",$C$8=\"Yes\",E155<>\"\",L155>=2,N155>=36),Equipment!K152*0.0462)","v":false}]
[142,null,{"$f":"IF(Equipment!Q153=\"x\",Equipment!C153,\"\")","v":""},null,null,null,null,null,null,null,null,null,null,null,null,0,null,{"$f":"IF(AND($C$6=\"Yes\",$C$7=\"Yes\",$C$8=\"Yes\",E156<>\"\",L156>=2,N156>=36),Equipment!K153*102)","v":false},{"$f":"IF(AND($C$6=\"Yes\",$C$7=\"Yes\",$C$8=\"Yes\",E156<>\"\",L156>=2,N156>=36),Equipment!K153*0.0462)","v":false}]
[143,null,{"$f":"IF(Equipment!Q154=\"x\",Equipment!C154,\"\")","v":""},null,null,null,null,null,null,null,null,null,null,null,null,0,null,{"$f":"IF(AND($C$6=\"Yes\",$C$7=\"Yes\",$C$8=\"Yes\",E157<>\"\",L157>=2,N157>=36),Equipment!K154*102)","v":false},{"$f":"IF(AND($C$6=\"Yes\",$C$7=\"Yes\",$C$8=\"Yes\",E157<>\"\",L157>=2,N157>=36),Equipment!K154*0.0462)","v":false}]
[144,null,{"$f":"IF(Equipment!Q155=\"x\",Equipment!C155,\"\")","v":""},null,null,null,null,null,null,null,null,null,null,null,null,0,null,{"$f":"IF(AND($C$6=\"Yes\",$C$7=\"Yes\",$C$8=\"Yes\",E158<>\"\",L158>=2,N158>=36),Equipment!K155*102)","v":false},{"$f":"IF(AND($C$6=\"Yes\",$C$7=\"Yes\",$C$8=\"Yes\",E158<>\"\",L158>=2,N158>=36),Equipment!K155*0.0462)","v":false}]
[145,null,{"$f":"IF(Equipment!Q156=\"x\",Equipment!C156,\"\")","v":""},null,null,null,null,null,null,null,null,null,null,null,null,0,null,{"$f":"IF(AND($C$6=\"Yes\",$C$7=\"Yes\",$C$8=\"Yes\",E159<>\"\",L159>=2,N159>=36),Equipment!K156*102)","v":false},{"$f":"IF(AND($C$6=\"Yes\",$C$7=\"Yes\",$C$8=\"Yes\",E159<>\"\",L159>=2,N159>=36),Equipment!K156*0.0462)","v":false}]
[146,null,{"$f":"IF(Equipment!Q157=\"x\",Equipment!C157,\"\")","v":""},null,null,null,null,null,null,null,null,null,null,null,null,0,null,{"$f":"IF(AND($C$6=\"Yes\",$C$7=\"Yes\",$C$8=\"Yes\",E160<>\"\",L160>=2,N160>=36),Equipment!K157*102)","v":false},{"$f":"IF(AND($C$6=\"Yes\",$C$7=\"Yes\",$C$8=\"Yes\",E160<>\"\",L160>=2,N160>=36),Equipment!K157*0.0462)","v":false}]
[147,null,{"$f":"IF(Equipment!Q158=\"x\",Equipment!C158,\"\")","v":""},null,null,null,null,null,null,null,null,null,null,null,null,0,null,{"$f":"IF(AND($C$6=\"Yes\",$C$7=\"Yes\",$C$8=\"Yes\",E161<>\"\",L161>=2,N161>=36),Equipment!K158*102)","v":false},{"$f":"IF(AND($C$6=\"Yes\",$C$7=\"Yes\",$C$8=\"Yes\",E161<>\"\",L161>=2,N161>=36),Equipment!K158*0.0462)","v":false}]
[148,null,{"$f":"IF(Equipment!Q159=\"x\",Equipment!C159,\"\")","v":""},null,null,null,null,null,null,null,null,null,null,null,null,0,null,{"$f":"IF(AND($C$6=\"Yes\",$C$7=\"Yes\",$C$8=\"Yes\",E162<>\"\",L162>=2,N162>=36),Equipment!K159*102)","v":false},{"$f":"IF(AND($C$6=\"Yes\",$C$7=\"Yes\",$C$8=\"Yes\",E162<>\"\",L162>=2,N162>=36),Equipment!K159*0.0462)","v":false}]
[149,null,{"$f":"IF(Equipment!Q160=\"x\",Equipment!C160,\"\")","v":""},null,null,null,null,null,null,null,null,null,null,null,null,0,null,{"$f":"IF(AND($C$6=\"Yes\",$C$7=\"Yes\",$C$8=\"Yes\",E163<>\"\",L163>=2,N163>=36),Equipment!K160*102)","v":false},{"$f":"IF(AND($C$6=\"Yes\",$C$7=\"Yes\",$C$8=\"Yes\",E163<>\"\",L163>=2,N163>=36),Equipment!K160*0.0462)","v":false}]
[150,null,{"$f":"IF(Equipment!Q161=\"x\",Equipment!C161,\"\")","v":""},null,null,null,null,null,null,null,null,null,null,null,null,0,null,{"$f":"IF(AND($C$6=\"Yes\",$C$7=\"Yes\",$C$8=\"Yes\",E164<>\"\",L164>=2,N164>=36),Equipment!K161*102)","v":false},{"$f":"IF(AND($C$6=\"Yes\",$C$7=\"Yes\",$C$8=\"Yes\",E164<>\"\",L164>=2,N164>=36),Equipment!K161*0.0462)","v":false}]
[151,null,{"$f":"IF(Equipment!Q162=\"x\",Equipment!C162,\"\")","v":""},null,null,null,null,null,null,null,null,null,null,null,null,0,null,{"$f":"IF(AND($C$6=\"Yes\",$C$7=\"Yes\",$C$8=\"Yes\",E165<>\"\",L165>=2,N165>=36),Equipment!K162*102)","v":false},{"$f":"IF(AND($C$6=\"Yes\",$C$7=\"Yes\",$C$8=\"Yes\",E165<>\"\",L165>=2,N165>=36),Equipment!K162*0.0462)","v":false}]
[152,null,{"$f":"IF(Equipment!Q163=\"x\",Equipment!C163,\"\")","v":""},null,null,null,null,null,null,null,null,null,null,null,null,0,null,{"$f":"IF(AND($C$6=\"Yes\",$C$7=\"Yes\",$C$8=\"Yes\",E166<>\"\",L166>=2,N166>=36),Equipment!K163*102)","v":false},{"$f":"IF(AND($C$6=\"Yes\",$C$7=\"Yes\",$C$8=\"Yes\",E166<>\"\",L166>=2,N166>=36),Equipment!K163*0.0462)","v":false}]
[153,null,{"$f":"IF(Equipment!Q164=\"x\",Equipment!C164,\"\")","v":""},null,null,null,null,null,null,null,null,null,null,null,null,0,null,{"$f":"IF(AND($C$6=\"Yes\",$C$7=\"Yes\",$C$8=\"Yes\",E167<>\"\",L167>=2,N167>=36),Equipment!K164*102)","v":false},{"$f":"IF(AND($C$6=\"Yes\",$C$7=\"Yes\",$C$8=\"Yes\",E167<>\"\",L167>=2,N167>=36),Equipment!K164*0.0462)","v":false}]
[154,null,{"$f":"IF(Equipment!Q165=\"x\",Equipment!C165,\"\")","v":""},null,null,null,null,null,null,null,null,null,null,null,null,0,null,{"$f":"IF(AND($C$6=\"Yes\",$C$7=\"Yes\",$C$8=\"Yes\",E168<>\"\",L168>=2,N168>=36),Equipment!K165*102)","v":false},{"$f":"IF(AND($C$6=\"Yes\",$C$7=\"Yes\",$C$8=\"Yes\",E168<>\"\",L168>=2,N168>=36),Equipment!K165*0.0462)","v":false}]
[155,null,{"$f":"IF(Equipment!Q166=\"x\",Equipment!C166,\"\")","v":""},null,null,null,null,null,null,null,null,null,null,null,null,0,null,{"$f":"IF(AND($C$6=\"Yes\",$C$7=\"Yes\",$C$8=\"Yes\",E169<>\"\",L169>=2,N169>=36),Equipment!K166*102)","v":false},{"$f":"IF(AND($C$6=\"Yes\",$C$7=\"Yes\",$C$8=\"Yes\",E169<>\"\",L169>=2,N169>=36),Equipment!K166*0.0462)","v":false}]
[156,null,{"$f":"IF(Equipment!Q167=\"x\",Equipment!C167,\"\")","v":""},null,null,null,null,null,null,null,null,null,null,null,null,0,null,{"$f":"IF(AND($C$6=\"Yes\",$C$7=\"Yes\",$C$8=\"Yes\",E170<>\"\",L170>=2,N170>=36),Equipment!K167*102)","v":false},{"$f":"IF(AND($C$6=\"Yes\",$C$7=\"Yes\",$C$8=\"Yes\",E170<>\"\",L170>=2,N170>=36),Equipment!K167*0.0462)","v":false}]
[157,null,{"$f":"IF(Equipment!Q168=\"x\",Equipment!C168,\"\")","v":""},null,null,null,null,null,null,null,null,null,null,null,null,0,null,{"$f":"IF(AND($C$6=\"Yes\",$C$7=\"Yes\",$C$8=\"Yes\",E171<>\"\",L171>=2,N171>=36),Equipment!K168*102)","v":false},{"$f":"IF(AND($C$6=\"Yes\",$C$7=\"Yes\",$C$8=\"Yes\",E171<>\"\",L171>=2,N171>=36),Equipment!K168*0.0462)","v":false}]
[158,null,{"$f":"IF(Equipment!Q169=\"x\",Equipment!C169,\"\")","v":""},null,null,null,null,null,null,null,null,null,null,null,null,0,null,{"$f":"IF(AND($C$6=\"Yes\",$C$7=\"Yes\",$C$8=\"Yes\",E172<>\"\",L172>=2,N172>=36),Equipment!K169*102)","v":false},{"$f":"IF(AND($C$6=\"Yes\",$C$7=\"Yes\",$C$8=\"Yes\",E172<>\"\",L172>=2,N172>=36),Equipment!K169*0.0462)","v":false}]
[159,null,{"$f":"IF(Equipment!Q170=\"x\",Equipment!C170,\"\")","v":""},null,null,null,null,null,null,null,null,null,null,null,null,0,null,{"$f":"IF(AND($C$6=\"Yes\",$C$7=\"Yes\",$C$8=\"Yes\",E173<>\"\",L173>=2,N173>=36),Equipment!K170*102)","v":false},{"$f":"IF(AND($C$6=\"Yes\",$C$7=\"Yes\",$C$8=\"Yes\",E173<>\"\",L173>=2,N173>=36),Equipment!K170*0.0462)","v":false}]
[160,null,{"$f":"IF(Equipment!Q171=\"x\",Equipment!C171,\"\")","v":""},null,null,null,null,null,null,null,null,null,null,null,null,0,null,{"$f":"IF(AND($C$6=\"Yes\",$C$7=\"Yes\",$C$8=\"Yes\",E174<>\"\",L174>=2,N174>=36),Equipment!K171*102)","v":false},{"$f":"IF(AND($C$6=\"Yes\",$C$7=\"Yes\",$C$8=\"Yes\",E174<>\"\",L174>=2,N174>=36),Equipment!K171*0.0462)","v":false}]
[161,null,{"$f":"IF(Equipment!Q172=\"x\",Equipment!C172,\"\")","v":""},null,null,null,null,null,null,null,null,null,null,null,null,0,null,{"$f":"IF(AND($C$6=\"Yes\",$C$7=\"Yes\",$C$8=\"Yes\",E175<>\"\",L175>=2,N175>=36),Equipment!K172*102)","v":false},{"$f":"IF(AND($C$6=\"Yes\",$C$7=\"Yes\",$C$8=\"Yes\",E175<>\"\",L175>=2,N175>=36),Equipment!K172*0.0462)","v":false}]
[162,null,{"$f":"IF(Equipment!Q173=\"x\",Equipment!C173,\"\")","v":""},null,null,null,null,null,null,null,null,null,null,null,null,{"$f":"IF(AND($C$6=\"Yes\",$C$7=\"Yes\",$C$8=\"Yes\",L176>=2,N176>=36),MIN(E176*0.7,75),0)","v":0},null,{"$f":"IF(AND($C$6=\"Yes\",$C$7=\"Yes\",$C$8=\"Yes\",E176<>\"\",L176>=2,N176>=36),Equipment!K173*102)","v":false},{"$f":"IF(AND($C$6=\"Yes\",$C$7=\"Yes\",$C$8=\"Yes\",E176<>\"\",L176>=2,N176>=36),Equipment!K173*0.0462)","v":false}]
[163,null,{"$f":"IF(Equipment!Q174=\"x\",Equipment!C174,\"\")","v":""},null,null,null,null,null,null,null,null,null,null,null,null,0,null,{"$f":"IF(AND($C$6=\"Yes\",$C$7=\"Yes\",$C$8=\"Yes\",E177<>\"\",L177>=2,N177>=36),Equipment!K174*102)","v":false},{"$f":"IF(AND($C$6=\"Yes\",$C$7=\"Yes\",$C$8=\"Yes\",E177<>\"\",L177>=2,N177>=36),Equipment!K174*0.0462)","v":false}]
[164,null,{"$f":"IF(Equipment!Q175=\"x\",Equipment!C175,\"\")","v":""},null,null,null,null,null,null,null,null,null,null,null,null,0,null,{"$f":"IF(AND($C$6=\"Yes\",$C$7=\"Yes\",$C$8=\"Yes\",E178<>\"\",L178>=2,N178>=36),Equipment!K175*102)","v":false},{"$f":"IF(AND($C$6=\"Yes\",$C$7=\"Yes\",$C$8=\"Yes\",E178<>\"\",L178>=2,N178>=36),Equipment!K175*0.0462)","v":false}]
[165,null,{"$f":"IF(Equipment!Q176=\"x\",Equipment!C176,\"\")","v":""},null,null,null,null,null,null,null,null,null,null,null,null,0,null,{"$f":"IF(AND($C$6=\"Yes\",$C$7=\"Yes\",$C$8=\"Yes\",E179<>\"\",L179>=2,N179>=36),Equipment!K176*102)","v":false},{"$f":"IF(AND($C$6=\"Yes\",$C$7=\"Yes\",$C$8=\"Yes\",E179<>\"\",L179>=2,N179>=36),Equipment!K176*0.0462)","v":false}]
[166,null,{"$f":"IF(Equipment!Q177=\"x\",Equipment!C177,\"\")","v":""},null,null,null,null,null,null,null,null,null,null,null,null,0,null,{"$f":"IF(AND($C$6=\"Yes\",$C$7=\"Yes\",$C$8=\"Yes\",E180<>\"\",L180>=2,N180>=36),Equipment!K177*102)","v":false},{"$f":"IF(AND($C$6=\"Yes\",$C$7=\"Yes\",$C$8=\"Yes\",E180<>\"\",L180>=2,N180>=36),Equipment!K177*0.0462)","v":false}]
[167,null,{"$f":"IF(Equipment!Q178=\"x\",Equipment!C178,\"\")","v":""},null,null,null,null,null,null,null,null,null,null,null,null,0,null,{"$f":"IF(AND($C$6=\"Yes\",$C$7=\"Yes\",$C$8=\"Yes\",E181<>\"\",L181>=2,N181>=36),Equipment!K178*102)","v":false},{"$f":"IF(AND($C$6=\"Yes\",$C$7=\"Yes\",$C$8=\"Yes\",E181<>\"\",L181>=2,N181>=36),Equipment!K178*0.0462)","v":false}]
[168,null,{"$f":"IF(Equipment!Q179=\"x\",Equipment!C179,\"\")","v":""},null,null,null,null,null,null,null,null,null,null,null,null,0,null,{"$f":"IF(AND($C$6=\"Yes\",$C$7=\"Yes\",$C$8=\"Yes\",E182<>\"\",L182>=2,N182>=36),Equipment!K179*102)","v":false},{"$f":"IF(AND($C$6=\"Yes\",$C$7=\"Yes\",$C$8=\"Yes\",E182<>\"\",L182>=2,N182>=36),Equipment!K179*0.0462)","v":false}]
[169,null,{"$f":"IF(Equipment!Q180=\"x\",Equipment!C180,\"\")","v":""},null,null,null,null,null,null,null,null,null,null,null,null,0,null,{"$f":"IF(AND($C$6=\"Yes\",$C$7=\"Yes\",$C$8=\"Yes\",E183<>\"\",L183>=2,N183>=36),Equipment!K180*102)","v":false},{"$f":"IF(AND($C$6=\"Yes\",$C$7=\"Yes\",$C$8=\"Yes\",E183<>\"\",L183>=2,N183>=36),Equipment!K180*0.0462)","v":false}]
[170,null,{"$f":"IF(Equipment!Q181=\"x\",Equipment!C181,\"\")","v":""},null,null,null,null,null,null,null,null,null,null,null,null,0,null,{"$f":"IF(AND($C$6=\"Yes\",$C$7=\"Yes\",$C$8=\"Yes\",E184<>\"\",L184>=2,N184>=36),Equipment!K181*102)","v":false},{"$f":"IF(AND($C$6=\"Yes\",$C$7=\"Yes\",$C$8=\"Yes\",E184<>\"\",L184>=2,N184>=36),Equipment!K181*0.0462)","v":false}]
[171,null,{"$f":"IF(Equipment!Q182=\"x\",Equipment!C182,\"\")","v":""},null,null,null,null,null,null,null,null,null,null,null,null,0,null,{"$f":"IF(AND($C$6=\"Yes\",$C$7=\"Yes\",$C$8=\"Yes\",E185<>\"\",L185>=2,N185>=36),Equipment!K182*102)","v":false},{"$f":"IF(AND($C$6=\"Yes\",$C$7=\"Yes\",$C$8=\"Yes\",E185<>\"\",L185>=2,N185>=36),Equipment!K182*0.0462)","v":false}]
[172,null,{"$f":"IF(Equipment!Q183=\"x\",Equipment!C183,\"\")","v":""},null,null,null,null,null,null,null,null,null,null,null,null,0,null,{"$f":"IF(AND($C$6=\"Yes\",$C$7=\"Yes\",$C$8=\"Yes\",E186<>\"\",L186>=2,N186>=36),Equipment!K183*102)","v":false},{"$f":"IF(AND($C$6=\"Yes\",$C$7=\"Yes\",$C$8=\"Yes\",E186<>\"\",L186>=2,N186>=36),Equipment!K183*0.0462)","v":false}]
[173,null,{"$f":"IF(Equipment!Q184=\"x\",Equipment!C184,\"\")","v":""},null,null,null,null,null,null,null,null,null,null,null,null,0,null,{"$f":"IF(AND($C$6=\"Yes\",$C$7=\"Yes\",$C$8=\"Yes\",E187<>\"\",L187>=2,N187>=36),Equipment!K184*102)","v":false},{"$f":"IF(AND($C$6=\"Yes\",$C$7=\"Yes\",$C$8=\"Yes\",E187<>\"\",L187>=2,N187>=36),Equipment!K184*0.0462)","v":false}]
[174,null,{"$f":"IF(Equipment!Q185=\"x\",Equipment!C185,\"\")","v":""},null,null,null,null,null,null,null,null,null,null,null,null,0,null,{"$f":"IF(AND($C$6=\"Yes\",$C$7=\"Yes\",$C$8=\"Yes\",E188<>\"\",L188>=2,N188>=36),Equipment!K185*102)","v":false},{"$f":"IF(AND($C$6=\"Yes\",$C$7=\"Yes\",$C$8=\"Yes\",E188<>\"\",L188>=2,N188>=36),Equipment!K185*0.0462)","v":false}]
[175,null,{"$f":"IF(Equipment!Q186=\"x\",Equipment!C186,\"\")","v":""},null,null,null,null,null,null,null,null,null,null,null,null,0,null,{"$f":"IF(AND($C$6=\"Yes\",$C$7=\"Yes\",$C$8=\"Yes\",E189<>\"\",L189>=2,N189>=36),Equipment!K186*102)","v":false},{"$f":"IF(AND($C$6=\"Yes\",$C$7=\"Yes\",$C$8=\"Yes\",E189<>\"\",L189>=2,N189>=36),Equipment!K186*0.0462)","v":false}]
[176,null,{"$f":"IF(Equipment!Q187=\"x\",Equipment!C187,\"\")","v":""},null,null,null,null,null,null,null,null,null,null,null,null,0,null,{"$f":"IF(AND($C$6=\"Yes\",$C$7=\"Yes\",$C$8=\"Yes\",E190<>\"\",L190>=2,N190>=36),Equipment!K187*102)","v":false},{"$f":"IF(AND($C$6=\"Yes\",$C$7=\"Yes\",$C$8=\"Yes\",E190<>\"\",L190>=2,N190>=36),Equipment!K187*0.0462)","v":false}]
[177,null,{"$f":"IF(Equipment!Q188=\"x\",Equipment!C188,\"\")","v":""},null,null,null,null,null,null,null,null,null,null,null,null,0,null,{"$f":"IF(AND($C$6=\"Yes\",$C$7=\"Yes\",$C$8=\"Yes\",E191<>\"\",L191>=2,N191>=36),Equipment!K188*102)","v":false},{"$f":"IF(AND($C$6=\"Yes\",$C$7=\"Yes\",$C$8=\"Yes\",E191<>\"\",L191>=2,N191>=36),Equipment!K188*0.0462)","v":false}]
[178,null,{"$f":"IF(Equipment!Q189=\"x\",Equipment!C189,\"\")","v":""},null,null,null,null,null,null,null,null,null,null,null,null,0,null,{"$f":"IF(AND($C$6=\"Yes\",$C$7=\"Yes\",$C$8=\"Yes\",E192<>\"\",L192>=2,N192>=36),Equipment!K189*102)","v":false},{"$f":"IF(AND($C$6=\"Yes\",$C$7=\"Yes\",$C$8=\"Yes\",E192<>\"\",L192>=2,N192>=36),Equipment!K189*0.0462)","v":false}]
[179,null,{"$f":"IF(Equipment!Q190=\"x\",Equipment!C190,\"\")","v":""},null,null,null,null,null,null,null,null,null,null,null,null,0,null,{"$f":"IF(AND($C$6=\"Yes\",$C$7=\"Yes\",$C$8=\"Yes\",E193<>\"\",L193>=2,N193>=36),Equipment!K190*102)","v":false},{"$f":"IF(AND($C$6=\"Yes\",$C$7=\"Yes\",$C$8=\"Yes\",E193<>\"\",L193>=2,N193>=36),Equipment!K190*0.0462)","v":false}]
[180,null,{"$f":"IF(Equipment!Q191=\"x\",Equipment!C191,\"\")","v":""},null,null,null,null,null,null,null,null,null,null,null,null,0,null,{"$f":"IF(AND($C$6=\"Yes\",$C$7=\"Yes\",$C$8=\"Yes\",E194<>\"\",L194>=2,N194>=36),Equipment!K191*102)","v":false},{"$f":"IF(AND($C$6=\"Yes\",$C$7=\"Yes\",$C$8=\"Yes\",E194<>\"\",L194>=2,N194>=36),Equipment!K191*0.0462)","v":false}]
[181,null,{"$f":"IF(Equipment!Q192=\"x\",Equipment!C192,\"\")","v":""},null,null,null,null,null,null,null,null,null,null,null,null,0,null,{"$f":"IF(AND($C$6=\"Yes\",$C$7=\"Yes\",$C$8=\"Yes\",E195<>\"\",L195>=2,N195>=36),Equipment!K192*102)","v":false},{"$f":"IF(AND($C$6=\"Yes\",$C$7=\"Yes\",$C$8=\"Yes\",E195<>\"\",L195>=2,N195>=36),Equipment!K192*0.0462)","v":false}]
[182,null,{"$f":"IF(Equipment!Q193=\"x\",Equipment!C193,\"\")","v":""},null,null,null,null,null,null,null,null,null,null,null,null,0,null,{"$f":"IF(AND($C$6=\"Yes\",$C$7=\"Yes\",$C$8=\"Yes\",E196<>\"\",L196>=2,N196>=36),Equipment!K193*102)","v":false},{"$f":"IF(AND($C$6=\"Yes\",$C$7=\"Yes\",$C$8=\"Yes\",E196<>\"\",L196>=2,N196>=36),Equipment!K193*0.0462)","v":false}]
[183,null,{"$f":"IF(Equipment!Q194=\"x\",Equipment!C194,\"\")","v":""},null,null,null,null,null,null,null,null,null,null,null,null,0,null,{"$f":"IF(AND($C$6=\"Yes\",$C$7=\"Yes\",$C$8=\"Yes\",E197<>\"\",L197>=2,N197>=36),Equipment!K194*102)","v":false},{"$f":"IF(AND($C$6=\"Yes\",$C$7=\"Yes\",$C$8=\"Yes\",E197<>\"\",L197>=2,N197>=36),Equipment!K194*0.0462)","v":false}]
[184,null,{"$f":"IF(Equipment!Q195=\"x\",Equipment!C195,\"\")","v":""},null,null,null,null,null,null,null,null,null,null,null,null,0,null,{"$f":"IF(AND($C$6=\"Yes\",$C$7=\"Yes\",$C$8=\"Yes\",E198<>\"\",L198>=2,N198>=36),Equipment!K195*102)","v":false},{"$f":"IF(AND($C$6=\"Yes\",$C$7=\"Yes\",$C$8=\"Yes\",E198<>\"\",L198>=2,N198>=36),Equipment!K195*0.0462)","v":false}]
[185,null,{"$f":"IF(Equipment!Q196=\"x\",Equipment!C196,\"\")","v":""},null,null,null,null,null,null,null,null,null,null,null,null,0,null,{"$f":"IF(AND($C$6=\"Yes\",$C$7=\"Yes\",$C$8=\"Yes\",E199<>\"\",L199>=2,N199>=36),Equipment!K196*102)","v":false},{"$f":"IF(AND($C$6=\"Yes\",$C$7=\"Yes\",$C$8=\"Yes\",E199<>\"\",L199>=2,N199>=36),Equipment!K196*0.0462)","v":false}]
[186,null,{"$f":"IF(Equipment!Q197=\"x\",Equipment!C197,\"\")","v":""},null,null,null,null,null,null,null,null,null,null,null,null,0,null,{"$f":"IF(AND($C$6=\"Yes\",$C$7=\"Yes\",$C$8=\"Yes\",E200<>\"\",L200>=2,N200>=36),Equipment!K197*102)","v":false},{"$f":"IF(AND($C$6=\"Yes\",$C$7=\"Yes\",$C$8=\"Yes\",E200<>\"\",L200>=2,N200>=36),Equipment!K197*0.0462)","v":false}]
[187,null,{"$f":"IF(Equipment!Q198=\"x\",Equipment!C198,\"\")","v":""},null,null,null,null,null,null,null,null,null,null,null,null,0,null,{"$f":"IF(AND($C$6=\"Yes\",$C$7=\"Yes\",$C$8=\"Yes\",E201<>\"\",L201>=2,N201>=36),Equipment!K198*102)","v":false},{"$f":"IF(AND($C$6=\"Yes\",$C$7=\"Yes\",$C$8=\"Yes\",E201<>\"\",L201>=2,N201>=36),Equipment!K198*0.0462)","v":false}]
[188,null,{"$f":"IF(Equipment!Q199=\"x\",Equipment!C199,\"\")","v":""},null,null,null,null,null,null,null,null,null,null,null,null,0,null,{"$f":"IF(AND($C$6=\"Yes\",$C$7=\"Yes\",$C$8=\"Yes\",E202<>\"\",L202>=2,N202>=36),Equipment!K199*102)","v":false},{"$f":"IF(AND($C$6=\"Yes\",$C$7=\"Yes\",$C$8=\"Yes\",E202<>\"\",L202>=2,N202>=36),Equipment!K199*0.0462)","v":false}]
[189,null,{"$f":"IF(Equipment!Q200=\"x\",Equipment!C200,\"\")","v":""},null,null,null,null,null,null,null,null,null,null,null,null,0,null,{"$f":"IF(AND($C$6=\"Yes\",$C$7=\"Yes\",$C$8=\"Yes\",E203<>\"\",L203>=2,N203>=36),Equipment!K200*102)","v":false},{"$f":"IF(AND($C$6=\"Yes\",$C$7=\"Yes\",$C$8=\"Yes\",E203<>\"\",L203>=2,N203>=36),Equipment!K200*0.0462)","v":false}]
[190,null,{"$f":"IF(Equipment!Q201=\"x\",Equipment!C201,\"\")","v":""},null,null,null,null,null,null,null,null,null,null,null,null,0,null,{"$f":"IF(AND($C$6=\"Yes\",$C$7=\"Yes\",$C$8=\"Yes\",E204<>\"\",L204>=2,N204>=36),Equipment!K201*102)","v":false},{"$f":"IF(AND($C$6=\"Yes\",$C$7=\"Yes\",$C$8=\"Yes\",E204<>\"\",L204>=2,N204>=36),Equipment!K201*0.0462)","v":false}]
[191,null,{"$f":"IF(Equipment!Q202=\"x\",Equipment!C202,\"\")","v":""},null,null,null,null,null,null,null,null,null,null,null,null,0,null,{"$f":"IF(AND($C$6=\"Yes\",$C$7=\"Yes\",$C$8=\"Yes\",E205<>\"\",L205>=2,N205>=36),Equipment!K202*102)","v":false},{"$f":"IF(AND($C$6=\"Yes\",$C$7=\"Yes\",$C$8=\"Yes\",E205<>\"\",L205>=2,N205>=36),Equipment!K202*0.0462)","v":false}]
[192,null,{"$f":"IF(Equipment!Q203=\"x\",Equipment!C203,\"\")","v":""},null,null,null,null,null,null,null,null,null,null,null,null,0,null,{"$f":"IF(AND($C$6=\"Yes\",$C$7=\"Yes\",$C$8=\"Yes\",E206<>\"\",L206>=2,N206>=36),Equipment!K203*102)","v":false},{"$f":"IF(AND($C$6=\"Yes\",$C$7=\"Yes\",$C$8=\"Yes\",E206<>\"\",L206>=2,N206>=36),Equipment!K203*0.0462)","v":false}]
[193,null,{"$f":"IF(Equipment!Q204=\"x\",Equipment!C204,\"\")","v":""},null,null,null,null,null,null,null,null,null,null,null,null,0,null,{"$f":"IF(AND($C$6=\"Yes\",$C$7=\"Yes\",$C$8=\"Yes\",E207<>\"\",L207>=2,N207>=36),Equipment!K204*102)","v":false},{"$f":"IF(AND($C$6=\"Yes\",$C$7=\"Yes\",$C$8=\"Yes\",E207<>\"\",L207>=2,N207>=36),Equipment!K204*0.0462)","v":false}]
[194,null,{"$f":"IF(Equipment!Q205=\"x\",Equipment!C205,\"\")","v":""},null,null,null,null,null,null,null,null,null,null,null,null,{"$f":"IF(AND($C$6=\"Yes\",$C$7=\"Yes\",$C$8=\"Yes\",L208>=2,N208>=36),MIN(E208*0.7,75),0)","v":0},null,{"$f":"IF(AND($C$6=\"Yes\",$C$7=\"Yes\",$C$8=\"Yes\",E208<>\"\",L208>=2,N208>=36),Equipment!K205*102)","v":false},{"$f":"IF(AND($C$6=\"Yes\",$C$7=\"Yes\",$C$8=\"Yes\",E208<>\"\",L208>=2,N208>=36),Equipment!K205*0.0462)","v":false}]
[195,null,{"$f":"IF(Equipment!Q206=\"x\",Equipment!C206,\"\")","v":""},null,null,null,null,null,null,null,null,null,null,null,null,0,null,{"$f":"IF(AND($C$6=\"Yes\",$C$7=\"Yes\",$C$8=\"Yes\",E209<>\"\",L209>=2,N209>=36),Equipment!K206*102)","v":false},{"$f":"IF(AND($C$6=\"Yes\",$C$7=\"Yes\",$C$8=\"Yes\",E209<>\"\",L209>=2,N209>=36),Equipment!K206*0.0462)","v":false}]
[196,null,{"$f":"IF(Equipment!Q207=\"x\",Equipment!C207,\"\")","v":""},null,null,null,null,null,null,null,null,null,null,null,null,0,null,{"$f":"IF(AND($C$6=\"Yes\",$C$7=\"Yes\",$C$8=\"Yes\",E210<>\"\",L210>=2,N210>=36),Equipment!K207*102)","v":false},{"$f":"IF(AND($C$6=\"Yes\",$C$7=\"Yes\",$C$8=\"Yes\",E210<>\"\",L210>=2,N210>=36),Equipment!K207*0.0462)","v":false}]
[197,null,{"$f":"IF(Equipment!Q208=\"x\",Equipment!C208,\"\")","v":""},null,null,null,null,null,null,null,null,null,null,null,null,0,null,{"$f":"IF(AND($C$6=\"Yes\",$C$7=\"Yes\",$C$8=\"Yes\",E211<>\"\",L211>=2,N211>=36),Equipment!K208*102)","v":false},{"$f":"IF(AND($C$6=\"Yes\",$C$7=\"Yes\",$C$8=\"Yes\",E211<>\"\",L211>=2,N211>=36),Equipment!K208*0.0462)","v":false}]
[198,null,{"$f":"IF(Equipment!Q209=\"x\",Equipment!C209,\"\")","v":""},null,null,null,null,null,null,null,null,null,null,null,null,0,null,{"$f":"IF(AND($C$6=\"Yes\",$C$7=\"Yes\",$C$8=\"Yes\",E212<>\"\",L212>=2,N212>=36),Equipment!K209*102)","v":false},{"$f":"IF(AND($C$6=\"Yes\",$C$7=\"Yes\",$C$8=\"Yes\",E212<>\"\",L212>=2,N212>=36),Equipment!K209*0.0462)","v":false}]
[199,null,{"$f":"IF(Equipment!Q210=\"x\",Equipment!C210,\"\")","v":""},null,null,null,null,null,null,null,null,null,null,null,null,0,null,{"$f":"IF(AND($C$6=\"Yes\",$C$7=\"Yes\",$C$8=\"Yes\",E213<>\"\",L213>=2,N213>=36),Equipment!K210*102)","v":false},{"$f":"IF(AND($C$6=\"Yes\",$C$7=\"Yes\",$C$8=\"Yes\",E213<>\"\",L213>=2,N213>=36),Equipment!K210*0.0462)","v":false}]
[200,null,{"$f":"IF(Equipment!Q211=\"x\",Equipment!C211,\"\")","v":""},null,null,null,null,null,null,null,null,null,null,null,null,0,null,{"$f":"IF(AND($C$6=\"Yes\",$C$7=\"Yes\",$C$8=\"Yes\",E214<>\"\",L214>=2,N214>=36),Equipment!K211*102)","v":false},{"$f":"IF(AND($C$6=\"Yes\",$C$7=\"Yes\",$C$8=\"Yes\",E214<>\"\",L214>=2,N214>=36),Equipment!K211*0.0462)","v":false}]

{"sheet":"Programmable Tstat","index":5,"n_rows":210,"n_cols":21,"rows_kept":210,"cut":false,"hidden":false,"merged":[[205,14,205,15],[205,6,205,7],[205,10,205,11],[205,12,205,13],[205,8,205,9],[204,2,204,3],[204,4,204,5],[204,14,204,15],[204,6,204,7],[204,10,204,11],[204,12,204,13],[204,8,204,9],[203,2,203,3],[5,20,6,23],[7,20,9,23],[10,8,10,9],[9,8,9,9],[11,6,11,7],[11,8,11,9],[9,2,9,3],[9,4,9,5],[205,2,205,3],[205,4,205,5],[202,2,202,3],[202,4,202,5],[199,2,199,3],[199,4,199,5],[196,2,196,3],[196,4,196,5],[193,2,193,3],[193,4,193,5],[190,2,190,3],[208,14,208,15],[208,6,208,7],[208,10,208,11],[208,12,208,13],[208,8,208,9],[207,2,207,3],[207,4,207,5],[207,14,207,15],[207,6,207,7],[207,10,207,11],[207,12,207,13],[207,8,207,9],[209,14,209,15],[209,6,209,7],[209,10,209,11],[209,12,209,13],[209,8,209,9],[209,2,209,3],[209,4,209,5],[208,2,208,3],[208,4,208,5],[203,4,203,5],[203,14,203,15],[203,6,203,7],[203,10,203,11],[203,12,203,13],[203,8,203,9],[202,14,202,15],[202,6,202,7],[202,10,202,11],[202,12,202,13],[202,8,202,9],[201,2,201,3],[201,4,201,5],[201,14,201,15],[201,6,201,7],[201,10,201,11],[201,12,201,13],[201,8,201,9],[200,2,200,3],[200,4,200,5],[200,14,200,15],[200,6,200,7],[200,10,200,11],[200,12,200,13],[200,8,200,9],[199,14,199,15],[199,6,199,7],[199,10,199,11],[199,12,199,13],[199,8,199,9],[198,2,198,3],[198,4,198,5],[198,14,198,15],[198,6,198,7],[198,10,198,11],[198,12,198,13],[198,8,198,9],[197,2,197,3],[197,4,197,5],[197,14,197,15],[197,6,197,7],[197,10,197,11],[197,12,197,13],[197,8,197,9],[196,14,196,15],[196,6,196,7],[196,10,196,11],[196,12,196,13],[196,8,196,9],[195,2,195,3],[195,4,195,5],[195,14,195,15],[195,6,195,7],[195,10,195,11],[195,12,195,13],[195,8,195,9],[194,2,194,3],[194,4,194,5],[194,14,194,15],[194,6,194,7],[194,10,194,11],[194,12,194,13],[194,8,194,9],[193,14,193,15],[193,6,193,7],[193,10,193,11],[193,12,193,13],[193,8,193,9],[192,2,192,3],[192,4,192,5],[192,14,192,15],[192,6,192,7],[192,10,192,11],[192,12,192,13],[192,8,192,9],[191,2,191,3],[191,4,191,5],[191,14,191,15],[191,6,191,7],[191,10,191,11],[191,12,191,13],[191,8,191,9],[190,14,190,15],[190,6,190,7],[190,10,190,11],[190,12,190,13],[190,8,190,9],[189,2,189,3],[189,4,189,5],[189,14,189,15],[189,6,189,7],[189,10,189,11],[189,12,189,13],[189,8,189,9],[190,4,190,5],[188,2,188,3],[188,4,188,5],[188,14,188,15],[188,6,188,7],[188,10,188,11],[188,12,188,13],[188,8,188,9],[187,14,187,15],[187,6,187,7],[187,10,187,11],[187,12,187,13],[187,8,187,9],[186,2,186,3],[186,4,186,5],[186,14,186,15],[186,6,186,7],[186,10,186,11],[186,12,186,13],[186,8,186,9],[187,2,187,3],[187,4,187,5],[185,2,185,3],[185,4,185,5],[185,14,185,15],[185,6,185,7],[185,10,185,11],[185,12,185,13],[185,8,185,9],[184,14,184,15],[184,6,184,7],[184,10,184,11],[184,12,184,13],[184,8,184,9],[183,2,183,3],[183,4,183,5],[183,14,183,15],[183,6,183,7],[183,10,183,11],[183,12,183,13],[183,8,183,9],[184,2,184,3],[184,4,184,5],[182,2,182,3],[182,4,182,5],[182,14,182,15],[182,6,182,7],[182,10,182,11],[182,12,182,13],[182,8,182,9],[181,14,181,15],[181,6,181,7],[181,10,181,11],[181,12,181,13],[181,8,181,9],[180,2,180,3],[180,4,180,5],[180,14,180,15],[180,6,180,7],[180,10,180,11],[180,12,180,13],[180,8,180,9],[181,2,181,3],[181,4,181,5],[179,2,179,3],[179,4,179,5],[179,14,179,15],[179,6,179,7],[179,10,179,11],[179,12,179,13],[179,8,179,9],[178,14,178,15],[178,6,178,7],[178,10,178,11],[178,12,178,13],[178,8,178,9],[177,2,177,3],[177,4,177,5],[177,14,177,15],[177,6,177,7],[177,10,177,11],[177,12,177,13],[177,8,177,9],[178,2,178,3],[178,4,178,5],[176,2,176,3],[176,4,176,5],[176,14,176,15],[176,6,176,7],[176,10,176,11],[176,12,176,13],[176,8,176,9],[175,14,175,15],[175,6,175,7],[175,10,175,11],[175,12,175,13],[175,8,175,9],[174,2,174,3],[174,4,174,5],[174,14,174,15],[174,6,174,7],[174,10,174,11],[174,12,174,13],[174,8,174,9],[175,2,175,3],[175,4,175,5],[173,2,173,3],[173,4,173,5],[173,14,173,15],[173,6,173,7],[173,10,173,11],[173,12,173,13],[173,8,173,9],[172,2,172,3],[172,4,172,5],[172,14,172,15],[172,6,172,7],[172,10,172,11],[172,12,172,13],[172,8,172,9],[171,2,171,3],[171,4,171,5],[171,14,171,15],[171,6,171,7],[171,10,171,11],[171,12,171,13],[171,8,171,9],[170,2,170,3],[170,4,170,5],[170,14,170,15],[170,6,170,7],[170,10,170,11],[170,12,170,13],[170,8,170,9],[169,2,169,3],[169,4,169,5],[169,14,169,15],[169,6,169,7],[169,10,169,11],[169,12,169,13],[169,8,169,9],[168,2,168,3],[168,4,168,5],[168,14,168,15],[168,6,168,7],[168,10,168,11],[168,12,168,13],[168,8,168,9],[167,2,167,3],[167,4,167,5],[167,14,167,15],[167,6,167,7],[167,10,167,11],[167,12,167,13],[167,8,167,9],[166,2,166,3],[166,4,166,5],[166,14,166,15],[166,6,166,7],[166,10,166,11],[166,12,166,13],[166,8,166,9],[165,2,165,3],[165,4,165,5],[165,14,165,15],[165,6,165,7],[165,10,165,11],[165,12,165,13],[165,8,165,9],[164,2,164,3],[164,4,164,5],[164,14,164,15],[164,6,164,7],[164,10,164,11],[164,12,164,13],[164,8,164,9],[163,2,163,3],[163,4,163,5],[163,14,163,15],[163,6,163,7],[163,10,163,11],[163,12,163,13],[163,8,163,9],[162,2,162,3],[162,4,162,5],[162,14,162,15],[162,6,162,7],[162,10,162,11],[162,12,162,13],[162,8,162,9],[161,2,161,3],[161,4,161,5],[161,14,161,15],[161,6,161,7],[161,10,161,11],[161,12,161,13],[161,8,161,9],[160,2,160,3],[160,4,160,5],[160,14,160,15],[160,6,160,7],[160,10,160,11],[160,12,160,13],[160,8,160,9],[159,2,159,3],[159,4,159,5],[159,14,159,15],[159,6,159,7],[159,10,159,11],[159,12,159,13],[159,8,159,9],[158,2,158,3],[158,4,158,5],[158,14,158,15],[158,6,158,7],[158,10,158,11],[158,12,158,13],[158,8,158,9],[157,2,157,3],[157,4,157,5],[157,14,157,15],[157,6,157,7],[157,10,157,11],[157,12,157,13],[157,8,157,9],[156,2,156,3],[156,4,156,5],[156,14,156,15],[156,6,156,7],[156,10,156,11],[156,12,156,13],[156,8,156,9],[155,2,155,3],[155,4,155,5],[155,14,155,15],[155,6,155,7],[155,10,155,11],[155,12,155,13],[155,8,155,9],[154,2,154,3],[154,4,154,5],[154,14,154,15],[154,6,154,7],[154,10,154,11],[154,12,154,13],[154,8,154,9],[153,2,153,3],[153,4,153,5],[153,14,153,15],[153,6,153,7],[153,10,153,11],[153,12,153,13],[153,8,153,9],[152,2,152,3],[152,4,152,5],[152,14,152,15],[152,6,152,7],[152,10,152,11],[152,12,152,13],[152,8,152,9],[151,2,151,3],[151,4,151,5],[151,14,151,15],[151,6,151,7],[151,10,151,11],[151,12,151,13],[151,8,151,9],[150,2,150,3],[150,4,150,5],[150,14,150,15],[150,6,150,7],[150,10,150,11],[150,12,150,13],[150,8,150,9],[149,2,149,3],[149,4,149,5],[149,14,149,15],[149,6,149,7],[149,10,149,11],[149,12,149,13],[149,8,149,9],[148,2,148,3],[148,4,148,5],[148,14,148,15],[148,6,148,7],[148,10,148,11],[148,12,148,13],[148,8,148,9],[147,2,147,3],[147,4,147,5],[147,14,147,15],[147,6,147,7],[147,10,147,11],[147,12,147,13],[147,8,147,9],[146,2,146,3],[146,4,146,5],[146,14,146,15],[146,6,146,7],[146,10,146,11],[146,12,146,13],[146,8,146,9],[145,2,145,3],[145,4,145,5],[145,14,145,15],[145,6,145,7],[145,10,145,11],[145,12,145,13],[145,8,145,9],[144,2,144,3],[144,4,144,5],[144,14,144,15],[144,6,144,7],[144,10,144,11],[144,12,144,13],[144,8,144,9],[143,2,143,3],[143,4,143,5],[143,14,143,15],[143,6,143,7],[143,10,143,11],[143,12,143,13],[143,8,143,9],[142,2,142,3],[142,4,142,5],[142,14,142,15],[142,6,142,7],[142,10,142,11],[142,12,142,13],[142,8,142,9],[141,2,141,3],[141,4,141,5],[141,14,141,15],[141,6,141,7],[141,10,141,11],[141,12,141,13],[141,8,141,9],[140,2,140,3],[140,4,140,5],[140,14,140,15],[140,6,140,7],[140,10,140,11],[140,12,140,13],[140,8,140,9],[139,2,139,3],[139,4,139,5],[139,14,139,15],[139,6,139,7],[139,10,139,11],[139,12,139,13],[139,8,139,9],[138,2,138,3],[138,4,138,5],[138,14,138,15],[138,6,138,7],[138,10,138,11],[138,12,138,13],[138,8,138,9],[137,2,137,3],[137,4,137,5],[137,14,137,15],[137,6,137,7],[137,10,137,11],[137,12,137,13],[137,8,137,9],[136,2,136,3],[136,4,136,5],[136,14,136,15],[136,6,136,7],[136,10,136,11],[136,12,136,13],[136,8,136,9],[135,2,135,3],[135,4,135,5],[135,14,135,15],[135,6,135,7],[135,10,135,11],[135,12,135,13],[135,8,135,9],[134,2,134,3],[134,4,134,5],[134,14,134,15],[134,6,134,7],[134,10,134,11],[134,12,134,13],[134,8,134,9],[133,2,133,3],[133,4,133,5],[133,14,133,15],[133,6,133,7],[133,10,133,11],[133,12,133,13],[133,8,133,9],[132,2,132,3],[132,4,132,5],[132,14,132,15],[132,6,132,7],[132,10,132,11],[132,12,132,13],[132,8,132,9],[131,2,131,3],[131,4,131,5],[131,14,131,15],[131,6,131,7],[131,10,131,11],[131,12,131,13],[131,8,131,9],[130,2,130,3],[130,4,130,5],[130,14,130,15],[130,6,130,7],[130,10,130,11],[130,12,130,13],[130,8,130,9],[129,2,129,3],[129,4,129,5],[129,14,129,15],[129,6,129,7],[129,10,129,11],[129,12,129,13],[129,8,129,9],[128,2,128,3],[128,4,128,5],[128,14,128,15],[128,6,128,7],[128,10,128,11],[128,12,128,13],[128,8,128,9],[127,2,127,3],[127,4,127,5],[127,14,127,15],[127,6,127,7],[127,10,127,11],[127,12,127,13],[127,8,127,9],[126,2,126,3],[126,4,126,5],[126,14,126,15],[126,6,126,7],[126,10,126,11],[126,12,126,13],[126,8,126,9],[125,2,125,3],[125,4,125,5],[125,14,125,15],[125,6,125,7],[125,10,125,11],[125,12,125,13],[125,8,125,9],[124,2,124,3],[124,4,124,5],[124,14,124,15],[124,6,124,7],[124,10,124,11],[124,12,124,13],[124,8,124,9],[123,2,123,3],[123,4,123,5],[123,14,123,15],[123,6,123,7],[123,10,123,11],[123,12,123,13],[123,8,123,9],[122,2,122,3],[122,4,122,5],[122,14,122,15],[122,6,122,7],[122,10,122,11],[122,12,122,13],[122,8,122,9],[121,2,121,3],[121,4,121,5],[121,14,121,15],[121,6,121,7],[121,10,121,11],[121,12,121,13],[121,8,121,9],[120,2,120,3],[120,4,120,5],[120,14,120,15],[120,6,120,7],[120,10,120,11],[120,12,120,13],[120,8,120,9],[119,2,119,3],[119,4,119,5],[119,14,119,15],[119,6,119,7],[119,10,119,11],[119,12,119,13],[119,8,119,9],[118,2,118,3],[118,4,118,5],[118,14,118,15],[118,6,118,7],[118,10,118,11],[118,12,118,13],[118,8,118,9],[117,2,117,3],[117,4,117,5],[117,14,117,15],[117,6,117,7],[117,10,117,11],[117,12,117,13],[117,8,117,9],[116,2,116,3],[116,4,116,5],[116,14,116,15],[116,6,116,7],[116,10,116,11],[116,12,116,13],[116,8,116,9],[115,2,115,3],[115,4,115,5],[115,14,115,15],[115,6,115,7],[115,10,115,11],[115,12,115,13],[115,8,115,9],[114,2,114,3],[114,4,114,5],[114,14,114,15],[114,6,114,7],[114,10,114,11],[114,12,114,13],[114,8,114,9],[113,2,113,3],[113,4,113,5],[113,14,113,15],[113,6,113,7],[113,10,113,11],[113,12,113,13],[113,8,113,9],[112,2,112,3],[112,4,112,5],[112,14,112,15],[112,6,112,7],[112,10,112,11],[112,12,112,13],[112,8,112,9],[111,2,111,3],[111,4,111,5],[111,14,111,15],[111,6,111,7],[111,10,111,11],[111,12,111,13],[111,8,111,9],[110,2,110,3],[110,4,110,5],[110,14,110,15],[110,6,110,7],[110,10,110,11],[110,12,110,13],[110,8,110,9],[109,2,109,3],[109,4,109,5],[109,14,109,15],[109,6,109,7],[109,10,109,11],[109,12,109,13],[109,8,109,9],[108,2,108,3],[108,4,108,5],[108,14,108,15],[108,6,108,7],[108,10,108,11],[108,12,108,13],[108,8,108,9],[107,2,107,3],[107,4,107,5],[107,14,107,15],[107,6,107,7],[107,10,107,11],[107,12,107,13],[107,8,107,9],[106,2,106,3],[106,4,106,5],[106,14,106,15],[106,6,106,7],[106,10,106,11],[106,12,106,13],[106,8,106,9],[105,2,105,3],[105,4,105,5],[105,14,105,15],[105,6,105,7],[105,10,105,11],[105,12,105,13],[105,8,105,9],[104,2,104,3],[104,4,104,5],[104,14,104,15],[104,6,104,7],[104,10,104,11],[104,12,104,13],[104,8,104,9],[103,2,103,3],[103,4,103,5],[103,14,103,15],[103,6,103,7],[103,10,103,11],[103,12,103,13],[103,8,103,9],[102,2,102,3],[102,4,102,5],[102,14,102,15],[102,6,102,7],[102,10,102,11],[102,12,102,13],[102,8,102,9],[101,2,101,3],[101,4,101,5],[101,14,101,15],[101,6,101,7],[101,10,101,11],[101,12,101,13],[101,8,101,9],[100,2,100,3],[100,4,100,5],[100,14,100,15],[100,6,100,7],[100,10,100,11],[100,12,100,13],[100,8,100,9],[99,2,99,3],[99,4,99,5],[99,14,99,15],[99,6,99,7],[99,10,99,11],[99,12,99,13],[99,8,99,9],[98,2,98,3],[98,4,98,5],[98,14,98,15],[98,6,98,7],[98,10,98,11],[98,12,98,13],[98,8,98,9],[97,2,97,3],[97,4,97,5],[97,14,97,15],[97,6,97,7],[97,10,97,11],[97,12,97,13],[97,8,97,9],[96,2,96,3],[96,4,96,5],[96,14,96,15],[96,6,96,7],[96,10,96,11],[96,12,96,13],[96,8,96,9],[95,2,95,3],[95,4,95,5],[95,14,95,15],[95,6,95,7],[95,10,95,11],[95,12,95,13],[95,8,95,9],[94,2,94,3],[94,4,94,5],[94,14,94,15],[94,6,94,7],[94,10,94,11],[94,12,94,13],[94,8,94,9],[93,2,93,3],[93,4,93,5],[93,14,93,15],[93,6,93,7],[93,10,93,11],[93,12,93,13],[93,8,93,9],[92,2,92,3],[92,4,92,5],[92,14,92,15],[92,6,92,7],[92,10,92,11],[92,12,92,13],[92,8,92,9],[91,2,91,3],[91,4,91,5],[91,14,91,15],[91,6,91,7],[91,10,91,11],[91,12,91,13],[91,8,91,9],[90,2,90,3],[90,4,90,5],[90,14,90,15],[90,6,90,7],[90,10,90,11],[90,12,90,13],[90,8,90,9],[89,2,89,3],[89,4,89,5],[89,14,89,15],[89,6,89,7],[89,10,89,11],[89,12,89,13],[89,8,89,9],[88,2,88,3],[88,4,88,5],[88,14,88,15],[88,6,88,7],[88,10,88,11],[88,12,88,13],[88,8,88,9],[87,2,87,3],[87,4,87,5],[87,14,87,15],[87,6,87,7],[87,10,87,11],[87,12,87,13],[87,8,87,9],[86,2,86,3],[86,4,86,5],[86,14,86,15],[86,6,86,7],[86,10,86,11],[86,12,86,13],[86,8,86,9],[85,2,85,3],[85,4,85,5],[85,14,85,15],[85,6,85,7],[85,10,85,11],[85,12,85,13],[85,8,85,9],[84,2,84,3],[84,4,84,5],[84,14,84,15],[84,6,84,7],[84,10,84,11],[84,12,84,13],[84,8,84,9],[83,2,83,3],[83,4,83,5],[83,14,83,15],[83,6,83,7],[83,10,83,11],[83,12,83,13],[83,8,83,9],[82,2,82,3],[82,4,82,5],[82,14,82,15],[82,6,82,7],[82,10,82,11],[82,12,82,13],[82,8,82,9],[81,2,81,3],[81,4,81,5],[81,14,81,15],[81,6,81,7],[81,10,81,11],[81,12,81,13],[81,8,81,9],[80,2,80,3],[80,4,80,5],[80,14,80,15],[80,6,80,7],[80,10,80,11],[80,12,80,13],[80,8,80,9],[79,2,79,3],[79,4,79,5],[79,14,79,15],[79,6,79,7],[79,10,79,11],[79,12,79,13],[79,8,79,9],[78,2,78,3],[78,4,78,5],[78,14,78,15],[78,6,78,7],[78,10,78,11],[78,12,78,13],[78,8,78,9],[77,2,77,3],[77,4,77,5],[77,14,77,15],[77,6,77,7],[77,10,77,11],[77,12,77,13],[77,8,77,9],[76,2,76,3],[76,4,76,5],[76,14,76,15],[76,6,76,7],[76,10,76,11],[76,12,76,13],[76,8,76,9],[75,2,75,3],[75,4,75,5],[75,14,75,15],[75,6,75,7],[75,10,75,11],[75,12,75,13],[75,8,75,9],[74,2,74,3],[74,4,74,5],[74,14,74,15],[74,6,74,7],[74,10,74,11],[74,12,74,13],[74,8,74,9],[73,2,73,3],[73,4,73,5],[73,14,73,15],[73,6,73,7],[73,10,73,11],[73,12,73,13],[73,8,73,9],[72,2,72,3],[72,4,72,5],[72,14,72,15],[72,6,72,7],[72,10,72,11],[72,12,72,13],[72,8,72,9],[71,2,71,3],[71,4,71,5],[71,14,71,15],[71,6,71,7],[71,10,71,11],[71,12,71,13],[71,8,71,9],[70,2,70,3],[70,4,70,5],[70,14,70,15],[70,6,70,7],[70,10,70,11],[70,12,70,13],[70,8,70,9],[69,2,69,3],[69,4,69,5],[69,14,69,15],[69,6,69,7],[69,10,69,11],[69,12,69,13],[69,8,69,9],[68,2,68,3],[68,4,68,5],[68,14,68,15],[68,6,68,7],[68,10,68,11],[68,12,68,13],[68,8,68,9],[67,2,67,3],[67,4,67,5],[67,14,67,15],[67,6,67,7],[67,10,67,11]],"merged_total":1415,"flags":["merged_cut"]}
[]
[null,"Programmable Thermostats",null,null,null,null,null,null,null,null,null,null,"Total kWh/yr Savings",{"$f":"SUM(Q11:Q210)","v":0},null,"Incentive",{"$f":"SUM(O11:O210)","v":0}]
[null,null,null,null,null,null,null,null,null,"Customer Costs",{"$f":"SUM(E11:F210)","v":0},null,"Total kW Savings",{"$f":"SUM(R11:R210)","v":0},null,"Electric Cost Savings/YR",{"$f":"IFERROR(N2*INDEX(kWhRates,MATCH(RateSchedule,RateSchedules,0))+N3*12*INDEX(kWRates,MATCH(RateSchedule,RateSchedules,0)),0)","v":0},null,null,null,"Instructions"]
[null,null,null,null,null,null,null,null,null,null,null,null,null,null,null,null,null,null,null,null,"Complete the yellow cells for each applicable RTU"]
[null,null,"Confirm the following:"]
[null,null,null,"1. Thermostats have at least 7-day occupied/unoccupied settings",null,null,null,null,null,null,null,null,null,null,null,null,null,null,null,null,"Note"]
[null,null,null,"2. Thermostats replace existing non-programmable thermostats"]
[null,null,null,null,null,null,null,null,null,null,null,null,null,null,null,null,null,null,null,null,"All fields must be completed to calculate the savings & incentives"]
[null,null,"RTU Details: ",null,"Thermostat Details:"]
[null,null,"Rooftop Unit Label (from equipment tab)",null,"Customer Cost",null,"Thermostat Model Number",null,"Occupied hours per day",null,"Cooling Setpoint (occupied)",null,"Cooling Setpoint (unoccupied)",null,"Estimated Incentive",null,"kWh","kW"]
[1,null,{"$f":"IF(Equipment!S12=\"x\",Equipment!C12,\"\")","v":""},null,null,null,null,null,null,null,null,null,null,null,{"$f":"IF(AND($C$6=\"Yes\",$C$7=\"Yes\",G11<>\"\",I11<>\"\",K11<>\"\",M11<>\"\"),MIN(E11*0.7,150),0)","v":0},null,{"$f":"IF(AND($C$6=\"Yes\",$C$7=\"Yes\",G11<>\"\",I11<>\"\",K11<>\"\",M11<>\"\"),IF(Equipment!$C$7=\"Supermarket\",Equipment!K12*279,Equipment!K12*119),0)","v":0},0]
[2,null,{"$f":"IF(Equipment!S13=\"x\",Equipment!C13,\"\")","v":""},null,null,null,null,null,null,null,null,null,null,null,{"$f":"IF(AND($C$6=\"Yes\",$C$7=\"Yes\",G12<>\"\",I12<>\"\",K12<>\"\",M12<>\"\"),MIN(E12*0.7,150),0)","v":0},null,{"$f":"IF(AND($C$6=\"Yes\",$C$7=\"Yes\",G12<>\"\",I12<>\"\",K12<>\"\",M12<>\"\"),IF(Equipment!$C$7=\"Supermarket\",Equipment!K13*279,Equipment!K13*119),0)","v":0},0]
[3,null,{"$f":"IF(Equipment!S14=\"x\",Equipment!C14,\"\")","v":""},null,null,null,null,null,null,null,null,null,null,null,0,null,{"$f":"IF(AND($C$6=\"Yes\",$C$7=\"Yes\",G13<>\"\",I13<>\"\",K13<>\"\",M13<>\"\"),IF(Equipment!$C$7=\"Supermarket\",Equipment!K14*279,Equipment!K14*119),0)","v":0},0]
[4,null,{"$f":"IF(Equipment!S15=\"x\",Equipment!C15,\"\")","v":""},null,null,null,null,null,null,null,null,null,null,null,0,null,{"$f":"IF(AND($C$6=\"Yes\",$C$7=\"Yes\",G14<>\"\",I14<>\"\",K14<>\"\",M14<>\"\"),IF(Equipment!$C$7=\"Supermarket\",Equipment!K15*279,Equipment!K15*119),0)","v":0},0]
[5,null,{"$f":"IF(Equipment!S16=\"x\",Equipment!C16,\"\")","v":""},null,null,null,null,null,null,null,null,null,null,null,0,null,{"$f":"IF(AND($C$6=\"Yes\",$C$7=\"Yes\",G15<>\"\",I15<>\"\",K15<>\"\",M15<>\"\"),IF(Equipment!$C$7=\"Supermarket\",Equipment!K16*279,Equipment!K16*119),0)","v":0},0]
[6,null,{"$f":"IF(Equipment!S17=\"x\",Equipment!C17,\"\")","v":""},null,null,null,null,null,null,null,null,null,null,null,0,null,{"$f":"IF(AND($C$6=\"Yes\",$C$7=\"Yes\",G16<>\"\",I16<>\"\",K16<>\"\",M16<>\"\"),IF(Equipment!$C$7=\"Supermarket\",Equipment!K17*279,Equipment!K17*119),0)","v":0},0]
[7,null,{"$f":"IF(Equipment!S18=\"x\",Equipment!C18,\"\")","v":""},null,null,null,null,null,null,null,null,null,null,null,0,null,{"$f":"IF(AND($C$6=\"Yes\",$C$7=\"Yes\",G17<>\"\",I17<>\"\",K17<>\"\",M17<>\"\"),IF(Equipment!$C$7=\"Supermarket\",Equipment!K18*279,Equipment!K18*119),0)","v":0},0]
[8,null,{"$f":"IF(Equipment!S19=\"x\",Equipment!C19,\"\")","v":""},null,null,null,null,null,null,null,null,null,null,null,0,null,{"$f":"IF(AND($C$6=\"Yes\",$C$7=\"Yes\",G18<>\"\",I18<>\"\",K18<>\"\",M18<>\"\"),IF(Equipment!$C$7=\"Supermarket\",Equipment!K19*279,Equipment!K19*119),0)","v":0},0]
[9,null,{"$f":"IF(Equipment!S20=\"x\",Equipment!C20,\"\")","v":""},null,null,null,null,null,null,null,null,null,null,null,0,null,{"$f":"IF(AND($C$6=\"Yes\",$C$7=\"Yes\",G19<>\"\",I19<>\"\",K19<>\"\",M19<>\"\"),IF(Equipment!$C$7=\"Supermarket\",Equipment!K20*279,Equipment!K20*119),0)","v":0},0]
[10,null,{"$f":"IF(Equipment!S21=\"x\",Equipment!C21,\"\")","v":""},null,null,null,null,null,null,null,null,null,null,null,0,null,{"$f":"IF(AND($C$6=\"Yes\",$C$7=\"Yes\",G20<>\"\",I20<>\"\",K20<>\"\",M20<>\"\"),IF(Equipment!$C$7=\"Supermarket\",Equipment!K21*279,Equipment!K21*119),0)","v":0},0]
[11,null,{"$f":"IF(Equipment!S22=\"x\",Equipment!C22,\"\")","v":""},null,null,null,null,null,null,null,null,null,null,null,0,null,{"$f":"IF(AND($C$6=\"Yes\",$C$7=\"Yes\",G21<>\"\",I21<>\"\",K21<>\"\",M21<>\"\"),IF(Equipment!$C$7=\"Supermarket\",Equipment!K22*279,Equipment!K22*119),0)","v":0},0]
[12,null,{"$f":"IF(Equipment!S23=\"x\",Equipment!C23,\"\")","v":""},null,null,null,null,null,null,null,null,null,null,null,0,null,{"$f":"IF(AND($C$6=\"Yes\",$C$7=\"Yes\",G22<>\"\",I22<>\"\",K22<>\"\",M22<>\"\"),IF(Equipment!$C$7=\"Supermarket\",Equipment!K23*279,Equipment!K23*119),0)","v":0},0]
[13,null,{"$f":"IF(Equipment!S24=\"x\",Equipment!C24,\"\")","v":""},null,null,null,null,null,null,null,null,null,null,null,0,null,{"$f":"IF(AND($C$6=\"Yes\",$C$7=\"Yes\",G23<>\"\",I23<>\"\",K23<>\"\",M23<>\"\"),IF(Equipment!$C$7=\"Supermarket\",Equipment!K24*279,Equipment!K24*119),0)","v":0},0]
[14,null,{"$f":"IF(Equipment!S25=\"x\",Equipment!C25,\"\")","v":""},null,null,null,null,null,null,null,null,null,null,null,0,null,{"$f":"IF(AND($C$6=\"Yes\",$C$7=\"Yes\",G24<>\"\",I24<>\"\",K24<>\"\",M24<>\"\"),IF(Equipment!$C$7=\"Supermarket\",Equipment!K25*279,Equipment!K25*119),0)","v":0},0]
[15,null,{"$f":"IF(Equipment!S26=\"x\",Equipment!C26,\"\")","v":""},null,null,null,null,null,null,null,null,null,null,null,0,null,{"$f":"IF(AND($C$6=\"Yes\",$C$7=\"Yes\",G25<>\"\",I25<>\"\",K25<>\"\",M25<>\"\"),IF(Equipment!$C$7=\"Supermarket\",Equipment!K26*279,Equipment!K26*119),0)","v":0},0]
[16,null,{"$f":"IF(Equipment!S27=\"x\",Equipment!C27,\"\")","v":""},null,null,null,null,null,null,null,null,null,null,null,0,null,{"$f":"IF(AND($C$6=\"Yes\",$C$7=\"Yes\",G26<>\"\",I26<>\"\",K26<>\"\",M26<>\"\"),IF(Equipment!$C$7=\"Supermarket\",Equipment!K27*279,Equipment!K27*119),0)","v":0},0]
[17,null,{"$f":"IF(Equipment!S28=\"x\",Equipment!C28,\"\")","v":""},null,null,null,null,null,null,null,null,null,null,null,0,null,{"$f":"IF(AND($C$6=\"Yes\",$C$7=\"Yes\",G27<>\"\",I27<>\"\",K27<>\"\",M27<>\"\"),IF(Equipment!$C$7=\"Supermarket\",Equipment!K28*279,Equipment!K28*119),0)","v":0},0]
[18,null,{"$f":"IF(Equipment!S29=\"x\",Equipment!C29,\"\")","v":""},null,null,null,null,null,null,null,null,null,null,null,0,null,{"$f":"IF(AND($C$6=\"Yes\",$C$7=\"Yes\",G28<>\"\",I28<>\"\",K28<>\"\",M28<>\"\"),IF(Equipment!$C$7=\"Supermarket\",Equipment!K29*279,Equipment!K29*119),0)","v":0},0]
[19,null,{"$f":"IF(Equipment!S30=\"x\",Equipment!C30,\"\")","v":""},null,null,null,null,null,null,null,null,null,null,null,0,null,{"$f":"IF(AND($C$6=\"Yes\",$C$7=\"Yes\",G29<>\"\",I29<>\"\",K29<>\"\",M29<>\"\"),IF(Equipment!$C$7=\"Supermarket\",Equipment!K30*279,Equipment!K30*119),0)","v":0},0]
[20,null,{"$f":"IF(Equipment!S31=\"x\",Equipment!C31,\"\")","v":""},null,null,null,null,null,null,null,null,null,null,null,0,null,{"$f":"IF(AND($C$6=\"Yes\",$C$7=\"Yes\",G30<>\"\",I30<>\"\",K30<>\"\",M30<>\"\"),IF(Equipment!$C$7=\"Supermarket\",Equipment!K31*279,Equipment!K31*119),0)","v":0},0]
[21,null,{"$f":"IF(Equipment!S32=\"x\",Equipment!C32,\"\")","v":""},null,null,null,null,null,null,null,null,null,null,null,0,null,{"$f":"IF(AND($C$6=\"Yes\",$C$7=\"Yes\",G31<>\"\",I31<>\"\",K31<>\"\",M31<>\"\"),IF(Equipment!$C$7=\"Supermarket\",Equipment!K32*279,Equipment!K32*119),0)","v":0},0]
[22,null,{"$f":"IF(Equipment!S33=\"x\",Equipment!C33,\"\")","v":""},null,null,null,null,null,null,null,null,null,null,null,0,null,{"$f":"IF(AND($C$6=\"Yes\",$C$7=\"Yes\",G32<>\"\",I32<>\"\",K32<>\"\",M32<>\"\"),IF(Equipment!$C$7=\"Supermarket\",Equipment!K33*279,Equipment!K33*119),0)","v":0},0]
[23,null,{"$f":"IF(Equipment!S34=\"x\",Equipment!C34,\"\")","v":""},null,null,null,null,null,null,null,null,null,null,null,0,null,{"$f":"IF(AND($C$6=\"Yes\",$C$7=\"Yes\",G33<>\"\",I33<>\"\",K33<>\"\",M33<>\"\"),IF(Equipment!$C$7=\"Supermarket\",Equipment!K34*279,Equipment!K34*119),0)","v":0},0]
[24,null,{"$f":"IF(Equipment!S35=\"x\",Equipment!C35,\"\")","v":""},null,null,null,null,null,null,null,null,null,null,null,0,null,{"$f":"IF(AND($C$6=\"Yes\",$C$7=\"Yes\",G34<>\"\",I34<>\"\",K34<>\"\",M34<>\"\"),IF(Equipment!$C$7=\"Supermarket\",Equipment!K35*279,Equipment!K35*119),0)","v":0},0]
[25,null,{"$f":"IF(Equipment!S36=\"x\",Equipment!C36,\"\")","v":""},null,null,null,null,null,null,null,null,null,null,null,0,null,{"$f":"IF(AND($C$6=\"Yes\",$C$7=\"Yes\",G35<>\"\",I35<>\"\",K35<>\"\",M35<>\"\"),IF(Equipment!$C$7=\"Supermarket\",Equipment!K36*279,Equipment!K36*119),0)","v":0},0]
[26,null,{"$f":"IF(Equipment!S37=\"x\",Equipment!C37,\"\")","v":""},null,null,null,null,null,null,null,null,null,null,null,0,null,{"$f":"IF(AND($C$6=\"Yes\",$C$7=\"Yes\",G36<>\"\",I36<>\"\",K36<>\"\",M36<>\"\"),IF(Equipment!$C$7=\"Supermarket\",Equipment!K37*279,Equipment!K37*119),0)","v":0},0]
[27,null,{"$f":"IF(Equipment!S38=\"x\",Equipment!C38,\"\")","v":""},null,null,null,null,null,null,null,null,null,null,null,0,null,{"$f":"IF(AND($C$6=\"Yes\",$C$7=\"Yes\",G37<>\"\",I37<>\"\",K37<>\"\",M37<>\"\"),IF(Equipment!$C$7=\"Supermarket\",Equipment!K38*279,Equipment!K38*119),0)","v":0},0]
[28,null,{"$f":"IF(Equipment!S39=\"x\",Equipment!C39,\"\")","v":""},null,null,null,null,null,null,null,null,null,null,null,0,null,{"$f":"IF(AND($C$6=\"Yes\",$C$7=\"Yes\",G38<>\"\",I38<>\"\",K38<>\"\",M38<>\"\"),IF(Equipment!$C$7=\"Supermarket\",Equipment!K39*279,Equipment!K39*119),0)","v":0},0]
[29,null,{"$f":"IF(Equipment!S40=\"x\",Equipment!C40,\"\")","v":""},null,null,null,null,null,null,null,null,null,null,null,0,null,{"$f":"IF(AND($C$6=\"Yes\",$C$7=\"Yes\",G39<>\"\",I39<>\"\",K39<>\"\",M39<>\"\"),IF(Equipment!$C$7=\"Supermarket\",Equipment!K40*279,Equipment!K40*119),0)","v":0},0]
[30,null,{"$f":"IF(Equipment!S41=\"x\",Equipment!C41,\"\")","v":""},null,null,null,null,null,null,null,null,null,null,null,0,null,{"$f":"IF(AND($C$6=\"Yes\",$C$7=\"Yes\",G40<>\"\",I40<>\"\",K40<>\"\",M40<>\"\"),IF(Equipment!$C$7=\"Supermarket\",Equipment!K41*279,Equipment!K41*119),0)","v":0},0]
[31,null,{"$f":"IF(Equipment!S42=\"x\",Equipment!C42,\"\")","v":""},null,null,null,null,null,null,null,null,null,null,null,0,null,{"$f":"IF(AND($C$6=\"Yes\",$C$7=\"Yes\",G41<>\"\",I41<>\"\",K41<>\"\",M41<>\"\"),IF(Equipment!$C$7=\"Supermarket\",Equipment!K42*279,Equipment!K42*119),0)","v":0},0]
[32,null,{"$f":"IF(Equipment!S43=\"x\",Equipment!C43,\"\")","v":""},null,null,null,null,null,null,null,null,null,null,null,0,null,{"$f":"IF(AND($C$6=\"Yes\",$C$7=\"Yes\",G42<>\"\",I42<>\"\",K42<>\"\",M42<>\"\"),IF(Equipment!$C$7=\"Supermarket\",Equipment!K43*279,Equipment!K43*119),0)","v":0},0]
[33,null,{"$f":"IF(Equipment!S44=\"x\",Equipment!C44,\"\")","v":""},null,null,null,null,null,null,null,null,null,null,null,0,null,{"$f":"IF(AND($C$6=\"Yes\",$C$7=\"Yes\",G43<>\"\",I43<>\"\",K43<>\"\",M43<>\"\"),IF(Equipment!$C$7=\"Supermarket\",Equipment!K44*279,Equipment!K44*119),0)","v":0},0]
[34,null,{"$f":"IF(Equipment!S45=\"x\",Equipment!C45,\"\")","v":""},null,null,null,null,null,null,null,null,null,null,null,0,null,{"$f":"IF(AND($C$6=\"Yes\",$C$7=\"Yes\",G44<>\"\",I44<>\"\",K44<>\"\",M44<>\"\"),IF(Equipment!$C$7=\"Supermarket\",Equipment!K45*279,Equipment!K45*119),0)","v":0},0]
[35,null,{"$f":"IF(Equipment!S46=\"x\",Equipment!C46,\"\")","v":""},null,null,null,null,null,null,null,null,null,null,null,0,null,{"$f":"IF(AND($C$6=\"Yes\",$C$7=\"Yes\",G45<>\"\",I45<>\"\",K45<>\"\",M45<>\"\"),IF(Equipment!$C$7=\"Supermarket\",Equipment!K46*279,Equipment!K46*119),0)","v":0},0]
[36,null,{"$f":"IF(Equipment!S47=\"x\",Equipment!C47,\"\")","v":""},null,null,null,null,null,null,null,null,null,null,null,0,null,{"$f":"IF(AND($C$6=\"Yes\",$C$7=\"Yes\",G46<>\"\",I46<>\"\",K46<>\"\",M46<>\"\"),IF(Equipment!$C$7=\"Supermarket\",Equipment!K47*279,Equipment!K47*119),0)","v":0},0]
[37,null,{"$f":"IF(Equipment!S48=\"x\",Equipment!C48,\"\")","v":""},null,null,null,null,null,null,null,null,null,null,null,0,null,{"$f":"IF(AND($C$6=\"Yes\",$C$7=\"Yes\",G47<>\"\",I47<>\"\",K47<>\"\",M47<>\"\"),IF(Equipment!$C$7=\"Supermarket\",Equipment!K48*279,Equipment!K48*119),0)","v":0},0]
[38,null,{"$f":"IF(Equipment!S49=\"x\",Equipment!C49,\"\")","v":""},null,null,null,null,null,null,null,null,null,null,null,0,null,{"$f":"IF(AND($C$6=\"Yes\",$C$7=\"Yes\",G48<>\"\",I48<>\"\",K48<>\"\",M48<>\"\"),IF(Equipment!$C$7=\"Supermarket\",Equipment!K49*279,Equipment!K49*119),0)","v":0},0]
[39,null,{"$f":"IF(Equipment!S50=\"x\",Equipment!C50,\"\")","v":""},null,null,null,null,null,null,null,null,null,null,null,0,null,{"$f":"IF(AND($C$6=\"Yes\",$C$7=\"Yes\",G49<>\"\",I49<>\"\",K49<>\"\",M49<>\"\"),IF(Equipment!$C$7=\"Supermarket\",Equipment!K50*279,Equipment!K50*119),0)","v":0},0]
[40,null,{"$f":"IF(Equipment!S51=\"x\",Equipment!C51,\"\")","v":""},null,null,null,null,null,null,null,null,null,null,null,0,null,{"$f":"IF(AND($C$6=\"Yes\",$C$7=\"Yes\",G50<>\"\",I50<>\"\",K50<>\"\",M50<>\"\"),IF(Equipment!$C$7=\"Supermarket\",Equipment!K51*279,Equipment!K51*119),0)","v":0},0]
[41,null,{"$f":"IF(Equipment!S52=\"x\",Equipment!C52,\"\")","v":""},null,null,null,null,null,null,null,null,null,null,null,0,null,{"$f":"IF(AND($C$6=\"Yes\",$C$7=\"Yes\",G51<>\"\",I51<>\"\",K51<>\"\",M51<>\"\"),IF(Equipment!$C$7=\"Supermarket\",Equipment!K52*279,Equipment!K52*119),0)","v":0},0]
[42,null,{"$f":"IF(Equipment!S53=\"x\",Equipment!C53,\"\")","v":""},null,null,null,null,null,null,null,null,null,null,null,0,null,{"$f":"IF(AND($C$6=\"Yes\",$C$7=\"Yes\",G52<>\"\",I52<>\"\",K52<>\"\",M52<>\"\"),IF(Equipment!$C$7=\"Supermarket\",Equipment!K53*279,Equipment!K53*119),0)","v":0},0]
[43,null,{"$f":"IF(Equipment!S54=\"x\",Equipment!C54,\"\")","v":""},null,null,null,null,null,null,null,null,null,null,null,0,null,{"$f":"IF(AND($C$6=\"Yes\",$C$7=\"Yes\",G53<>\"\",I53<>\"\",K53<>\"\",M53<>\"\"),IF(Equipment!$C$7=\"Supermarket\",Equipment!K54*279,Equipment!K54*119),0)","v":0},0]
[44,null,{"$f":"IF(Equipment!S55=\"x\",Equipment!C55,\"\")","v":""},null,null,null,null,null,null,null,null,null,null,null,0,null,{"$f":"IF(AND($C$6=\"Yes\",$C$7=\"Yes\",G54<>\"\",I54<>\"\",K54<>\"\",M54<>\"\"),IF(Equipment!$C$7=\"Supermarket\",Equipment!K55*279,Equipment!K55*119),0)","v":0},0]
[45,null,{"$f":"IF(Equipment!S56=\"x\",Equipment!C56,\"\")","v":""},null,null,null,null,null,null,null,null,null,null,null,0,null,{"$f":"IF(AND($C$6=\"Yes\",$C$7=\"Yes\",G55<>\"\",I55<>\"\",K55<>\"\",M55<>\"\"),IF(Equipment!$C$7=\"Supermarket\",Equipment!K56*279,Equipment!K56*119),0)","v":0},0]
[46,null,{"$f":"IF(Equipment!S57=\"x\",Equipment!C57,\"\")","v":""},null,null,null,null,null,null,null,null,null,null,null,0,null,{"$f":"IF(AND($C$6=\"Yes\",$C$7=\"Yes\",G56<>\"\",I56<>\"\",K56<>\"\",M56<>\"\"),IF(Equipment!$C$7=\"Supermarket\",Equipment!K57*279,Equipment!K57*119),0)","v":0},0]
[47,null,{"$f":"IF(Equipment!S58=\"x\",Equipment!C58,\"\")","v":""},null,null,null,null,null,null,null,null,null,null,null,0,null,{"$f":"IF(AND($C$6=\"Yes\",$C$7=\"Yes\",G57<>\"\",I57<>\"\",K57<>\"\",M57<>\"\"),IF(Equipment!$C$7=\"Supermarket\",Equipment!K58*279,Equipment!K58*119),0)","v":0},0]
[48,null,{"$f":"IF(Equipment!S59=\"x\",Equipment!C59,\"\")","v":""},null,null,null,null,null,null,null,null,null,null,null,0,null,{"$f":"IF(AND($C$6=\"Yes\",$C$7=\"Yes\",G58<>\"\",I58<>\"\",K58<>\"\",M58<>\"\"),IF(Equipment!$C$7=\"Supermarket\",Equipment!K59*279,Equipment!K59*119),0)","v":0},0]
[49,null,{"$f":"IF(Equipment!S60=\"x\",Equipment!C60,\"\")","v":""},null,null,null,null,null,null,null,null,null,null,null,0,null,{"$f":"IF(AND($C$6=\"Yes\",$C$7=\"Yes\",G59<>\"\",I59<>\"\",K59<>\"\",M59<>\"\"),IF(Equipment!$C$7=\"Supermarket\",Equipment!K60*279,Equipment!K60*119),0)","v":0},0]
[50,null,{"$f":"IF(Equipment!S61=\"x\",Equipment!C61,\"\")","v":""},null,null,null,null,null,null,null,null,null,null,null,0,null,{"$f":"IF(AND($C$6=\"Yes\",$C$7=\"Yes\",G60<>\"\",I60<>\"\",K60<>\"\",M60<>\"\"),IF(Equipment!$C$7=\"Supermarket\",Equipment!K61*279,Equipment!K61*119),0)","v":0},0]
[51,null,{"$f":"IF(Equipment!S62=\"x\",Equipment!C62,\"\")","v":""},null,null,null,null,null,null,null,null,null,null,null,0,null,{"$f":"IF(AND($C$6=\"Yes\",$C$7=\"Yes\",G61<>\"\",I61<>\"\",K61<>\"\",M61<>\"\"),IF(Equipment!$C$7=\"Supermarket\",Equipment!K62*279,Equipment!K62*119),0)","v":0},0]
[52,null,{"$f":"IF(Equipment!S63=\"x\",Equipment!C63,\"\")","v":""},null,null,null,null,null,null,null,null,null,null,null,0,null,{"$f":"IF(AND($C$6=\"Yes\",$C$7=\"Yes\",G62<>\"\",I62<>\"\",K62<>\"\",M62<>\"\"),IF(Equipment!$C$7=\"Supermarket\",Equipment!K63*279,Equipment!K63*119),0)","v":0},0]
[53,null,{"$f":"IF(Equipment!S64=\"x\",Equipment!C64,\"\")","v":""},null,null,null,null,null,null,null,null,null,null,null,0,null,{"$f":"IF(AND($C$6=\"Yes\",$C$7=\"Yes\",G63<>\"\",I63<>\"\",K63<>\"\",M63<>\"\"),IF(Equipment!$C$7=\"Supermarket\",Equipment!K64*279,Equipment!K64*119),0)","v":0},0]
[54,null,{"$f":"IF(Equipment!S65=\"x\",Equipment!C65,\"\")","v":""},null,null,null,null,null,null,null,null,null,null,null,0,null,{"$f":"IF(AND($C$6=\"Yes\",$C$7=\"Yes\",G64<>\"\",I64<>\"\",K64<>\"\",M64<>\"\"),IF(Equipment!$C$7=\"Supermarket\",Equipment!K65*279,Equipment!K65*119),0)","v":0},0]
[55,null,{"$f":"IF(Equipment!S66=\"x\",Equipment!C66,\"\")","v":""},null,null,null,null,null,null,null,null,null,null,null,0,null,{"$f":"IF(AND($C$6=\"Yes\",$C$7=\"Yes\",G65<>\"\",I65<>\"\",K65<>\"\",M65<>\"\"),IF(Equipment!$C$7=\"Supermarket\",Equipment!K66*279,Equipment!K66*119),0)","v":0},0]
[56,null,{"$f":"IF(Equipment!S67=\"x\",Equipment!C67,\"\")","v":""},null,null,null,null,null,null,null,null,null,null,null,0,null,{"$f":"IF(AND($C$6=\"Yes\",$C$7=\"Yes\",G66<>\"\",I66<>\"\",K66<>\"\",M66<>\"\"),IF(Equipment!$C$7=\"Supermarket\",Equipment!K67*279,Equipment!K67*119),0)","v":0},0]
[57,null,{"$f":"IF(Equipment!S68=\"x\",Equipment!C68,\"\")","v":""},null,null,null,null,null,null,null,null,null,null,null,0,null,{"$f":"IF(AND($C$6=\"Yes\",$C$7=\"Yes\",G67<>\"\",I67<>\"\",K67<>\"\",M67<>\"\"),IF(Equipment!$C$7=\"Supermarket\",Equipment!K68*279,Equipment!K68*119),0)","v":0},0]
[58,null,{"$f":"IF(Equipment!S69=\"x\",Equipment!C69,\"\")","v":""},null,null,null,null,null,null,null,null,null,null,null,0,null,{"$f":"IF(AND($C$6=\"Yes\",$C$7=\"Yes\",G68<>\"\",I68<>\"\",K68<>\"\",M68<>\"\"),IF(Equipment!$C$7=\"Supermarket\",Equipment!K69*279,Equipment!K69*119),0)","v":0},0]
[59,null,{"$f":"IF(Equipment!S70=\"x\",Equipment!C70,\"\")","v":""},null,null,null,null,null,null,null,null,null,null,null,0,null,{"$f":"IF(AND($C$6=\"Yes\",$C$7=\"Yes\",G69<>\"\",I69<>\"\",K69<>\"\",M69<>\"\"),IF(Equipment!$C$7=\"Supermarket\",Equipment!K70*279,Equipment!K70*119),0)","v":0},0]
[60,null,{"$f":"IF(Equipment!S71=\"x\",Equipment!C71,\"\")","v":""},null,null,null,null,null,null,null,null,null,null,null,0,null,{"$f":"IF(AND($C$6=\"Yes\",$C$7=\"Yes\",G70<>\"\",I70<>\"\",K70<>\"\",M70<>\"\"),IF(Equipment!$C$7=\"Supermarket\",Equipment!K71*279,Equipment!K71*119),0)","v":0},0]
[61,null,{"$f":"IF(Equipment!S72=\"x\",Equipment!C72,\"\")","v":""},null,null,null,null,null,null,null,null,null,null,null,0,null,{"$f":"IF(AND($C$6=\"Yes\",$C$7=\"Yes\",G71<>\"\",I71<>\"\",K71<>\"\",M71<>\"\"),IF(Equipment!$C$7=\"Supermarket\",Equipment!K72*279,Equipment!K72*119),0)","v":0},0]
[62,null,{"$f":"IF(Equipment!S73=\"x\",Equipment!C73,\"\")","v":""},null,null,null,null,null,null,null,null,null,null,null,0,null,{"$f":"IF(AND($C$6=\"Yes\",$C$7=\"Yes\",G72<>\"\",I72<>\"\",K72<>\"\",M72<>\"\"),IF(Equipment!$C$7=\"Supermarket\",Equipment!K73*279,Equipment!K73*119),0)","v":0},0]
[63,null,{"$f":"IF(Equipment!S74=\"x\",Equipment!C74,\"\")","v":""},null,null,null,null,null,null,null,null,null,null,null,0,null,{"$f":"IF(AND($C$6=\"Yes\",$C$7=\"Yes\",G73<>\"\",I73<>\"\",K73<>\"\",M73<>\"\"),IF(Equipment!$C$7=\"Supermarket\",Equipment!K74*279,Equipment!K74*119),0)","v":0},0]
[64,null,{"$f":"IF(Equipment!S75=\"x\",Equipment!C75,\"\")","v":""},null,null,null,null,null,null,null,null,null,null,null,0,null,{"$f":"IF(AND($C$6=\"Yes\",$C$7=\"Yes\",G74<>\"\",I74<>\"\",K74<>\"\",M74<>\"\"),IF(Equipment!$C$7=\"Supermarket\",Equipment!K75*279,Equipment!K75*119),0)","v":0},0]
[65,null,{"$f":"IF(Equipment!S76=\"x\",Equipment!C76,\"\")","v":""},null,null,null,null,null,null,null,null,null,null,null,0,null,{"$f":"IF(AND($C$6=\"Yes\",$C$7=\"Yes\",G75<>\"\",I75<>\"\",K75<>\"\",M75<>\"\"),IF(Equipment!$C$7=\"Supermarket\",Equipment!K76*279,Equipment!K76*119),0)","v":0},0]
[66,null,{"$f":"IF(Equipment!S77=\"x\",Equipment!C77,\"\")","v":""},null,null,null,null,null,null,null,null,null,null,null,{"$f":"IF(AND($C$6=\"Yes\",$C$7=\"Yes\",G76<>\"\",I76<>\"\",K76<>\"\",M76<>\"\"),MIN(E76*0.7,150),0)","v":0},null,{"$f":"IF(AND($C$6=\"Yes\",$C$7=\"Yes\",G76<>\"\",I76<>\"\",K76<>\"\",M76<>\"\"),IF(Equipment!$C$7=\"Supermarket\",Equipment!K77*279,Equipment!K77*119),0)","v":0},0]
[67,null,{"$f":"IF(Equipment!S78=\"x\",Equipment!C78,\"\")","v":""},null,null,null,null,null,null,null,null,null,null,null,0,null,{"$f":"IF(AND($C$6=\"Yes\",$C$7=\"Yes\",G77<>\"\",I77<>\"\",K77<>\"\",M77<>\"\"),IF(Equipment!$C$7=\"Supermarket\",Equipment!K78*279,Equipment!K78*119),0)","v":0},0]
[68,null,{"$f":"IF(Equipment!S79=\"x\",Equipment!C79,\"\")","v":""},null,null,null,null,null,null,null,null,null,null,null,0,null,{"$f":"IF(AND($C$6=\"Yes\",$C$7=\"Yes\",G78<>\"\",I78<>\"\",K78<>\"\",M78<>\"\"),IF(Equipment!$C$7=\"Supermarket\",Equipment!K79*279,Equipment!K79*119),0)","v":0},0]
[69,null,{"$f":"IF(Equipment!S80=\"x\",Equipment!C80,\"\")","v":""},null,null,null,null,null,null,null,null,null,null,null,0,null,{"$f":"IF(AND($C$6=\"Yes\",$C$7=\"Yes\",G79<>\"\",I79<>\"\",K79<>\"\",M79<>\"\"),IF(Equipment!$C$7=\"Supermarket\",Equipment!K80*279,Equipment!K80*119),0)","v":0},0]
[70,null,{"$f":"IF(Equipment!S81=\"x\",Equipment!C81,\"\")","v":""},null,null,null,null,null,null,null,null,null,null,null,0,null,{"$f":"IF(AND($C$6=\"Yes\",$C$7=\"Yes\",G80<>\"\",I80<>\"\",K80<>\"\",M80<>\"\"),IF(Equipment!$C$7=\"Supermarket\",Equipment!K81*279,Equipment!K81*119),0)","v":0},0]
[71,null,{"$f":"IF(Equipment!S82=\"x\",Equipment!C82,\"\")","v":""},null,null,null,null,null,null,null,null,null,null,null,0,null,{"$f":"IF(AND($C$6=\"Yes\",$C$7=\"Yes\",G81<>\"\",I81<>\"\",K81<>\"\",M81<>\"\"),IF(Equipment!$C$7=\"Supermarket\",Equipment!K82*279,Equipment!K82*119),0)","v":0},0]
[72,null,{"$f":"IF(Equipment!S83=\"x\",Equipment!C83,\"\")","v":""},null,null,null,null,null,null,null,null,null,null,null,0,null,{"$f":"IF(AND($C$6=\"Yes\",$C$7=\"Yes\",G82<>\"\",I82<>\"\",K82<>\"\",M82<>\"\"),IF(Equipment!$C$7=\"Supermarket\",Equipment!K83*279,Equipment!K83*119),0)","v":0},0]
[73,null,{"$f":"IF(Equipment!S84=\"x\",Equipment!C84,\"\")","v":""},null,null,null,null,null,null,null,null,null,null,null,0,null,{"$f":"IF(AND($C$6=\"Yes\",$C$7=\"Yes\",G83<>\"\",I83<>\"\",K83<>\"\",M83<>\"\"),IF(Equipment!$C$7=\"Supermarket\",Equipment!K84*279,Equipment!K84*119),0)","v":0},0]
[74,null,{"$f":"IF(Equipment!S85=\"x\",Equipment!C85,\"\")","v":""},null,null,null,null,null,null,null,null,null,null,null,0,null,{"$f":"IF(AND($C$6=\"Yes\",$C$7=\"Yes\",G84<>\"\",I84<>\"\",K84<>\"\",M84<>\"\"),IF(Equipment!$C$7=\"Supermarket\",Equipment!K85*279,Equipment!K85*119),0)","v":0},0]
[75,null,{"$f":"IF(Equipment!S86=\"x\",Equipment!C86,\"\")","v":""},null,null,null,null,null,null,null,null,null,null,null,0,null,{"$f":"IF(AND($C$6=\"Yes\",$C$7=\"Yes\",G85<>\"\",I85<>\"\",K85<>\"\",M85<>\"\"),IF(Equipment!$C$7=\"Supermarket\",Equipment!K86*279,Equipment!K86*119),0)","v":0},0]
[76,null,{"$f":"IF(Equipment!S87=\"x\",Equipment!C87,\"\")","v":""},null,null,null,null,null,null,null,null,null,null,null,0,null,{"$f":"IF(AND($C$6=\"Yes\",$C$7=\"Yes\",G86<>\"\",I86<>\"\",K86<>\"\",M86<>\"\"),IF(Equipment!$C$7=\"Supermarket\",Equipment!K87*279,Equipment!K87*119),0)","v":0},0]
[77,null,{"$f":"IF(Equipment!S88=\"x\",Equipment!C88,\"\")","v":""},null,null,null,null,null,null,null,null,null,null,null,0,null,{"$f":"IF(AND($C$6=\"Yes\",$C$7=\"Yes\",G87<>\"\",I87<>\"\",K87<>\"\",M87<>\"\"),IF(Equipment!$C$7=\"Supermarket\",Equipment!K88*279,Equipment!K88*119),0)","v":0},0]
[78,null,{"$f":"IF(Equipment!S89=\"x\",Equipment!C89,\"\")","v":""},null,null,null,null,null,null,null,null,null,null,null,0,null,{"$f":"IF(AND($C$6=\"Yes\",$C$7=\"Yes\",G88<>\"\",I88<>\"\",K88<>\"\",M88<>\"\"),IF(Equipment!$C$7=\"Supermarket\",Equipment!K89*279,Equipment!K89*119),0)","v":0},0]
[79,null,{"$f":"IF(Equipment!S90=\"x\",Equipment!C90,\"\")","v":""},null,null,null,null,null,null,null,null,null,null,null,0,null,{"$f":"IF(AND($C$6=\"Yes\",$C$7=\"Yes\",G89<>\"\",I89<>\"\",K89<>\"\",M89<>\"\"),IF(Equipment!$C$7=\"Supermarket\",Equipment!K90*279,Equipment!K90*119),0)","v":0},0]
[80,null,{"$f":"IF(Equipment!S91=\"x\",Equipment!C91,\"\")","v":""},null,null,null,null,null,null,null,null,null,null,null,0,null,{"$f":"IF(AND($C$6=\"Yes\",$C$7=\"Yes\",G90<>\"\",I90<>\"\",K90<>\"\",M90<>\"\"),IF(Equipment!$C$7=\"Supermarket\",Equipment!K91*279,Equipment!K91*119),0)","v":0},0]
[81,null,{"$f":"IF(Equipment!S92=\"x\",Equipment!C92,\"\")","v":""},null,null,null,null,null,null,null,null,null,null,null,0,null,{"$f":"IF(AND($C$6=\"Yes\",$C$7=\"Yes\",G91<>\"\",I91<>\"\",K91<>\"\",M91<>\"\"),IF(Equipment!$C$7=\"Supermarket\",Equipment!K92*279,Equipment!K92*119),0)","v":0},0]
[82,null,{"$f":"IF(Equipment!S93=\"x\",Equipment!C93,\"\")","v":""},null,null,null,null,null,null,null,null,null,null,null,0,null,{"$f":"IF(AND($C$6=\"Yes\",$C$7=\"Yes\",G92<>\"\",I92<>\"\",K92<>\"\",M92<>\"\"),IF(Equipment!$C$7=\"Supermarket\",Equipment!K93*279,Equipment!K93*119),0)","v":0},0]
[83,null,{"$f":"IF(Equipment!S94=\"x\",Equipment!C94,\"\")","v":""},null,null,null,null,null,null,null,null,null,null,null,0,null,{"$f":"IF(AND($C$6=\"Yes\",$C$7=\"Yes\",G93<>\"\",I93<>\"\",K93<>\"\",M93<>\"\"),IF(Equipment!$C$7=\"Supermarket\",Equipment!K94*279,Equipment!K94*119),0)","v":0},0]
[84,null,{"$f":"IF(Equipment!S95=\"x\",Equipment!C95,\"\")","v":""},null,null,null,null,null,null,null,null,null,null,null,0,null,{"$f":"IF(AND($C$6=\"Yes\",$C$7=\"Yes\",G94<>\"\",I94<>\"\",K94<>\"\",M94<>\"\"),IF(Equipment!$C$7=\"Supermarket\",Equipment!K95*279,Equipment!K95*119),0)","v":0},0]
[85,null,{"$f":"IF(Equipment!S96=\"x\",Equipment!C96,\"\")","v":""},null,null,null,null,null,null,null,null,null,null,null,0,null,{"$f":"IF(AND($C$6=\"Yes\",$C$7=\"Yes\",G95<>\"\",I95<>\"\",K95<>\"\",M95<>\"\"),IF(Equipment!$C$7=\"Supermarket\",Equipment!K96*279,Equipment!K96*119),0)","v":0},0]
[86,null,{"$f":"IF(Equipment!S97=\"x\",Equipment!C97,\"\")","v":""},null,null,null,null,null,null,null,null,null,null,null,0,null,{"$f":"IF(AND($C$6=\"Yes\",$C$7=\"Yes\",G96<>\"\",I96<>\"\",K96<>\"\",M96<>\"\"),IF(Equipment!$C$7=\"Supermarket\",Equipment!K97*279,Equipment!K97*119),0)","v":0},0]
[87,null,{"$f":"IF(Equipment!S98=\"x\",Equipment!C98,\"\")","v":""},null,null,null,null,null,null,null,null,null,null,null,0,null,{"$f":"IF(AND($C$6=\"Yes\",$C$7=\"Yes\",G97<>\"\",I97<>\"\",K97<>\"\",M97<>\"\"),IF(Equipment!$C$7=\"Supermarket\",Equipment!K98*279,Equipment!K98*119),0)","v":0},0]
[88,null,{"$f":"IF(Equipment!S99=\"x\",Equipment!C99,\"\")","v":""},null,null,null,null,null,null,null,null,null,null,null,0,null,{"$f":"IF(AND($C$6=\"Yes\",$C$7=\"Yes\",G98<>\"\",I98<>\"\",K98<>\"\",M98<>\"\"),IF(Equipment!$C$7=\"Supermarket\",Equipment!K99*279,Equipment!K99*119),0)","v":0},0]
[89,null,{"$f":"IF(Equipment!S100=\"x\",Equipment!C100,\"\")","v":""},null,null,null,null,null,null,null,null,null,null,null,0,null,{"$f":"IF(AND($C$6=\"Yes\",$C$7=\"Yes\",G99<>\"\",I99<>\"\",K99<>\"\",M99<>\"\"),IF(Equipment!$C$7=\"Supermarket\",Equipment!K100*279,Equipment!K100*119),0)","v":0},0]
[90,null,{"$f":"IF(Equipment!S101=\"x\",Equipment!C101,\"\")","v":""},null,null,null,null,null,null,null,null,null,null,null,0,null,{"$f":"IF(AND($C$6=\"Yes\",$C$7=\"Yes\",G100<>\"\",I100<>\"\",K100<>\"\",M100<>\"\"),IF(Equipment!$C$7=\"Supermarket\",Equipment!K101*279,Equipment!K101*119),0)","v":0},0]
[91,null,{"$f":"IF(Equipment!S102=\"x\",Equipment!C102,\"\")","v":""},null,null,null,null,null,null,null,null,null,null,null,0,null,{"$f":"IF(AND($C$6=\"Yes\",$C$7=\"Yes\",G101<>\"\",I101<>\"\",K101<>\"\",M101<>\"\"),IF(Equipment!$C$7=\"Supermarket\",Equipment!K102*279,Equipment!K102*119),0)","v":0},0]
[92,null,{"$f":"IF(Equipment!S103=\"x\",Equipment!C103,\"\")","v":""},null,null,null,null,null,null,null,null,null,null,null,0,null,{"$f":"IF(AND($C$6=\"Yes\",$C$7=\"Yes\",G102<>\"\",I102<>\"\",K102<>\"\",M102<>\"\"),IF(Equipment!$C$7=\"Supermarket\",Equipment!K103*279,Equipment!K103*119),0)","v":0},0]
[93,null,{"$f":"IF(Equipment!S104=\"x\",Equipment!C104,\"\")","v":""},null,null,null,null,null,null,null,null,null,null,null,0,null,{"$f":"IF(AND($C$6=\"Yes\",$C$7=\"Yes\",G103<>\"\",I103<>\"\",K103<>\"\",M103<>\"\"),IF(Equipment!$C$7=\"Supermarket\",Equipment!K104*279,Equipment!K104*119),0)","v":0},0]
[94,null,{"$f":"IF(Equipment!S105=\"x\",Equipment!C105,\"\")","v":""},null,null,null,null,null,null,null,null,null,null,null,0,null,{"$f":"IF(AND($C$6=\"Yes\",$C$7=\"Yes\",G104<>\"\",I104<>\"\",K104<>\"\",M104<>\"\"),IF(Equipment!$C$7=\"Supermarket\",Equipment!K105*279,Equipment!K105*119),0)","v":0},0]
[95,null,{"$f":"IF(Equipment!S106=\"x\",Equipment!C106,\"\")","v":""},null,null,null,null,null,null,null,null,null,null,null,0,null,{"$f":"IF(AND($C$6=\"Yes\",$C$7=\"Yes\",G105<>\"\",I105<>\"\",K105<>\"\",M105<>\"\"),IF(Equipment!$C$7=\"Supermarket\",Equipment!K106*279,Equipment!K106*119),0)","v":0},0]
[96,null,{"$f":"IF(Equipment!S107=\"x\",Equipment!C107,\"\")","v":""},null,null,null,null,null,null,null,null,null,null,null,0,null,{"$f":"IF(AND($C$6=\"Yes\",$C$7=\"Yes\",G106<>\"\",I106<>\"\",K106<>\"\",M106<>\"\"),IF(Equipment!$C$7=\"Supermarket\",Equipment!K107*279,Equipment!K107*119),0)","v":0},0]
[97,null,{"$f":"IF(Equipment!S108=\"x\",Equipment!C108,\"\")","v":""},null,null,null,null,null,null,null,null,null,null,null,0,null,{"$f":"IF(AND($C$6=\"Yes\",$C$7=\"Yes\",G107<>\"\",I107<>\"\",K107<>\"\",M107<>\"\"),IF(Equipment!$C$7=\"Supermarket\",Equipment!K108*279,Equipment!K108*119),0)","v":0},0]
[98,null,{"$f":"IF(Equipment!S109=\"x\",Equipment!C109,\"\")","v":""},null,null,null,null,null,null,null,null,null,null,null,0,null,{"$f":"IF(AND($C$6=\"Yes\",$C$7=\"Yes\",G108<>\"\",I108<>\"\",K108<>\"\",M108<>\"\"),IF(Equipment!$C$7=\"Supermarket\",Equipment!K109*279,Equipment!K109*119),0)","v":0},0]
[99,null,{"$f":"IF(Equipment!S110=\"x\",Equipment!C110,\"\")","v":""},null,null,null,null,null,null,null,null,null,null,null,0,null,{"$f":"IF(AND($C$6=\"Yes\",$C$7=\"Yes\",G109<>\"\",I109<>\"\",K109<>\"\",M109<>\"\"),IF(Equipment!$C$7=\"Supermarket\",Equipment!K110*279,Equipment!K110*119),0)","v":0},0]
[100,null,{"$f":"IF(Equipment!S111=\"x\",Equipment!C111,\"\")","v":""},null,null,null,null,null,null,null,null,null,null,null,0,null,{"$f":"IF(AND($C$6=\"Yes\",$C$7=\"Yes\",G110<>\"\",I110<>\"\",K110<>\"\",M110<>\"\"),IF(Equipment!$C$7=\"Supermarket\",Equipment!K111*279,Equipment!K111*119),0)","v":0},0]
[101,null,{"$f":"IF(Equipment!S112=\"x\",Equipment!C112,\"\")","v":""},null,null,null,null,null,null,null,null,null,null,null,0,null,{"$f":"IF(AND($C$6=\"Yes\",$C$7=\"Yes\",G111<>\"\",I111<>\"\",K111<>\"\",M111<>\"\"),IF(Equipment!$C$7=\"Supermarket\",Equipment!K112*279,Equipment!K112*119),0)","v":0},0]
[102,null,{"$f":"IF(Equipment!S113=\"x\",Equipment!C113,\"\")","v":""},null,null,null,null,null,null,null,null,null,null,null,0,null,{"$f":"IF(AND($C$6=\"Yes\",$C$7=\"Yes\",G112<>\"\",I112<>\"\",K112<>\"\",M112<>\"\"),IF(Equipment!$C$7=\"Supermarket\",Equipment!K113*279,Equipment!K113*119),0)","v":0},0]
[103,null,{"$f":"IF(Equipment!S114=\"x\",Equipment!C114,\"\")","v":""},null,null,null,null,null,null,null,null,null,null,null,0,null,{"$f":"IF(AND($C$6=\"Yes\",$C$7=\"Yes\",G113<>\"\",I113<>\"\",K113<>\"\",M113<>\"\"),IF(Equipment!$C$7=\"Supermarket\",Equipment!K114*279,Equipment!K114*119),0)","v":0},0]
[104,null,{"$f":"IF(Equipment!S115=\"x\",Equipment!C115,\"\")","v":""},null,null,null,null,null,null,null,null,null,null,null,0,null,{"$f":"IF(AND($C$6=\"Yes\",$C$7=\"Yes\",G114<>\"\",I114<>\"\",K114<>\"\",M114<>\"\"),IF(Equipment!$C$7=\"Supermarket\",Equipment!K115*279,Equipment!K115*119),0)","v":0},0]
[105,null,{"$f":"IF(Equipment!S116=\"x\",Equipment!C116,\"\")","v":""},null,null,null,null,null,null,null,null,null,null,null,0,null,{"$f":"IF(AND($C$6=\"Yes\",$C$7=\"Yes\",G115<>\"\",I115<>\"\",K115<>\"\",M115<>\"\"),IF(Equipment!$C$7=\"Supermarket\",Equipment!K116*279,Equipment!K116*119),0)","v":0},0]
[106,null,{"$f":"IF(Equipment!S117=\"x\",Equipment!C117,\"\")","v":""},null,null,null,null,null,null,null,null,null,null,null,0,null,{"$f":"IF(AND($C$6=\"Yes\",$C$7=\"Yes\",G116<>\"\",I116<>\"\",K116<>\"\",M116<>\"\"),IF(Equipment!$C$7=\"Supermarket\",Equipment!K117*279,Equipment!K117*119),0)","v":0},0]
[107,null,{"$f":"IF(Equipment!S118=\"x\",Equipment!C118,\"\")","v":""},null,null,null,null,null,null,null,null,null,null,null,0,null,{"$f":"IF(AND($C$6=\"Yes\",$C$7=\"Yes\",G117<>\"\",I117<>\"\",K117<>\"\",M117<>\"\"),IF(Equipment!$C$7=\"Supermarket\",Equipment!K118*279,Equipment!K118*119),0)","v":0},0]
[108,null,{"$f":"IF(Equipment!S119=\"x\",Equipment!C119,\"\")","v":""},null,null,null,null,null,null,null,null,null,null,null,0,null,{"$f":"IF(AND($C$6=\"Yes\",$C$7=\"Yes\",G118<>\"\",I118<>\"\",K118<>\"\",M118<>\"\"),IF(Equipment!$C$7=\"Supermarket\",Equipment!K119*279,Equipment!K119*119),0)","v":0},0]
[109,null,{"$f":"IF(Equipment!S120=\"x\",Equipment!C120,\"\")","v":""},null,null,null,null,null,null,null,null,null,null,null,0,null,{"$f":"IF(AND($C$6=\"Yes\",$C$7=\"Yes\",G119<>\"\",I119<>\"\",K119<>\"\",M119<>\"\"),IF(Equipment!$C$7=\"Supermarket\",Equipment!K120*279,Equipment!K120*119),0)","v":0},0]
[110,null,{"$f":"IF(Equipment!S121=\"x\",Equipment!C121,\"\")","v":""},null,null,null,null,null,null,null,null,null,null,null,0,null,{"$f":"IF(AND($C$6=\"Yes\",$C$7=\"Yes\",G120<>\"\",I120<>\"\",K120<>\"\",M120<>\"\"),IF(Equipment!$C$7=\"Supermarket\",Equipment!K121*279,Equipment!K121*119),0)","v":0},0]
[111,null,{"$f":"IF(Equipment!S122=\"x\",Equipment!C122,\"\")","v":""},null,null,null,null,null,null,null,null,null,null,null,0,null,{"$f":"IF(AND($C$6=\"Yes\",$C$7=\"Yes\",G121<>\"\",I121<>\"\",K121<>\"\",M121<>\"\"),IF(Equipment!$C$7=\"Supermarket\",Equipment!K122*279,Equipment!K122*119),0)","v":0},0]
[112,null,{"$f":"IF(Equipment!S123=\"x\",Equipment!C123,\"\")","v":""},null,null,null,null,null,null,null,null,null,null,null,0,null,{"$f":"IF(AND($C$6=\"Yes\",$C$7=\"Yes\",G122<>\"\",I122<>\"\",K122<>\"\",M122<>\"\"),IF(Equipment!$C$7=\"Supermarket\",Equipment!K123*279,Equipment!K123*119),0)","v":0},0]
[113,null,{"$f":"IF(Equipment!S124=\"x\",Equipment!C124,\"\")","v":""},null,null,null,null,null,null,null,null,null,null,null,0,null,{"$f":"IF(AND($C$6=\"Yes\",$C$7=\"Yes\",G123<>\"\",I123<>\"\",K123<>\"\",M123<>\"\"),IF(Equipment!$C$7=\"Supermarket\",Equipment!K124*279,Equipment!K124*119),0)","v":0},0]
[114,null,{"$f":"IF(Equipment!S125=\"x\",Equipment!C125,\"\")","v":""},null,null,null,null,null,null,null,null,null,null,null,0,null,{"$f":"IF(AND($C$6=\"Yes\",$C$7=\"Yes\",G124<>\"\",I124<>\"\",K124<>\"\",M124<>\"\"),IF(Equipment!$C$7=\"Supermarket\",Equipment!K125*279,Equipment!K125*119),0)","v":0},0]
[115,null,{"$f":"IF(Equipment!S126=\"x\",Equipment!C126,\"\")","v":""},null,null,null,null,null,null,null,null,null,null,null,0,null,{"$f":"IF(AND($C$6=\"Yes\",$C$7=\"Yes\",G125<>\"\",I125<>\"\",K125<>\"\",M125<>\"\"),IF(Equipment!$C$7=\"Supermarket\",Equipment!K126*279,Equipment!K126*119),0)","v":0},0]
[116,null,{"$f":"IF(Equipment!S127=\"x\",Equipment!C127,\"\")","v":""},null,null,null,null,null,null,null,null,null,null,null,0,null,{"$f":"IF(AND($C$6=\"Yes\",$C$7=\"Yes\",G126<>\"\",I126<>\"\",K126<>\"\",M126<>\"\"),IF(Equipment!$C$7=\"Supermarket\",Equipment!K127*279,Equipment!K127*119),0)","v":0},0]
[117,null,{"$f":"IF(Equipment!S128=\"x\",Equipment!C128,\"\")","v":""},null,null,null,null,null,null,null,null,null,null,null,0,null,{"$f":"IF(AND($C$6=\"Yes\",$C$7=\"Yes\",G127<>\"\",I127<>\"\",K127<>\"\",M127<>\"\"),IF(Equipment!$C$7=\"Supermarket\",Equipment!K128*279,Equipment!K128*119),0)","v":0},0]
[118,null,{"$f":"IF(Equipment!S129=\"x\",Equipment!C129,\"\")","v":""},null,null,null,null,null,null,null,null,null,null,null,0,null,{"$f":"IF(AND($C$6=\"Yes\",$C$7=\"Yes\",G128<>\"\",I128<>\"\",K128<>\"\",M128<>\"\"),IF(Equipment!$C$7=\"Supermarket\",Equipment!K129*279,Equipment!K129*119),0)","v":0},0]
[119,null,{"$f":"IF(Equipment!S130=\"x\",Equipment!C130,\"\")","v":""},null,null,null,null,null,null,null,null,null,null,null,0,null,{"$f":"IF(AND($C$6=\"Yes\",$C$7=\"Yes\",G129<>\"\",I129<>\"\",K129<>\"\",M129<>\"\"),IF(Equipment!$C$7=\"Supermarket\",Equipment!K130*279,Equipment!K130*119),0)","v":0},0]
[120,null,{"$f":"IF(Equipment!S131=\"x\",Equipment!C131,\"\")","v":""},null,null,null,null,null,null,null,null,null,null,null,0,null,{"$f":"IF(AND($C$6=\"Yes\",$C$7=\"Yes\",G130<>\"\",I130<>\"\",K130<>\"\",M130<>\"\"),IF(Equipment!$C$7=\"Supermarket\",Equipment!K131*279,Equipment!K131*119),0)","v":0},0]
[121,null,{"$f":"IF(Equipment!S132=\"x\",Equipment!C132,\"\")","v":""},null,null,null,null,null,null,null,null,null,null,null,0,null,{"$f":"IF(AND($C$6=\"Yes\",$C$7=\"Yes\",G131<>\"\",I131<>\"\",K131<>\"\",M131<>\"\"),IF(Equipment!$C$7=\"Supermarket\",Equipment!K132*279,Equipment!K132*119),0)","v":0},0]
[122,null,{"$f":"IF(Equipment!S133=\"x\",Equipment!C133,\"\")","v":""},null,null,null,null,null,null,null,null,null,null,null,0,null,{"$f":"IF(AND($C$6=\"Yes\",$C$7=\"Yes\",G132<>\"\",I132<>\"\",K132<>\"\",M132<>\"\"),IF(Equipment!$C$7=\"Supermarket\",Equipment!K133*279,Equipment!K133*119),0)","v":0},0]
[123,null,{"$f":"IF(Equipment!S134=\"x\",Equipment!C134,\"\")","v":""},null,null,null,null,null,null,null,null,null,null,null,0,null,{"$f":"IF(AND($C$6=\"Yes\",$C$7=\"Yes\",G133<>\"\",I133<>\"\",K133<>\"\",M133<>\"\"),IF(Equipment!$C$7=\"Supermarket\",Equipment!K134*279,Equipment!K134*119),0)","v":0},0]
[124,null,{"$f":"IF(Equipment!S135=\"x\",Equipment!C135,\"\")","v":""},null,null,null,null,null,null,null,null,null,null,null,0,null,{"$f":"IF(AND($C$6=\"Yes\",$C$7=\"Yes\",G134<>\"\",I134<>\"\",K134<>\"\",M134<>\"\"),IF(Equipment!$C$7=\"Supermarket\",Equipment!K135*279,Equipment!K135*119),0)","v":0},0]
[125,null,{"$f":"IF(Equipment!S136=\"x\",Equipment!C136,\"\")","v":""},null,null,null,null,null,null,null,null,null,null,null,0,null,{"$f":"IF(AND($C$6=\"Yes\",$C$7=\"Yes\",G135<>\"\",I135<>\"\",K135<>\"\",M135<>\"\"),IF(Equipment!$C$7=\"Supermarket\",Equipment!K136*279,Equipment!K136*119),0)","v":0},0]
[126,null,{"$f":"IF(Equipment!S137=\"x\",Equipment!C137,\"\")","v":""},null,null,null,null,null,null,null,null,null,null,null,0,null,{"$f":"IF(AND($C$6=\"Yes\",$C$7=\"Yes\",G136<>\"\",I136<>\"\",K136<>\"\",M136<>\"\"),IF(Equipment!$C$7=\"Supermarket\",Equipment!K137*279,Equipment!K137*119),0)","v":0},0]
[127,null,{"$f":"IF(Equipment!S138=\"x\",Equipment!C138,\"\")","v":""},null,null,null,null,null,null,null,null,null,null,null,0,null,{"$f":"IF(AND($C$6=\"Yes\",$C$7=\"Yes\",G137<>\"\",I137<>\"\",K137<>\"\",M137<>\"\"),IF(Equipment!$C$7=\"Supermarket\",Equipment!K138*279,Equipment!K138*119),0)","v":0},0]
[128,null,{"$f":"IF(Equipment!S139=\"x\",Equipment!C139,\"\")","v":""},null,null,null,null,null,null,null,null,null,null,null,0,null,{"$f":"IF(AND($C$6=\"Yes\",$C$7=\"Yes\",G138<>\"\",I138<>\"\",K138<>\"\",M138<>\"\"),IF(Equipment!$C$7=\"Supermarket\",Equipment!K139*279,Equipment!K139*119),0)","v":0},0]
[129,null,{"$f":"IF(Equipment!S140=\"x\",Equipment!C140,\"\")","v":""},null,null,null,null,null,null,null,null,null,null,null,0,null,{"$f":"IF(AND($C$6=\"Yes\",$C$7=\"Yes\",G139<>\"\",I139<>\"\",K139<>\"\",M139<>\"\"),IF(Equipment!$C$7=\"Supermarket\",Equipment!K140*279,Equipment!K140*119),0)","v":0},0]
[130,null,{"$f":"IF(Equipment!S141=\"x\",Equipment!C141,\"\")","v":""},null,null,null,null,null,null,null,null,null,null,null,{"$f":"IF(AND($C$6=\"Yes\",$C$7=\"Yes\",G140<>\"\",I140<>\"\",K140<>\"\",M140<>\"\"),MIN(E140*0.7,150),0)","v":0},null,{"$f":"IF(AND($C$6=\"Yes\",$C$7=\"Yes\",G140<>\"\",I140<>\"\",K140<>\"\",M140<>\"\"),IF(Equipment!$C$7=\"Supermarket\",Equipment!K141*279,Equipment!K141*119),0)","v":0},0]
[131,null,{"$f":"IF(Equipment!S142=\"x\",Equipment!C142,\"\")","v":""},null,null,null,null,null,null,null,null,null,null,null,0,null,{"$f":"IF(AND($C$6=\"Yes\",$C$7=\"Yes\",G141<>\"\",I141<>\"\",K141<>\"\",M141<>\"\"),IF(Equipment!$C$7=\"Supermarket\",Equipment!K142*279,Equipment!K142*119),0)","v":0},0]
[132,null,{"$f":"IF(Equipment!S143=\"x\",Equipment!C143,\"\")","v":""},null,null,null,null,null,null,null,null,null,null,null,0,null,{"$f":"IF(AND($C$6=\"Yes\",$C$7=\"Yes\",G142<>\"\",I142<>\"\",K142<>\"\",M142<>\"\"),IF(Equipment!$C$7=\"Supermarket\",Equipment!K143*279,Equipment!K143*119),0)","v":0},0]
[133,null,{"$f":"IF(Equipment!S144=\"x\",Equipment!C144,\"\")","v":""},null,null,null,null,null,null,null,null,null,null,null,0,null,{"$f":"IF(AND($C$6=\"Yes\",$C$7=\"Yes\",G143<>\"\",I143<>\"\",K143<>\"\",M143<>\"\"),IF(Equipment!$C$7=\"Supermarket\",Equipment!K144*279,Equipment!K144*119),0)","v":0},0]
[134,null,{"$f":"IF(Equipment!S145=\"x\",Equipment!C145,\"\")","v":""},null,null,null,null,null,null,null,null,null,null,null,0,null,{"$f":"IF(AND($C$6=\"Yes\",$C$7=\"Yes\",G144<>\"\",I144<>\"\",K144<>\"\",M144<>\"\"),IF(Equipment!$C$7=\"Supermarket\",Equipment!K145*279,Equipment!K145*119),0)","v":0},0]
[135,null,{"$f":"IF(Equipment!S146=\"x\",Equipment!C146,\"\")","v":""},null,null,null,null,null,null,null,null,null,null,null,0,null,{"$f":"IF(AND($C$6=\"Yes\",$C$7=\"Yes\",G145<>\"\",I145<>\"\",K145<>\"\",M145<>\"\"),IF(Equipment!$C$7=\"Supermarket\",Equipment!K146*279,Equipment!K146*119),0)","v":0},0]
[136,null,{"$f":"IF(Equipment!S147=\"x\",Equipment!C147,\"\")","v":""},null,null,null,null,null,null,null,null,null,null,null,0,null,{"$f":"IF(AND($C$6=\"Yes\",$C$7=\"Yes\",G146<>\"\",I146<>\"\",K146<>\"\",M146<>\"\"),IF(Equipment!$C$7=\"Supermarket\",Equipment!K147*279,Equipment!K147*119),0)","v":0},0]
[137,null,{"$f":"IF(Equipment!S148=\"x\",Equipment!C148,\"\")","v":""},null,null,null,null,null,null,null,null,null,null,null,0,null,{"$f":"IF(AND($C$6=\"Yes\",$C$7=\"Yes\",G147<>\"\",I147<>\"\",K147<>\"\",M147<>\"\"),IF(Equipment!$C$7=\"Supermarket\",Equipment!K148*279,Equipment!K148*119),0)","v":0},0]
[138,null,{"$f":"IF(Equipment!S149=\"x\",Equipment!C149,\"\")","v":""},null,null,null,null,null,null,null,null,null,null,null,0,null,{"$f":"IF(AND($C$6=\"Yes\",$C$7=\"Yes\",G148<>\"\",I148<>\"\",K148<>\"\",M148<>\"\"),IF(Equipment!$C$7=\"Supermarket\",Equipment!K149*279,Equipment!K149*119),0)","v":0},0]
[139,null,{"$f":"IF(Equipment!S150=\"x\",Equipment!C150,\"\")","v":""},null,null,null,null,null,null,null,null,null,null,null,0,null,{"$f":"IF(AND($C$6=\"Yes\",$C$7=\"Yes\",G149<>\"\",I149<>\"\",K149<>\"\",M149<>\"\"),IF(Equipment!$C$7=\"Supermarket\",Equipment!K150*279,Equipment!K150*119),0)","v":0},0]
[140,null,{"$f":"IF(Equipment!S151=\"x\",Equipment!C151,\"\")","v":""},null,null,null,null,null,null,null,null,null,null,null,0,null,{"$f":"IF(AND($C$6=\"Yes\",$C$7=\"Yes\",G150<>\"\",I150<>\"\",K150<>\"\",M150<>\"\"),IF(Equipment!$C$7=\"Supermarket\",Equipment!K151*279,Equipment!K151*119),0)","v":0},0]
[141,null,{"$f":"IF(Equipment!S152=\"x\",Equipment!C152,\"\")","v":""},null,null,null,null,null,null,null,null,null,null,null,0,null,{"$f":"IF(AND($C$6=\"Yes\",$C$7=\"Yes\",G151<>\"\",I151<>\"\",K151<>\"\",M151<>\"\"),IF(Equipment!$C$7=\"Supermarket\",Equipment!K152*279,Equipment!K152*119),0)","v":0},0]
[142,null,{"$f":"IF(Equipment!S153=\"x\",Equipment!C153,\"\")","v":""},null,null,null,null,null,null,null,null,null,null,null,0,null,{"$f":"IF(AND($C$6=\"Yes\",$C$7=\"Yes\",G152<>\"\",I152<>\"\",K152<>\"\",M152<>\"\"),IF(Equipment!$C$7=\"Supermarket\",Equipment!K153*279,Equipment!K153*119),0)","v":0},0]
[143,null,{"$f":"IF(Equipment!S154=\"x\",Equipment!C154,\"\")","v":""},null,null,null,null,null,null,null,null,null,null,null,0,null,{"$f":"IF(AND($C$6=\"Yes\",$C$7=\"Yes\",G153<>\"\",I153<>\"\",K153<>\"\",M153<>\"\"),IF(Equipment!$C$7=\"Supermarket\",Equipment!K154*279,Equipment!K154*119),0)","v":0},0]
[144,null,{"$f":"IF(Equipment!S155=\"x\",Equipment!C155,\"\")","v":""},null,null,null,null,null,null,null,null,null,null,null,0,null,{"$f":"IF(AND($C$6=\"Yes\",$C$7=\"Yes\",G154<>\"\",I154<>\"\",K154<>\"\",M154<>\"\"),IF(Equipment!$C$7=\"Supermarket\",Equipment!K155*279,Equipment!K155*119),0)","v":0},0]
[145,null,{"$f":"IF(Equipment!S156=\"x\",Equipment!C156,\"\")","v":""},null,null,null,null,null,null,null,null,null,null,null,0,null,{"$f":"IF(AND($C$6=\"Yes\",$C$7=\"Yes\",G155<>\"\",I155<>\"\",K155<>\"\",M155<>\"\"),IF(Equipment!$C$7=\"Supermarket\",Equipment!K156*279,Equipment!K156*119),0)","v":0},0]
[146,null,{"$f":"IF(Equipment!S157=\"x\",Equipment!C157,\"\")","v":""},null,null,null,null,null,null,null,null,null,null,null,0,null,{"$f":"IF(AND($C$6=\"Yes\",$C$7=\"Yes\",G156<>\"\",I156<>\"\",K156<>\"\",M156<>\"\"),IF(Equipment!$C$7=\"Supermarket\",Equipment!K157*279,Equipment!K157*119),0)","v":0},0]
[147,null,{"$f":"IF(Equipment!S158=\"x\",Equipment!C158,\"\")","v":""},null,null,null,null,null,null,null,null,null,null,null,0,null,{"$f":"IF(AND($C$6=\"Yes\",$C$7=\"Yes\",G157<>\"\",I157<>\"\",K157<>\"\",M157<>\"\"),IF(Equipment!$C$7=\"Supermarket\",Equipment!K158*279,Equipment!K158*119),0)","v":0},0]
[148,null,{"$f":"IF(Equipment!S159=\"x\",Equipment!C159,\"\")","v":""},null,null,null,null,null,null,null,null,null,null,null,0,null,{"$f":"IF(AND($C$6=\"Yes\",$C$7=\"Yes\",G158<>\"\",I158<>\"\",K158<>\"\",M158<>\"\"),IF(Equipment!$C$7=\"Supermarket\",Equipment!K159*279,Equipment!K159*119),0)","v":0},0]
[149,null,{"$f":"IF(Equipment!S160=\"x\",Equipment!C160,\"\")","v":""},null,null,null,null,null,null,null,null,null,null,null,0,null,{"$f":"IF(AND($C$6=\"Yes\",$C$7=\"Yes\",G159<>\"\",I159<>\"\",K159<>\"\",M159<>\"\"),IF(Equipment!$C$7=\"Supermarket\",Equipment!K160*279,Equipment!K160*119),0)","v":0},0]
[150,null,{"$f":"IF(Equipment!S161=\"x\",Equipment!C161,\"\")","v":""},null,null,null,null,null,null,null,null,null,null,null,0,null,{"$f":"IF(AND($C$6=\"Yes\",$C$7=\"Yes\",G160<>\"\",I160<>\"\",K160<>\"\",M160<>\"\"),IF(Equipment!$C$7=\"Supermarket\",Equipment!K161*279,Equipment!K161*119),0)","v":0},0]
[151,null,{"$f":"IF(Equipment!S162=\"x\",Equipment!C162,\"\")","v":""},null,null,null,null,null,null,null,null,null,null,null,0,null,{"$f":"IF(AND($C$6=\"Yes\",$C$7=\"Yes\",G161<>\"\",I161<>\"\",K161<>\"\",M161<>\"\"),IF(Equipment!$C$7=\"Supermarket\",Equipment!K162*279,Equipment!K162*119),0)","v":0},0]
[152,null,{"$f":"IF(Equipment!S163=\"x\",Equipment!C163,\"\")","v":""},null,null,null,null,null,null,null,null,null,null,null,0,null,{"$f":"IF(AND($C$6=\"Yes\",$C$7=\"Yes\",G162<>\"\",I162<>\"\",K162<>\"\",M162<>\"\"),IF(Equipment!$C$7=\"Supermarket\",Equipment!K163*279,Equipment!K163*119),0)","v":0},0]
[153,null,{"$f":"IF(Equipment!S164=\"x\",Equipment!C164,\"\")","v":""},null,null,null,null,null,null,null,null,null,null,null,0,null,{"$f":"IF(AND($C$6=\"Yes\",$C$7=\"Yes\",G163<>\"\",I163<>\"\",K163<>\"\",M163<>\"\"),IF(Equipment!$C$7=\"Supermarket\",Equipment!K164*279,Equipment!K164*119),0)","v":0},0]
[154,null,{"$f":"IF(Equipment!S165=\"x\",Equipment!C165,\"\")","v":""},null,null,null,null,null,null,null,null,null,null,null,0,null,{"$f":"IF(AND($C$6=\"Yes\",$C$7=\"Yes\",G164<>\"\",I164<>\"\",K164<>\"\",M164<>\"\"),IF(Equipment!$C$7=\"Supermarket\",Equipment!K165*279,Equipment!K165*119),0)","v":0},0]
[155,null,{"$f":"IF(Equipment!S166=\"x\",Equipment!C166,\"\")","v":""},null,null,null,null,null,null,null,null,null,null,null,0,null,{"$f":"IF(AND($C$6=\"Yes\",$C$7=\"Yes\",G165<>\"\",I165<>\"\",K165<>\"\",M165<>\"\"),IF(Equipment!$C$7=\"Supermarket\",Equipment!K166*279,Equipment!K166*119),0)","v":0},0]
[156,null,{"$f":"IF(Equipment!S167=\"x\",Equipment!C167,\"\")","v":""},null,null,null,null,null,null,null,null,null,null,null,0,null,{"$f":"IF(AND($C$6=\"Yes\",$C$7=\"Yes\",G166<>\"\",I166<>\"\",K166<>\"\",M166<>\"\"),IF(Equipment!$C$7=\"Supermarket\",Equipment!K167*279,Equipment!K167*119),0)","v":0},0]
[157,null,{"$f":"IF(Equipment!S168=\"x\",Equipment!C168,\"\")","v":""},null,null,null,null,null,null,null,null,null,null,null,0,null,{"$f":"IF(AND($C$6=\"Yes\",$C$7=\"Yes\",G167<>\"\",I167<>\"\",K167<>\"\",M167<>\"\"),IF(Equipment!$C$7=\"Supermarket\",Equipment!K168*279,Equipment!K168*119),0)","v":0},0]
[158,null,{"$f":"IF(Equipment!S169=\"x\",Equipment!C169,\"\")","v":""},null,null,null,null,null,null,null,null,null,null,null,0,null,{"$f":"IF(AND($C$6=\"Yes\",$C$7=\"Yes\",G168<>\"\",I168<>\"\",K168<>\"\",M168<>\"\"),IF(Equipment!$C$7=\"Supermarket\",Equipment!K169*279,Equipment!K169*119),0)","v":0},0]
[159,null,{"$f":"IF(Equipment!S170=\"x\",Equipment!C170,\"\")","v":""},null,null,null,null,null,null,null,null,null,null,null,0,null,{"$f":"IF(AND($C$6=\"Yes\",$C$7=\"Yes\",G169<>\"\",I169<>\"\",K169<>\"\",M169<>\"\"),IF(Equipment!$C$7=\"Supermarket\",Equipment!K170*279,Equipment!K170*119),0)","v":0},0]
[160,null,{"$f":"IF(Equipment!S171=\"x\",Equipment!C171,\"\")","v":""},null,null,null,null,null,null,null,null,null,null,null,0,null,{"$f":"IF(AND($C$6=\"Yes\",$C$7=\"Yes\",G170<>\"\",I170<>\"\",K170<>\"\",M170<>\"\"),IF(Equipment!$C$7=\"Supermarket\",Equipment!K171*279,Equipment!K171*119),0)","v":0},0]
[161,null,{"$f":"IF(Equipment!S172=\"x\",Equipment!C172,\"\")","v":""},null,null,null,null,null,null,null,null,null,null,null,0,null,{"$f":"IF(AND($C$6=\"Yes\",$C$7=\"Yes\",G171<>\"\",I171<>\"\",K171<>\"\",M171<>\"\"),IF(Equipment!$C$7=\"Supermarket\",Equipment!K172*279,Equipment!K172*119),0)","v":0},0]
[162,null,{"$f":"IF(Equipment!S173=\"x\",Equipment!C173,\"\")","v":""},null,null,null,null,null,null,null,null,null,null,null,0,null,{"$f":"IF(AND($C$6=\"Yes\",$C$7=\"Yes\",G172<>\"\",I172<>\"\",K172<>\"\",M172<>\"\"),IF(Equipment!$C$7=\"Supermarket\",Equipment!K173*279,Equipment!K173*119),0)","v":0},0]
[163,null,{"$f":"IF(Equipment!S174=\"x\",Equipment!C174,\"\")","v":""},null,null,null,null,null,null,null,null,null,null,null,0,null,{"$f":"IF(AND($C$6=\"Yes\",$C$7=\"Yes\",G173<>\"\",I173<>\"\",K173<>\"\",M173<>\"\"),IF(Equipment!$C$7=\"Supermarket\",Equipment!K174*279,Equipment!K174*119),0)","v":0},0]
[164,null,{"$f":"IF(Equipment!S175=\"x\",Equipment!C175,\"\")","v":""},null,null,null,null,null,null,null,null,null,null,null,0,null,{"$f":"IF(AND($C$6=\"Yes\",$C$7=\"Yes\",G174<>\"\",I174<>\"\",K174<>\"\",M174<>\"\"),IF(Equipment!$C$7=\"Supermarket\",Equipment!K175*279,Equipment!K175*119),0)","v":0},0]
[165,null,{"$f":"IF(Equipment!S176=\"x\",Equipment!C176,\"\")","v":""},null,null,null,null,null,null,null,null,null,null,null,0,null,{"$f":"IF(AND($C$6=\"Yes\",$C$7=\"Yes\",G175<>\"\",I175<>\"\",K175<>\"\",M175<>\"\"),IF(Equipment!$C$7=\"Supermarket\",Equipment!K176*279,Equipment!K176*119),0)","v":0},0]
[166,null,{"$f":"IF(Equipment!S177=\"x\",Equipment!C177,\"\")","v":""},null,null,null,null,null,null,null,null,null,null,null,0,null,{"$f":"IF(AND($C$6=\"Yes\",$C$7=\"Yes\",G176<>\"\",I176<>\"\",K176<>\"\",M176<>\"\"),IF(Equipment!$C$7=\"Supermarket\",Equipment!K177*279,Equipment!K177*119),0)","v":0},0]
[167,null,{"$f":"IF(Equipment!S178=\"x\",Equipment!C178,\"\")","v":""},null,null,null,null,null,null,null,null,null,null,null,0,null,{"$f":"IF(AND($C$6=\"Yes\",$C$7=\"Yes\",G177<>\"\",I177<>\"\",K177<>\"\",M177<>\"\"),IF(Equipment!$C$7=\"Supermarket\",Equipment!K178*279,Equipment!K178*119),0)","v":0},0]
[168,null,{"$f":"IF(Equipment!S179=\"x\",Equipment!C179,\"\")","v":""},null,null,null,null,null,null,null,null,null,null,null,0,null,{"$f":"IF(AND($C$6=\"Yes\",$C$7=\"Yes\",G178<>\"\",I178<>\"\",K178<>\"\",M178<>\"\"),IF(Equipment!$C$7=\"Supermarket\",Equipment!K179*279,Equipment!K179*119),0)","v":0},0]
[169,null,{"$f":"IF(Equipment!S180=\"x\",Equipment!C180,\"\")","v":""},null,null,null,null,null,null,null,null,null,null,null,0,null,{"$f":"IF(AND($C$6=\"Yes\",$C$7=\"Yes\",G179<>\"\",I179<>\"\",K179<>\"\",M179<>\"\"),IF(Equipment!$C$7=\"Supermarket\",Equipment!K180*279,Equipment!K180*119),0)","v":0},0]
[170,null,{"$f":"IF(Equipment!S181=\"x\",Equipment!C181,\"\")","v":""},null,null,null,null,null,null,null,null,null,null,null,0,null,{"$f":"IF(AND($C$6=\"Yes\",$C$7=\"Yes\",G180<>\"\",I180<>\"\",K180<>\"\",M180<>\"\"),IF(Equipment!$C$7=\"Supermarket\",Equipment!K181*279,Equipment!K181*119),0)","v":0},0]
[171,null,{"$f":"IF(Equipment!S182=\"x\",Equipment!C182,\"\")","v":""},null,null,null,null,null,null,null,null,null,null,null,0,null,{"$f":"IF(AND($C$6=\"Yes\",$C$7=\"Yes\",G181<>\"\",I181<>\"\",K181<>\"\",M181<>\"\"),IF(Equipment!$C$7=\"Supermarket\",Equipment!K182*279,Equipment!K182*119),0)","v":0},0]
[172,null,{"$f":"IF(Equipment!S183=\"x\",Equipment!C183,\"\")","v":""},null,null,null,null,null,null,null,null,null,null,null,0,null,{"$f":"IF(AND($C$6=\"Yes\",$C$7=\"Yes\",G182<>\"\",I182<>\"\",K182<>\"\",M182<>\"\"),IF(Equipment!$C$7=\"Supermarket\",Equipment!K183*279,Equipment!K183*119),0)","v":0},0]
[173,null,{"$f":"IF(Equipment!S184=\"x\",Equipment!C184,\"\")","v":""},null,null,null,null,null,null,null,null,null,null,null,0,null,{"$f":"IF(AND($C$6=\"Yes\",$C$7=\"Yes\",G183<>\"\",I183<>\"\",K183<>\"\",M183<>\"\"),IF(Equipment!$C$7=\"Supermarket\",Equipment!K184*279,Equipment!K184*119),0)","v":0},0]
[174,null,{"$f":"IF(Equipment!S185=\"x\",Equipment!C185,\"\")","v":""},null,null,null,null,null,null,null,null,null,null,null,0,null,{"$f":"IF(AND($C$6=\"Yes\",$C$7=\"Yes\",G184<>\"\",I184<>\"\",K184<>\"\",M184<>\"\"),IF(Equipment!$C$7=\"Supermarket\",Equipment!K185*279,Equipment!K185*119),0)","v":0},0]
[175,null,{"$f":"IF(Equipment!S186=\"x\",Equipment!C186,\"\")","v":""},null,null,null,null,null,null,null,null,null,null,null,0,null,{"$f":"IF(AND($C$6=\"Yes\",$C$7=\"Yes\",G185<>\"\",I185<>\"\",K185<>\"\",M185<>\"\"),IF(Equipment!$C$7=\"Supermarket\",Equipment!K186*279,Equipment!K186*119),0)","v":0},0]
[176,null,{"$f":"IF(Equipment!S187=\"x\",Equipment!C187,\"\")","v":""},null,null,null,null,null,null,null,null,null,null,null,0,null,{"$f":"IF(AND($C$6=\"Yes\",$C$7=\"Yes\",G186<>\"\",I186<>\"\",K186<>\"\",M186<>\"\"),IF(Equipment!$C$7=\"Supermarket\",Equipment!K187*279,Equipment!K187*119),0)","v":0},0]
[177,null,{"$f":"IF(Equipment!S188=\"x\",Equipment!C188,\"\")","v":""},null,null,null,null,null,null,null,null,null,null,null,0,null,{"$f":"IF(AND($C$6=\"Yes\",$C$7=\"Yes\",G187<>\"\",I187<>\"\",K187<>\"\",M187<>\"\"),IF(Equipment!$C$7=\"Supermarket\",Equipment!K188*279,Equipment!K188*119),0)","v":0},0]
[178,null,{"$f":"IF(Equipment!S189=\"x\",Equipment!C189,\"\")","v":""},null,null,null,null,null,null,null,null,null,null,null,0,null,{"$f":"IF(AND($C$6=\"Yes\",$C$7=\"Yes\",G188<>\"\",I188<>\"\",K188<>\"\",M188<>\"\"),IF(Equipment!$C$7=\"Supermarket\",Equipment!K189*279,Equipment!K189*119),0)","v":0},0]
[179,null,{"$f":"IF(Equipment!S190=\"x\",Equipment!C190,\"\")","v":""},null,null,null,null,null,null,null,null,null,null,null,0,null,{"$f":"IF(AND($C$6=\"Yes\",$C$7=\"Yes\",G189<>\"\",I189<>\"\",K189<>\"\",M189<>\"\"),IF(Equipment!$C$7=\"Supermarket\",Equipment!K190*279,Equipment!K190*119),0)","v":0},0]
[180,null,{"$f":"IF(Equipment!S191=\"x\",Equipment!C191,\"\")","v":""},null,null,null,null,null,null,null,null,null,null,null,0,null,{"$f":"IF(AND($C$6=\"Yes\",$C$7=\"Yes\",G190<>\"\",I190<>\"\",K190<>\"\",M190<>\"\"),IF(Equipment!$C$7=\"Supermarket\",Equipment!K191*279,Equipment!K191*119),0)","v":0},0]
[181,null,{"$f":"IF(Equipment!S192=\"x\",Equipment!C192,\"\")","v":""},null,null,null,null,null,null,null,null,null,null,null,0,null,{"$f":"IF(AND($C$6=\"Yes\",$C$7=\"Yes\",G191<>\"\",I191<>\"\",K191<>\"\",M191<>\"\"),IF(Equipment!$C$7=\"Supermarket\",Equipment!K192*279,Equipment!K192*119),0)","v":0},0]
[182,null,{"$f":"IF(Equipment!S193=\"x\",Equipment!C193,\"\")","v":""},null,null,null,null,null,null,null,null,null,null,null,0,null,{"$f":"IF(AND($C$6=\"Yes\",$C$7=\"Yes\",G192<>\"\",I192<>\"\",K192<>\"\",M192<>\"\"),IF(Equipment!$C$7=\"Supermarket\",Equipment!K193*279,Equipment!K193*119),0)","v":0},0]
[183,null,{"$f":"IF(Equipment!S194=\"x\",Equipment!C194,\"\")","v":""},null,null,null,null,null,null,null,null,null,null,null,0,null,{"$f":"IF(AND($C$6=\"Yes\",$C$7=\"Yes\",G193<>\"\",I193<>\"\",K193<>\"\",M193<>\"\"),IF(Equipment!$C$7=\"Supermarket\",Equipment!K194*279,Equipment!K194*119),0)","v":0},0]
[184,null,{"$f":"IF(Equipment!S195=\"x\",Equipment!C195,\"\")","v":""},null,null,null,null,null,null,null,null,null,null,null,0,null,{"$f":"IF(AND($C$6=\"Yes\",$C$7=\"Yes\",G194<>\"\",I194<>\"\",K194<>\"\",M194<>\"\"),IF(Equipment!$C$7=\"Supermarket\",Equipment!K195*279,Equipment!K195*119),0)","v":0},0]
[185,null,{"$f":"IF(Equipment!S196=\"x\",Equipment!C196,\"\")","v":""},null,null,null,null,null,null,null,null,null,null,null,0,null,{"$f":"IF(AND($C$6=\"Yes\",$C$7=\"Yes\",G195<>\"\",I195<>\"\",K195<>\"\",M195<>\"\"),IF(Equipment!$C$7=\"Supermarket\",Equipment!K196*279,Equipment!K196*119),0)","v":0},0]
[186,null,{"$f":"IF(Equipment!S197=\"x\",Equipment!C197,\"\")","v":""},null,null,null,null,null,null,null,null,null,null,null,0,null,{"$f":"IF(AND($C$6=\"Yes\",$C$7=\"Yes\",G196<>\"\",I196<>\"\",K196<>\"\",M196<>\"\"),IF(Equipment!$C$7=\"Supermarket\",Equipment!K197*279,Equipment!K197*119),0)","v":0},0]
[187,null,{"$f":"IF(Equipment!S198=\"x\",Equipment!C198,\"\")","v":""},null,null,null,null,null,null,null,null,null,null,null,0,null,{"$f":"IF(AND($C$6=\"Yes\",$C$7=\"Yes\",G197<>\"\",I197<>\"\",K197<>\"\",M197<>\"\"),IF(Equipment!$C$7=\"Supermarket\",Equipment!K198*279,Equipment!K198*119),0)","v":0},0]
[188,null,{"$f":"IF(Equipment!S199=\"x\",Equipment!C199,\"\")","v":""},null,null,null,null,null,null,null,null,null,null,null,0,null,{"$f":"IF(AND($C$6=\"Yes\",$C$7=\"Yes\",G198<>\"\",I198<>\"\",K198<>\"\",M198<>\"\"),IF(Equipment!$C$7=\"Supermarket\",Equipment!K199*279,Equipment!K199*119),0)","v":0},0]
[189,null,{"$f":"IF(Equipment!S200=\"x\",Equipment!C200,\"\")","v":""},null,null,null,null,null,null,null,null,null,null,null,0,null,{"$f":"IF(AND($C$6=\"Yes\",$C$7=\"Yes\",G199<>\"\",I199<>\"\",K199<>\"\",M199<>\"\"),IF(Equipment!$C$7=\"Supermarket\",Equipment!K200*279,Equipment!K200*119),0)","v":0},0]
[190,null,{"$f":"IF(Equipment!S201=\"x\",Equipment!C201,\"\")","v":""},null,null,null,null,null,null,null,null,null,null,null,0,null,{"$f":"IF(AND($C$6=\"Yes\",$C$7=\"Yes\",G200<>\"\",I200<>\"\",K200<>\"\",M200<>\"\"),IF(Equipment!$C$7=\"Supermarket\",Equipment!K201*279,Equipment!K201*119),0)","v":0},0]
[191,null,{"$f":"IF(Equipment!S202=\"x\",Equipment!C202,\"\")","v":""},null,null,null,null,null,null,null,null,null,null,null,0,null,{"$f":"IF(AND($C$6=\"Yes\",$C$7=\"Yes\",G201<>\"\",I201<>\"\",K201<>\"\",M201<>\"\"),IF(Equipment!$C$7=\"Supermarket\",Equipment!K202*279,Equipment!K202*119),0)","v":0},0]
[192,null,{"$f":"IF(Equipment!S203=\"x\",Equipment!C203,\"\")","v":""},null,null,null,null,null,null,null,null,null,null,null,0,null,{"$f":"IF(AND($C$6=\"Yes\",$C$7=\"Yes\",G202<>\"\",I202<>\"\",K202<>\"\",M202<>\"\"),IF(Equipment!$C$7=\"Supermarket\",Equipment!K203*279,Equipment!K203*119),0)","v":0},0]
[193,null,{"$f":"IF(Equipment!S204=\"x\",Equipment!C204,\"\")","v":""},null,null,null,null,null,null,null,null,null,null,null,0,null,{"$f":"IF(AND($C$6=\"Yes\",$C$7=\"Yes\",G203<>\"\",I203<>\"\",K203<>\"\",M203<>\"\"),IF(Equipment!$C$7=\"Supermarket\",Equipment!K204*279,Equipment!K204*119),0)","v":0},0]
[194,null,{"$f":"IF(Equipment!S205=\"x\",Equipment!C205,\"\")","v":""},null,null,null,null,null,null,null,null,null,null,null,{"$f":"IF(AND($C$6=\"Yes\",$C$7=\"Yes\",G204<>\"\",I204<>\"\",K204<>\"\",M204<>\"\"),MIN(E204*0.7,150),0)","v":0},null,{"$f":"IF(AND($C$6=\"Yes\",$C$7=\"Yes\",G204<>\"\",I204<>\"\",K204<>\"\",M204<>\"\"),IF(Equipment!$C$7=\"Supermarket\",Equipment!K205*279,Equipment!K205*119),0)","v":0},0]
[195,null,{"$f":"IF(Equipment!S206=\"x\",Equipment!C206,\"\")","v":""},null,null,null,null,null,null,null,null,null,null,null,0,null,{"$f":"IF(AND($C$6=\"Yes\",$C$7=\"Yes\",G205<>\"\",I205<>\"\",K205<>\"\",M205<>\"\"),IF(Equipment!$C$7=\"Supermarket\",Equipment!K206*279,Equipment!K206*119),0)","v":0},0]
[196,null,{"$f":"IF(Equipment!S207=\"x\",Equipment!C207,\"\")","v":""},null,null,null,null,null,null,null,null,null,null,null,0,null,{"$f":"IF(AND($C$6=\"Yes\",$C$7=\"Yes\",G206<>\"\",I206<>\"\",K206<>\"\",M206<>\"\"),IF(Equipment!$C$7=\"Supermarket\",Equipment!K207*279,Equipment!K207*119),0)","v":0},0]
[197,null,{"$f":"IF(Equipment!S208=\"x\",Equipment!C208,\"\")","v":""},null,null,null,null,null,null,null,null,null,null,null,0,null,{"$f":"IF(AND($C$6=\"Yes\",$C$7=\"Yes\",G207<>\"\",I207<>\"\",K207<>\"\",M207<>\"\"),IF(Equipment!$C$7=\"Supermarket\",Equipment!K208*279,Equipment!K208*119),0)","v":0},0]
[198,null,{"$f":"IF(Equipment!S209=\"x\",Equipment!C209,\"\")","v":""},null,null,null,null,null,null,null,null,null,null,null,0,null,{"$f":"IF(AND($C$6=\"Yes\",$C$7=\"Yes\",G208<>\"\",I208<>\"\",K208<>\"\",M208<>\"\"),IF(Equipment!$C$7=\"Supermarket\",Equipment!K209*279,Equipment!K209*119),0)","v":0},0]
[199,null,{"$f":"IF(Equipment!S210=\"x\",Equipment!C210,\"\")","v":""},null,null,null,null,null,null,null,null,null,null,null,0,null,{"$f":"IF(AND($C$6=\"Yes\",$C$7=\"Yes\",G209<>\"\",I209<>\"\",K209<>\"\",M209<>\"\"),IF(Equipment!$C$7=\"Supermarket\",Equipment!K210*279,Equipment!K210*119),0)","v":0},0]
[200,null,{"$f":"IF(Equipment!S211=\"x\",Equipment!C211,\"\")","v":""},null,null,null,null,null,null,null,null,null,null,null,0,null,{"$f":"IF(AND($C$6=\"Yes\",$C$7=\"Yes\",G210<>\"\",I210<>\"\",K210<>\"\",M210<>\"\"),IF(Equipment!$C$7=\"Supermarket\",Equipment!K211*279,Equipment!K211*119),0)","v":0},0]

{"sheet":"Smart Tstat","index":6,"n_rows":42,"n_cols":21,"rows_kept":42,"cut":false,"hidden":false,"merged":[[40,6,40,7],[40,8,40,9],[40,10,40,11],[40,12,40,13],[40,14,40,15],[41,6,41,7],[41,8,41,9],[41,10,41,11],[41,12,41,13],[41,14,41,15],[36,6,36,7],[36,8,36,9],[36,10,36,11],[36,12,36,13],[36,14,36,15],[37,6,37,7],[37,8,37,9],[37,10,37,11],[37,12,37,13],[37,14,37,15],[38,6,38,7],[38,8,38,9],[38,10,38,11],[38,12,38,13],[38,14,38,15],[39,6,39,7],[39,8,39,9],[39,10,39,11],[39,12,39,13],[39,14,39,15],[32,6,32,7],[32,8,32,9],[32,10,32,11],[32,12,32,13],[32,14,32,15],[33,6,33,7],[33,8,33,9],[33,10,33,11],[33,12,33,13],[33,14,33,15],[34,6,34,7],[34,8,34,9],[34,10,34,11],[34,12,34,13],[34,14,34,15],[35,6,35,7],[35,8,35,9],[35,10,35,11],[35,12,35,13],[35,14,35,15],[28,6,28,7],[28,8,28,9],[28,10,28,11],[28,12,28,13],[28,14,28,15],[29,6,29,7],[29,8,29,9],[29,10,29,11],[29,12,29,13],[29,14,29,15],[30,6,30,7],[30,8,30,9],[30,10,30,11],[30,12,30,13],[30,14,30,15],[31,6,31,7],[31,8,31,9],[31,10,31,11],[31,12,31,13],[31,14,31,15],[27,6,27,7],[27,8,27,9],[27,10,27,11],[27,12,27,13],[27,14,27,15],[24,6,24,7],[24,8,24,9],[24,10,24,11],[24,12,24,13],[24,14,24,15],[25,6,25,7],[25,8,25,9],[25,10,25,11],[25,12,25,13],[25,14,25,15],[21,6,21,7],[21,8,21,9],[21,10,21,11],[21,12,21,13],[21,14,21,15],[26,6,26,7],[26,8,26,9],[26,10,26,11],[26,12,26,13],[26,14,26,15],[22,6,22,7],[22,8,22,9],[22,10,22,11],[22,12,22,13],[22,14,22,15],[23,6,23,7],[23,8,23,9],[23,10,23,11],[23,12,23,13],[23,14,23,15],[31,2,31,3],[31,4,31,5],[41,2,41,3],[41,4,41,5],[40,2,40,3],[40,4,40,5],[14,8,14,9],[14,10,14,11],[14,14,14,15],[15,6,15,7],[15,14,15,15],[18,6,18,7],[18,8,18,9],[18,10,18,11],[18,12,18,13],[18,14,18,15],[19,6,19,7],[19,8,19,9],[19,10,19,11],[16,14,16,15],[17,6,17,7],[17,8,17,9],[17,10,17,11],[17,12,17,13],[25,2,25,3],[25,4,25,5],[24,2,24,3],[24,4,24,5],[23,2,23,3],[23,4,23,5],[22,2,22,3],[22,4,22,5],[39,2,39,3],[39,4,39,5],[38,2,38,3],[38,4,38,5],[37,2,37,3],[37,4,37,5],[36,2,36,3],[36,4,36,5],[35,2,35,3],[35,4,35,5],[34,2,34,3],[34,4,34,5],[33,2,33,3],[33,4,33,5],[32,2,32,3],[32,4,32,5],[30,2,30,3],[30,4,30,5],[29,2,29,3],[29,4,29,5],[28,2,28,3],[28,4,28,5],[27,2,27,3],[27,4,27,5],[26,2,26,3],[26,4,26,5],[1,5,1,6],[2,5,2,6],[17,2,17,3],[17,4,17,5],[16,2,16,3],[16,4,16,5],[15,2,15,3],[15,4,15,5],[14,2,14,3],[14,4,14,5],[13,2,13,3],[13,4,13,5],[12,2,12,3],[12,4,12,5],[14,6,14,7],[9,4,9,13],[10,12,10,13],[14,12,14,13],[7,3,7,10],[11,6,11,7],[11,8,11,9],[11,10,11,11],[11,12,11,13],[10,6,10,7],[3,20,4,23],[11,2,11,3],[11,4,11,5],[10,2,10,3],[10,4,10,5],[11,14,11,15],[12,14,12,15],[13,10,13,11],[13,12,13,13],[13,14,13,15],[10,8,10,9],[10,10,10,11],[12,6,12,7],[12,8,12,9],[12,10,12,11],[12,12,12,13],[13,6,13,7],[13,8,13,9],[5,20,6,23],[7,20,9,23],[6,3,6,10],[5,3,5,10],[4,2,4,10],[15,8,15,9],[15,10,15,11],[15,12,15,13],[10,14,10,15],[21,2,21,3],[21,4,21,5],[20,2,20,3],[20,4,20,5],[19,2,19,3],[19,4,19,5],[18,2,18,3],[18,4,18,5],[19,12,19,13],[19,14,19,15],[16,6,16,7],[16,8,16,9],[16,10,16,11],[16,12,16,13],[17,14,17,15],[20,6,20,7],[20,8,20,9],[20,10,20,11],[20,12,20,13],[20,14,20,15]]}
[]
[null,"Smart Thermostats",null,null,null,null,null,null,null,null,null,null,"Total kWh/yr Savings",{"$f":"SUM(Q12:Q42)","v":0},null,"Incentive",{"$f":"SUM(O12:P42)","v":0}]
[null,null,null,null,null,null,null,null,null,"Customer Costs",{"$f":"SUM(E12:F42)","v":0},null,"Total kW Savings",{"$f":"SUM(R12:R42)","v":0},null,"Electric Cost Savings/YR",{"$f":"IFERROR(N2*INDEX(kWhRates,MATCH(RateSchedule,RateSchedules,0))+N3*12*INDEX(kWRates,MATCH(RateSchedule,RateSchedules,0)),0)","v":0},null,null,null,"Instructions"]
[null,null,null,null,null,null,null,null,null,null,null,null,null,null,null,null,null,null,null,null,"Complete the yellow cells for each applicable RTU"]
[null,null,"Confirm the following:"]
[null,null,null,"1. Thermostats have at least 7-day occupied/unoccupied settings",null,null,null,null,null,null,null,null,null,null,null,null,null,null,null,null,"Note"]
[null,null,null,"2. Thermostats replace existing non-programmable thermostats"]
[null,null,null,"4. Thermostats are Wi-Fi enabled with online dashboard and/or moble device app",null,null,null,null,null,null,null,null,null,null,null,null,null,null,null,null,"All fields must be completed to calculate the savings & incentives"]
[]
[null,null,"RTU Details: ",null,"Thermostat Details:"]
[null,null,"Rooftop Unit Label (from equipment tab)",null,"Customer Cost",null,"Thermostat Model Number",null,"Occupied hours per day",null,"Cooling Setpoint (occupied)",null,"Cooling Setpoint (unoccupied)",null,"Estimated Incentive",null,"kWh savings","Kw"]
[null,null,{"$f":"IF(Equipment!T12=\"x\",Equipment!C12,\"\")","v":""},null,null,null,null,null,null,null,null,null,null,null,{"$f":"IF(AND($C$6=\"Yes\",$C$7=\"Yes\",$C$8=\"Yes\",G12<>\"\",I12<>\"\",K12<>\"\",M12<>\"\"),MIN(E12*0.7,150),0)","v":0},null,{"$f":"IF(AND($C$6=\"Yes\",$C$7=\"Yes\",$C$8=\"Yes\",E12<>\"\",G12<>\"\",I12<>\"\",K12<>\"\",M12<>\"\"),IF(Equipment!$C$7=\"Supermarket\",Equipment!K12*279,Equipment!K12*119),0)","v":0},0]
[1,null,{"$f":"IF(Equipment!T13=\"x\",Equipment!C13,\"\")","v":""},null,null,null,null,null,null,null,null,null,null,null,{"$f":"IF(AND($C$6=\"Yes\",$C$7=\"Yes\",$C$8=\"Yes\",G13<>\"\",I13<>\"\",K13<>\"\",M13<>\"\"),MIN(E13*0.7,150),0)","v":0},null,{"$f":"IF(AND($C$6=\"Yes\",$C$7=\"Yes\",$C$8=\"Yes\",E13<>\"\",G13<>\"\",I13<>\"\",K13<>\"\",M13<>\"\"),IF(Equipment!$C$7=\"Supermarket\",Equipment!K13*279,Equipment!K13*119),0)","v":0},0]
[2,null,{"$f":"IF(Equipment!T14=\"x\",Equipment!C14,\"\")","v":""},null,null,null,null,null,null,null,null,null,null,null,{"$f":"IF(AND($C$6=\"Yes\",$C$7=\"Yes\",$C$8=\"Yes\",G14<>\"\",I14<>\"\",K14<>\"\",M14<>\"\"),MIN(E14*0.7,150),0)","v":0},null,{"$f":"IF(AND($C$6=\"Yes\",$C$7=\"Yes\",$C$8=\"Yes\",E14<>\"\",G14<>\"\",I14<>\"\",K14<>\"\",M14<>\"\"),IF(Equipment!$C$7=\"Supermarket\",Equipment!K14*279,Equipment!K14*119),0)","v":0},0]
[3,null,{"$f":"IF(Equipment!T15=\"x\",Equipment!C15,\"\")","v":""},null,null,null,null,null,null,null,null,null,null,null,0,null,{"$f":"IF(AND($C$6=\"Yes\",$C$7=\"Yes\",$C$8=\"Yes\",E15<>\"\",G15<>\"\",I15<>\"\",K15<>\"\",M15<>\"\"),IF(Equipment!$C$7=\"Supermarket\",Equipment!K15*279,Equipment!K15*119),0)","v":0},0]
[4,null,{"$f":"IF(Equipment!T16=\"x\",Equipment!C16,\"\")","v":""},null,null,null,null,null,null,null,null,null,null,null,0,null,{"$f":"IF(AND($C$6=\"Yes\",$C$7=\"Yes\",$C$8=\"Yes\",E16<>\"\",G16<>\"\",I16<>\"\",K16<>\"\",M16<>\"\"),IF(Equipment!$C$7=\"Supermarket\",Equipment!K16*279,Equipment!K16*119),0)","v":0},0]
[5,null,{"$f":"IF(Equipment!T17=\"x\",Equipment!C17,\"\")","v":""},null,null,null,null,null,null,null,null,null,null,null,0,null,{"$f":"IF(AND($C$6=\"Yes\",$C$7=\"Yes\",$C$8=\"Yes\",E17<>\"\",G17<>\"\",I17<>\"\",K17<>\"\",M17<>\"\"),IF(Equipment!$C$7=\"Supermarket\",Equipment!K17*279,Equipment!K17*119),0)","v":0},0]
[6,null,{"$f":"IF(Equipment!T18=\"x\",Equipment!C18,\"\")","v":""},null,null,null,null,null,null,null,null,null,null,null,0,null,{"$f":"IF(AND($C$6=\"Yes\",$C$7=\"Yes\",$C$8=\"Yes\",E18<>\"\",G18<>\"\",I18<>\"\",K18<>\"\",M18<>\"\"),IF(Equipment!$C$7=\"Supermarket\",Equipment!K18*279,Equipment!K18*119),0)","v":0},0]
[7,null,{"$f":"IF(Equipment!T19=\"x\",Equipment!C19,\"\")","v":""},null,null,null,null,null,null,null,null,null,null,null,0,null,{"$f":"IF(AND($C$6=\"Yes\",$C$7=\"Yes\",$C$8=\"Yes\",E19<>\"\",G19<>\"\",I19<>\"\",K19<>\"\",M19<>\"\"),IF(Equipment!$C$7=\"Supermarket\",Equipment!K19*279,Equipment!K19*119),0)","v":0},0]
[8,null,{"$f":"IF(Equipment!T20=\"x\",Equipment!C20,\"\")","v":""},null,null,null,null,null,null,null,null,null,null,null,0,null,{"$f":"IF(AND($C$6=\"Yes\",$C$7=\"Yes\",$C$8=\"Yes\",E20<>\"\",G20<>\"\",I20<>\"\",K20<>\"\",M20<>\"\"),IF(Equipment!$C$7=\"Supermarket\",Equipment!K20*279,Equipment!K20*119),0)","v":0},0]
[9,null,{"$f":"IF(Equipment!T21=\"x\",Equipment!C21,\"\")","v":""},null,null,null,null,null,null,null,null,null,null,null,0,null,{"$f":"IF(AND($C$6=\"Yes\",$C$7=\"Yes\",$C$8=\"Yes\",E21<>\"\",G21<>\"\",I21<>\"\",K21<>\"\",M21<>\"\"),IF(Equipment!$C$7=\"Supermarket\",Equipment!K21*279,Equipment!K21*119),0)","v":0},0]
[10,null,{"$f":"IF(Equipment!T22=\"x\",Equipment!C22,\"\")","v":""},null,null,null,null,null,null,null,null,null,null,null,0,null,{"$f":"IF(AND($C$6=\"Yes\",$C$7=\"Yes\",$C$8=\"Yes\",E22<>\"\",G22<>\"\",I22<>\"\",K22<>\"\",M22<>\"\"),IF(Equipment!$C$7=\"Supermarket\",Equipment!K22*279,Equipment!K22*119),0)","v":0},0]
[11,null,{"$f":"IF(Equipment!T23=\"x\",Equipment!C23,\"\")","v":""},null,null,null,null,null,null,null,null,null,null,null,0,null,{"$f":"IF(AND($C$6=\"Yes\",$C$7=\"Yes\",$C$8=\"Yes\",E23<>\"\",G23<>\"\",I23<>\"\",K23<>\"\",M23<>\"\"),IF(Equipment!$C$7=\"Supermarket\",Equipment!K23*279,Equipment!K23*119),0)","v":0},0]
[12,null,{"$f":"IF(Equipment!T24=\"x\",Equipment!C24,\"\")","v":""},null,null,null,null,null,null,null,null,null,null,null,0,null,{"$f":"IF(AND($C$6=\"Yes\",$C$7=\"Yes\",$C$8=\"Yes\",E24<>\"\",G24<>\"\",I24<>\"\",K24<>\"\",M24<>\"\"),IF(Equipment!$C$7=\"Supermarket\",Equipment!K24*279,Equipment!K24*119),0)","v":0},0]
[13,null,{"$f":"IF(Equipment!T25=\"x\",Equipment!C25,\"\")","v":""},null,null,null,null,null,null,null,null,null,null,null,0,null,{"$f":"IF(AND($C$6=\"Yes\",$C$7=\"Yes\",$C$8=\"Yes\",E25<>\"\",G25<>\"\",I25<>\"\",K25<>\"\",M25<>\"\"),IF(Equipment!$C$7=\"Supermarket\",Equipment!K25*279,Equipment!K25*119),0)","v":0},0]
[14,null,{"$f":"IF(Equipment!T26=\"x\",Equipment!C26,\"\")","v":""},null,null,null,null,null,null,null,null,null,null,null,0,null,{"$f":"IF(AND($C$6=\"Yes\",$C$7=\"Yes\",$C$8=\"Yes\",E26<>\"\",G26<>\"\",I26<>\"\",K26<>\"\",M26<>\"\"),IF(Equipment!$C$7=\"Supermarket\",Equipment!K26*279,Equipment!K26*119),0)","v":0},0]
[15,null,{"$f":"IF(Equipment!T27=\"x\",Equipment!C27,\"\")","v":""},null,null,null,null,null,null,null,null,null,null,null,0,null,{"$f":"IF(AND($C$6=\"Yes\",$C$7=\"Yes\",$C$8=\"Yes\",E27<>\"\",G27<>\"\",I27<>\"\",K27<>\"\",M27<>\"\"),IF(Equipment!$C$7=\"Supermarket\",Equipment!K27*279,Equipment!K27*119),0)","v":0},0]
[16,null,{"$f":"IF(Equipment!T28=\"x\",Equipment!C28,\"\")","v":""},null,null,null,null,null,null,null,null,null,null,null,0,null,{"$f":"IF(AND($C$6=\"Yes\",$C$7=\"Yes\",$C$8=\"Yes\",E28<>\"\",G28<>\"\",I28<>\"\",K28<>\"\",M28<>\"\"),IF(Equipment!$C$7=\"Supermarket\",Equipment!K28*279,Equipment!K28*119),0)","v":0},0]
[17,null,{"$f":"IF(Equipment!T29=\"x\",Equipment!C29,\"\")","v":""},null,null,null,null,null,null,null,null,null,null,null,0,null,{"$f":"IF(AND($C$6=\"Yes\",$C$7=\"Yes\",$C$8=\"Yes\",E29<>\"\",G29<>\"\",I29<>\"\",K29<>\"\",M29<>\"\"),IF(Equipment!$C$7=\"Supermarket\",Equipment!K29*279,Equipment!K29*119),0)","v":0},0]
[18,null,{"$f":"IF(Equipment!T30=\"x\",Equipment!C30,\"\")","v":""},null,null,null,null,null,null,null,null,null,null,null,0,null,{"$f":"IF(AND($C$6=\"Yes\",$C$7=\"Yes\",$C$8=\"Yes\",E30<>\"\",G30<>\"\",I30<>\"\",K30<>\"\",M30<>\"\"),IF(Equipment!$C$7=\"Supermarket\",Equipment!K30*279,Equipment!K30*119),0)","v":0},0]
[19,null,{"$f":"IF(Equipment!T31=\"x\",Equipment!C31,\"\")","v":""},null,null,null,null,null,null,null,null,null,null,null,0,null,{"$f":"IF(AND($C$6=\"Yes\",$C$7=\"Yes\",$C$8=\"Yes\",E31<>\"\",G31<>\"\",I31<>\"\",K31<>\"\",M31<>\"\"),IF(Equipment!$C$7=\"Supermarket\",Equipment!K31*279,Equipment!K31*119),0)","v":0},0]
[20,null,{"$f":"IF(Equipment!T32=\"x\",Equipment!C32,\"\")","v":""},null,null,null,null,null,null,null,null,null,null,null,0,null,{"$f":"IF(AND($C$6=\"Yes\",$C$7=\"Yes\",$C$8=\"Yes\",E32<>\"\",G32<>\"\",I32<>\"\",K32<>\"\",M32<>\"\"),IF(Equipment!$C$7=\"Supermarket\",Equipment!K32*279,Equipment!K32*119),0)","v":0},0]
[21,null,{"$f":"IF(Equipment!T33=\"x\",Equipment!C33,\"\")","v":""},null,null,null,null,null,null,null,null,null,null,null,0,null,{"$f":"IF(AND($C$6=\"Yes\",$C$7=\"Yes\",$C$8=\"Yes\",E33<>\"\",G33<>\"\",I33<>\"\",K33<>\"\",M33<>\"\"),IF(Equipment!$C$7=\"Supermarket\",Equipment!K33*279,Equipment!K33*119),0)","v":0},0]
[22,null,{"$f":"IF(Equipment!T34=\"x\",Equipment!C34,\"\")","v":""},null,null,null,null,null,null,null,null,null,null,null,0,null,{"$f":"IF(AND($C$6=\"Yes\",$C$7=\"Yes\",$C$8=\"Yes\",E34<>\"\",G34<>\"\",I34<>\"\",K34<>\"\",M34<>\"\"),IF(Equipment!$C$7=\"Supermarket\",Equipment!K34*279,Equipment!K34*119),0)","v":0},0]
[23,null,{"$f":"IF(Equipment!T35=\"x\",Equipment!C35,\"\")","v":""},null,null,null,null,null,null,null,null,null,null,null,0,null,{"$f":"IF(AND($C$6=\"Yes\",$C$7=\"Yes\",$C$8=\"Yes\",E35<>\"\",G35<>\"\",I35<>\"\",K35<>\"\",M35<>\"\"),IF(Equipment!$C$7=\"Supermarket\",Equipment!K35*279,Equipment!K35*119),0)","v":0},0]
[24,null,{"$f":"IF(Equipment!T36=\"x\",Equipment!C36,\"\")","v":""},null,null,null,null,null,null,null,null,null,null,null,0,null,{"$f":"IF(AND($C$6=\"Yes\",$C$7=\"Yes\",$C$8=\"Yes\",E36<>\"\",G36<>\"\",I36<>\"\",K36<>\"\",M36<>\"\"),IF(Equipment!$C$7=\"Supermarket\",Equipment!K36*279,Equipment!K36*119),0)","v":0},0]
[25,null,{"$f":"IF(Equipment!T37=\"x\",Equipment!C37,\"\")","v":""},null,null,null,null,null,null,null,null,null,null,null,0,null,{"$f":"IF(AND($C$6=\"Yes\",$C$7=\"Yes\",$C$8=\"Yes\",E37<>\"\",G37<>\"\",I37<>\"\",K37<>\"\",M37<>\"\"),IF(Equipment!$C$7=\"Supermarket\",Equipment!K37*279,Equipment!K37*119),0)","v":0},0]
[26,null,{"$f":"IF(Equipment!T38=\"x\",Equipment!C38,\"\")","v":""},null,null,null,null,null,null,null,null,null,null,null,0,null,{"$f":"IF(AND($C$6=\"Yes\",$C$7=\"Yes\",$C$8=\"Yes\",E38<>\"\",G38<>\"\",I38<>\"\",K38<>\"\",M38<>\"\"),IF(Equipment!$C$7=\"Supermarket\",Equipment!K38*279,Equipment!K38*119),0)","v":0},0]
[27,null,{"$f":"IF(Equipment!T39=\"x\",Equipment!C39,\"\")","v":""},null,null,null,null,null,null,null,null,null,null,null,0,null,{"$f":"IF(AND($C$6=\"Yes\",$C$7=\"Yes\",$C$8=\"Yes\",E39<>\"\",G39<>\"\",I39<>\"\",K39<>\"\",M39<>\"\"),IF(Equipment!$C$7=\"Supermarket\",Equipment!K39*279,Equipment!K39*119),0)","v":0},0]
[28,null,{"$f":"IF(Equipment!T40=\"x\",Equipment!C40,\"\")","v":""},null,null,null,null,null,null,null,null,null,null,null,0,null,{"$f":"IF(AND($C$6=\"Yes\",$C$7=\"Yes\",$C$8=\"Yes\",E40<>\"\",G40<>\"\",I40<>\"\",K40<>\"\",M40<>\"\"),IF(Equipment!$C$7=\"Supermarket\",Equipment!K40*279,Equipment!K40*119),0)","v":0},0]
[29,null,{"$f":"IF(Equipment!T41=\"x\",Equipment!C41,\"\")","v":""},null,null,null,null,null,null,null,null,null,null,null,0,null,{"$f":"IF(AND($C$6=\"Yes\",$C$7=\"Yes\",$C$8=\"Yes\",E41<>\"\",G41<>\"\",I41<>\"\",K41<>\"\",M41<>\"\"),IF(Equipment!$C$7=\"Supermarket\",Equipment!K41*279,Equipment!K41*119),0)","v":0},0]
[30,null,{"$f":"IF(Equipment!T42=\"x\",Equipment!C42,\"\")","v":""},null,null,null,null,null,null,null,null,null,null,null,0,null,{"$f":"IF(AND($C$6=\"Yes\",$C$7=\"Yes\",$C$8=\"Yes\",E42<>\"\",G42<>\"\",I42<>\"\",K42<>\"\",M42<>\"\"),IF(Equipment!$C$7=\"Supermarket\",Equipment!K42*279,Equipment!K42*119),0)","v":0},0]

{"sheet":"Economizers","index":7,"n_rows":107,"n_cols":23,"rows_kept":107,"cut":false,"hidden":false,"merged":[[104,2,104,3],[104,4,104,5],[104,6,104,7],[104,8,104,9],[104,10,104,11],[104,14,104,15],[102,2,102,3],[102,4,102,5],[102,6,102,7],[102,8,102,9],[102,10,102,11],[102,14,102,15],[103,2,103,3],[103,4,103,5],[103,6,103,7],[103,8,103,9],[103,10,103,11],[103,14,103,15],[103,12,103,13],[104,12,104,13],[98,10,98,11],[98,14,98,15],[99,2,99,3],[99,4,99,5],[99,6,99,7],[99,8,99,9],[99,10,99,11],[99,14,99,15],[101,2,101,3],[101,4,101,5],[101,6,101,7],[101,8,101,9],[101,10,101,11],[101,14,101,15],[5,17,6,17],[5,16,6,16],[96,14,96,15],[97,2,97,3],[97,4,97,5],[97,6,97,7],[97,8,97,9],[97,10,97,11],[97,14,97,15],[94,14,94,15],[95,2,95,3],[95,4,95,5],[95,6,95,7],[95,8,95,9],[95,10,95,11],[95,14,95,15],[94,2,94,3],[96,2,96,3],[96,4,96,5],[96,6,96,7],[96,8,96,9],[96,10,96,11],[94,4,94,5],[94,6,94,7],[94,8,94,9],[94,10,94,11],[106,2,106,3],[106,4,106,5],[106,6,106,7],[106,8,106,9],[106,10,106,11],[106,14,106,15],[100,2,100,3],[100,4,100,5],[100,6,100,7],[100,8,100,9],[100,10,100,11],[105,2,105,3],[105,4,105,5],[105,6,105,7],[105,14,105,15],[100,14,100,15],[105,8,105,9],[105,10,105,11],[98,2,98,3],[98,4,98,5],[98,6,98,7],[98,8,98,9],[92,14,92,15],[93,2,93,3],[93,4,93,5],[93,6,93,7],[93,8,93,9],[93,10,93,11],[93,14,93,15],[92,2,92,3],[92,4,92,5],[92,6,92,7],[92,8,92,9],[92,10,92,11],[92,12,92,13],[93,12,93,13],[90,14,90,15],[91,2,91,3],[91,4,91,5],[91,6,91,7],[91,8,91,9],[91,10,91,11],[91,14,91,15],[90,2,90,3],[90,4,90,5],[90,6,90,7],[90,8,90,9],[90,10,90,11],[90,12,90,13],[91,12,91,13],[88,14,88,15],[89,2,89,3],[89,4,89,5],[89,6,89,7],[89,8,89,9],[89,10,89,11],[89,14,89,15],[88,2,88,3],[88,4,88,5],[88,6,88,7],[88,8,88,9],[88,10,88,11],[88,12,88,13],[89,12,89,13],[86,14,86,15],[87,2,87,3],[87,4,87,5],[87,6,87,7],[87,8,87,9],[87,10,87,11],[87,14,87,15],[86,2,86,3],[86,4,86,5],[86,6,86,7],[86,8,86,9],[86,10,86,11],[86,12,86,13],[87,12,87,13],[84,14,84,15],[85,2,85,3],[85,4,85,5],[85,6,85,7],[85,8,85,9],[85,10,85,11],[85,14,85,15],[84,2,84,3],[84,4,84,5],[84,6,84,7],[84,8,84,9],[84,10,84,11],[84,12,84,13],[85,12,85,13],[82,14,82,15],[83,2,83,3],[83,4,83,5],[83,6,83,7],[83,8,83,9],[83,10,83,11],[83,14,83,15],[82,2,82,3],[82,4,82,5],[82,6,82,7],[82,8,82,9],[82,10,82,11],[82,12,82,13],[83,12,83,13],[80,14,80,15],[81,2,81,3],[81,4,81,5],[81,6,81,7],[81,8,81,9],[81,10,81,11],[81,14,81,15],[80,2,80,3],[80,4,80,5],[80,6,80,7],[80,8,80,9],[80,10,80,11],[80,12,80,13],[81,12,81,13],[78,14,78,15],[79,2,79,3],[79,4,79,5],[79,6,79,7],[79,8,79,9],[79,10,79,11],[79,14,79,15],[78,2,78,3],[78,4,78,5],[78,6,78,7],[78,8,78,9],[78,10,78,11],[78,12,78,13],[79,12,79,13],[76,14,76,15],[77,2,77,3],[77,4,77,5],[77,6,77,7],[77,8,77,9],[77,10,77,11],[77,14,77,15],[76,2,76,3],[76,4,76,5],[76,6,76,7],[76,8,76,9],[76,10,76,11],[76,12,76,13],[77,12,77,13],[74,14,74,15],[75,2,75,3],[75,4,75,5],[75,6,75,7],[75,8,75,9],[75,10,75,11],[75,14,75,15],[74,2,74,3],[74,4,74,5],[74,6,74,7],[74,8,74,9],[74,10,74,11],[74,12,74,13],[75,12,75,13],[72,14,72,15],[73,2,73,3],[73,4,73,5],[73,6,73,7],[73,8,73,9],[73,10,73,11],[73,14,73,15],[72,2,72,3],[72,4,72,5],[72,6,72,7],[72,8,72,9],[72,10,72,11],[72,12,72,13],[73,12,73,13],[70,14,70,15],[71,2,71,3],[71,4,71,5],[71,6,71,7],[71,8,71,9],[71,10,71,11],[71,14,71,15],[70,2,70,3],[70,4,70,5],[70,6,70,7],[70,8,70,9],[70,10,70,11],[70,12,70,13],[71,12,71,13],[68,14,68,15],[69,2,69,3],[69,4,69,5],[69,6,69,7],[69,8,69,9],[69,10,69,11],[69,14,69,15],[68,2,68,3],[68,4,68,5],[68,6,68,7],[68,8,68,9],[68,10,68,11],[68,12,68,13],[69,12,69,13],[66,14,66,15],[67,2,67,3],[67,4,67,5],[67,6,67,7],[67,8,67,9],[67,10,67,11],[67,14,67,15],[66,2,66,3],[66,4,66,5],[66,6,66,7],[66,8,66,9],[66,10,66,11],[66,12,66,13],[67,12,67,13],[64,14,64,15],[65,2,65,3],[65,4,65,5],[65,6,65,7],[65,8,65,9],[65,10,65,11],[65,14,65,15],[64,2,64,3],[64,4,64,5],[64,6,64,7],[64,8,64,9],[64,10,64,11],[64,12,64,13],[65,12,65,13],[62,14,62,15],[63,2,63,3],[63,4,63,5],[63,6,63,7],[63,8,63,9],[63,10,63,11],[63,14,63,15],[62,2,62,3],[62,4,62,5],[62,6,62,7],[62,8,62,9],[62,10,62,11],[62,12,62,13],[63,12,63,13],[60,14,60,15],[61,2,61,3],[61,4,61,5],[61,6,61,7],[61,8,61,9],[61,10,61,11],[61,14,61,15],[60,2,60,3],[60,4,60,5],[60,6,60,7],[60,8,60,9],[60,10,60,11],[60,12,60,13],[61,12,61,13],[58,14,58,15],[59,2,59,3],[59,4,59,5],[59,6,59,7],[59,8,59,9],[59,10,59,11],[59,14,59,15],[58,2,58,3],[58,4,58,5],[58,6,58,7],[58,8,58,9],[58,10,58,11],[58,12,58,13],[59,12,59,13],[56,14,56,15],[57,2,57,3],[57,4,57,5],[57,6,57,7],[57,8,57,9],[57,10,57,11],[57,14,57,15],[56,2,56,3],[56,4,56,5],[56,6,56,7],[56,8,56,9],[56,10,56,11],[56,12,56,13],[57,12,57,13],[54,14,54,15],[55,2,55,3],[55,4,55,5],[55,6,55,7],[55,8,55,9],[55,10,55,11],[55,14,55,15],[54,2,54,3],[54,4,54,5],[54,6,54,7],[54,8,54,9],[54,10,54,11],[54,12,54,13],[55,12,55,13],[52,14,52,15],[53,2,53,3],[53,4,53,5],[53,6,53,7],[53,8,53,9],[53,10,53,11],[53,14,53,15],[52,2,52,3],[52,4,52,5],[52,6,52,7],[52,8,52,9],[52,10,52,11],[52,12,52,13],[53,12,53,13],[50,14,50,15],[51,2,51,3],[51,4,51,5],[51,6,51,7],[51,8,51,9],[51,10,51,11],[51,14,51,15],[50,2,50,3],[50,4,50,5],[50,6,50,7],[50,8,50,9],[50,10,50,11],[50,12,50,13],[51,12,51,13],[48,14,48,15],[49,2,49,3],[49,4,49,5],[49,6,49,7],[49,8,49,9],[49,10,49,11],[49,14,49,15],[48,2,48,3],[48,4,48,5],[48,6,48,7],[48,8,48,9],[48,10,48,11],[48,12,48,13],[49,12,49,13],[46,14,46,15],[47,2,47,3],[47,4,47,5],[47,6,47,7],[47,8,47,9],[47,10,47,11],[47,14,47,15],[46,2,46,3],[46,4,46,5],[46,6,46,7],[46,8,46,9],[46,10,46,11],[46,12,46,13],[47,12,47,13],[44,14,44,15],[45,2,45,3],[45,4,45,5],[45,6,45,7],[45,8,45,9],[45,10,45,11],[45,14,45,15],[44,2,44,3],[44,4,44,5],[44,6,44,7],[44,8,44,9],[44,10,44,11],[44,12,44,13],[45,12,45,13],[42,14,42,15],[43,2,43,3],[43,4,43,5],[43,6,43,7],[43,8,43,9],[43,10,43,11],[43,14,43,15],[42,2,42,3],[42,4,42,5],[42,6,42,7],[42,8,42,9],[42,10,42,11],[42,12,42,13],[43,12,43,13],[40,14,40,15],[41,2,41,3],[41,4,41,5],[41,6,41,7],[41,8,41,9],[41,10,41,11],[41,14,41,15],[40,2,40,3],[40,4,40,5],[40,6,40,7],[40,8,40,9],[40,10,40,11],[40,12,40,13],[41,12,41,13],[38,14,38,15],[39,2,39,3],[39,4,39,5],[39,6,39,7],[39,8,39,9],[39,10,39,11],[39,14,39,15],[38,2,38,3],[38,4,38,5],[38,6,38,7],[38,8,38,9],[38,10,38,11],[38,12,38,13],[39,12,39,13],[36,14,36,15],[37,2,37,3],[37,4,37,5],[37,6,37,7],[37,8,37,9],[37,10,37,11],[37,14,37,15],[36,2,36,3],[36,4,36,5],[36,6,36,7],[36,8,36,9],[36,10,36,11],[36,12,36,13],[37,12,37,13],[34,14,34,15],[35,2,35,3],[35,4,35,5],[35,6,35,7],[35,8,35,9],[35,10,35,11],[35,14,35,15],[34,2,34,3],[34,4,34,5],[34,6,34,7],[34,8,34,9],[34,10,34,11],[34,12,34,13],[35,12,35,13],[32,14,32,15],[33,2,33,3],[33,4,33,5],[33,6,33,7],[33,8,33,9],[33,10,33,11],[33,14,33,15],[32,2,32,3],[32,4,32,5],[32,6,32,7],[32,8,32,9],[32,10,32,11],[32,12,32,13],[33,12,33,13],[30,14,30,15],[31,2,31,3],[31,4,31,5],[31,6,31,7],[31,8,31,9],[31,10,31,11],[31,14,31,15],[30,2,30,3],[30,4,30,5],[30,6,30,7],[30,8,30,9],[30,10,30,11],[30,12,30,13],[31,12,31,13],[28,14,28,15],[29,2,29,3],[29,4,29,5],[29,6,29,7],[29,8,29,9],[29,10,29,11],[29,14,29,15],[28,2,28,3],[28,4,28,5],[28,6,28,7],[28,8,28,9],[28,10,28,11],[28,12,28,13],[29,12,29,13],[26,14,26,15],[27,2,27,3],[27,4,27,5],[27,6,27,7],[27,8,27,9],[27,10,27,11],[27,14,27,15],[26,2,26,3],[26,4,26,5],[26,6,26,7],[26,8,26,9],[26,10,26,11],[26,12,26,13],[27,12,27,13],[24,14,24,15],[25,2,25,3],[25,4,25,5],[25,6,25,7],[25,8,25,9],[25,10,25,11],[25,14,25,15],[24,2,24,3],[24,4,24,5],[24,6,24,7],[24,8,24,9],[24,10,24,11],[24,12,24,13],[25,12,25,13],[22,14,22,15],[23,2,23,3],[23,4,23,5],[23,6,23,7],[23,8,23,9],[23,10,23,11],[23,14,23,15],[22,2,22,3],[22,4,22,5],[22,6,22,7],[22,8,22,9],[22,10,22,11],[22,12,22,13],[23,12,23,13],[20,14,20,15],[21,2,21,3],[21,4,21,5],[21,6,21,7],[21,8,21,9],[21,10,21,11],[21,14,21,15],[20,2,20,3],[20,4,20,5],[20,6,20,7],[20,8,20,9],[20,10,20,11],[20,12,20,13],[21,12,21,13],[18,14,18,15],[19,2,19,3],[19,4,19,5],[19,6,19,7],[19,8,19,9],[19,10,19,11],[19,14,19,15],[18,2,18,3],[18,4,18,5],[18,6,18,7],[18,8,18,9],[18,10,18,11],[18,12,18,13],[19,12,19,13],[16,14,16,15],[17,2,17,3],[17,4,17,5],[17,6,17,7],[17,8,17,9],[17,10,17,11],[17,14,17,15],[16,2,16,3],[16,4,16,5],[16,6,16,7],[16,8,16,9],[16,10,16,11],[16,12,16,13],[17,12,17,13],[14,14,14,15],[15,2,15,3],[15,4,15,5],[15,6,15,7],[15,8,15,9],[15,10,15,11],[15,14,15,15],[14,2,14,3],[14,4,14,5],[14,6,14,7],[14,8,14,9],[14,10,14,11],[14,12,14,13],[15,12,15,13],[12,14,12,15],[13,2,13,3],[13,4,13,5],[13,6,13,7],[13,8,13,9],[13,10,13,11],[13,14,13,15],[12,2,12,3],[12,4,12,5],[12,6,12,7],[12,8,12,9],[12,10,12,11],[12,12,12,13],[13,12,13,13],[10,14,10,15],[11,2,11,3],[11,4,11,5],[11,6,11,7],[11,8,11,9],[11,10,11,11],[11,14,11,15],[10,2,10,3],[10,4,10,5],[10,6,10,7],[10,8,10,9],[10,10,10,11],[11,12,11,13],[9,4,9,5],[9,6,9,7],[9,8,9,9],[9,10,9,11],[9,14,9,15],[8,2,8,3],[8,4,8,5],[8,6,8,7],[8,8,8,9],[8,10,8,11],[1,1,2,7],[5,12,6,13],[4,4,4,13],[7,12,7,13],[8,12,8,13],[9,12,9,13],[10,12,10,13],[3,22,4,25],[7,22,9,25],[5,22,6,25],[7,14,7,15],[5,10,6,11],[5,14,6,15],[8,14,8,15],[5,2,6,3],[5,4,6,5],[5,6,6,7],[5,8,6,9],[7,2,7,3],[7,4,7,5],[7,6,7,7],[7,8,7,9],[7,10,7,11],[9,2,9,3],[105,12,105,13],[106,12,106,13],[94,12,94,13],[95,12,95,13],[96,12,96,13],[97,12,97,13],[98,12,98,13],[99,12,99,13],[100,12,100,13],[101,12,101,13],[102,12,102,13]]}
[]
[null,"Economizer Repair/Replacement",null,null,null,null,null,null,null,null,null,null,null,null,"Total kWh/yr Savings",{"$f":"SUM(Q8:Q107)","v":0},null,"Incentive",{"$f":"SUM(O8:P107)","v":0}]
[null,null,null,null,null,null,null,null,null,"Customer Costs",{"$f":"SUM(E8:F107)","v":0},null,null,null,"Total kW Savings",0,null,"Electric Cost Savings/YR",{"$f":"IFERROR(P2*INDEX(kWhRates,MATCH(RateSchedule,RateSchedules,0))+P3*12*INDEX(kWRates,MATCH(RateSchedule,RateSchedules,0)),0)","v":0},null,null,null,"Instructions"]
[null,null,null,null,null,null,null,null,null,null,null,null,null,null,null,null,null,null,null,null,null,null,"Complete the yellow cells for each applicable RTU"]
[null,null,"RTU Details: ",null,"Economizer Details:"]
[null,null,"Rooftop Unit Label (from equipment tab)",null,"Customer Cost",null,"Existing Economizer Type",null,"Existing Economizer Status",null,"Proposed Economizer Control",null,"Economizer Repair or Replacement",null,"Estimated Incentive",null,"kWh","kW",null,null,null,null,"Note"]
[]
[1,null,{"$f":"IF(Equipment!U12=\"x\",Equipment!C12,\"\")","v":""},null,null,null,null,null,null,null,null,null,null,null,{"$f":"IF(AND(G8<>\"\",I8<>\"\",K8<>\"\",M8<>\"\"),MIN(E8*0.7,150),0)","v":0},null,{"$f":"IF(AND(E8<>\"\",G8<>\"\",I8<>\"\",K8<>\"\",M8<>\"\"),Equipment!K12*102,0)","v":0},{"$f":"IF(AND(E8<>\"\",G8<>\"\",I8<>\"\",K8<>\"\",M8<>\"\"),Equipment!K12*0.0634,0)","v":0},null,null,null,null,"Economizer installations and replacements also qualify for incentives."]
[2,null,{"$f":"IF(Equipment!U13=\"x\",Equipment!C13,\"\")","v":""},null,null,null,null,null,null,null,null,null,null,null,{"$f":"IF(AND(G9<>\"\",I9<>\"\",K9<>\"\",M9<>\"\"),MIN(E9*0.7,150),0)","v":0},null,{"$f":"IF(AND(E9<>\"\",G9<>\"\",I9<>\"\",K9<>\"\",M9<>\"\"),Equipment!K13*102,0)","v":0},{"$f":"IF(AND(E9<>\"\",G9<>\"\",I9<>\"\",K9<>\"\",M9<>\"\"),Equipment!K13*0.0634,0)","v":0}]
[3,null,{"$f":"IF(Equipment!U14=\"x\",Equipment!C14,\"\")","v":""},null,null,null,null,null,null,null,null,null,null,null,0,null,{"$f":"IF(AND(E10<>\"\",G10<>\"\",I10<>\"\",K10<>\"\",M10<>\"\"),Equipment!K14*102,0)","v":0},{"$f":"IF(AND(E10<>\"\",G10<>\"\",I10<>\"\",K10<>\"\",M10<>\"\"),Equipment!K14*0.0634,0)","v":0}]
[4,null,{"$f":"IF(Equipment!U15=\"x\",Equipment!C15,\"\")","v":""},null,null,null,null,null,null,null,null,null,null,null,0,null,{"$f":"IF(AND(E11<>\"\",G11<>\"\",I11<>\"\",K11<>\"\",M11<>\"\"),Equipment!K15*102,0)","v":0},{"$f":"IF(AND(E11<>\"\",G11<>\"\",I11<>\"\",K11<>\"\",M11<>\"\"),Equipment!K15*0.0634,0)","v":0}]
[5,null,{"$f":"IF(Equipment!U16=\"x\",Equipment!C16,\"\")","v":""},null,null,null,null,null,null,null,null,null,null,null,0,null,{"$f":"IF(AND(E12<>\"\",G12<>\"\",I12<>\"\",K12<>\"\",M12<>\"\"),Equipment!K16*102,0)","v":0},{"$f":"IF(AND(E12<>\"\",G12<>\"\",I12<>\"\",K12<>\"\",M12<>\"\"),Equipment!K16*0.0634,0)","v":0}]
[6,null,{"$f":"IF(Equipment!U17=\"x\",Equipment!C17,\"\")","v":""},null,null,null,null,null,null,null,null,null,null,null,0,null,{"$f":"IF(AND(E13<>\"\",G13<>\"\",I13<>\"\",K13<>\"\",M13<>\"\"),Equipment!K17*102,0)","v":0},{"$f":"IF(AND(E13<>\"\",G13<>\"\",I13<>\"\",K13<>\"\",M13<>\"\"),Equipment!K17*0.0634,0)","v":0}]
[7,null,{"$f":"IF(Equipment!U18=\"x\",Equipment!C18,\"\")","v":""},null,null,null,null,null,null,null,null,null,null,null,0,null,{"$f":"IF(AND(E14<>\"\",G14<>\"\",I14<>\"\",K14<>\"\",M14<>\"\"),Equipment!K18*102,0)","v":0},{"$f":"IF(AND(E14<>\"\",G14<>\"\",I14<>\"\",K14<>\"\",M14<>\"\"),Equipment!K18*0.0634,0)","v":0}]
[8,null,{"$f":"IF(Equipment!U19=\"x\",Equipment!C19,\"\")","v":""},null,null,null,null,null,null,null,null,null,null,null,0,null,{"$f":"IF(AND(E15<>\"\",G15<>\"\",I15<>\"\",K15<>\"\",M15<>\"\"),Equipment!K19*102,0)","v":0},{"$f":"IF(AND(E15<>\"\",G15<>\"\",I15<>\"\",K15<>\"\",M15<>\"\"),Equipment!K19*0.0634,0)","v":0}]
[9,null,{"$f":"IF(Equipment!U20=\"x\",Equipment!C20,\"\")","v":""},null,null,null,null,null,null,null,null,null,null,null,0,null,{"$f":"IF(AND(E16<>\"\",G16<>\"\",I16<>\"\",K16<>\"\",M16<>\"\"),Equipment!K20*102,0)","v":0},{"$f":"IF(AND(E16<>\"\",G16<>\"\",I16<>\"\",K16<>\"\",M16<>\"\"),Equipment!K20*0.0634,0)","v":0}]
[10,null,{"$f":"IF(Equipment!U21=\"x\",Equipment!C21,\"\")","v":""},null,null,null,null,null,null,null,null,null,null,null,0,null,{"$f":"IF(AND(E17<>\"\",G17<>\"\",I17<>\"\",K17<>\"\",M17<>\"\"),Equipment!K21*102,0)","v":0},{"$f":"IF(AND(E17<>\"\",G17<>\"\",I17<>\"\",K17<>\"\",M17<>\"\"),Equipment!K21*0.0634,0)","v":0}]
[11,null,{"$f":"IF(Equipment!U22=\"x\",Equipment!C22,\"\")","v":""},null,null,null,null,null,null,null,null,null,null,null,0,null,{"$f":"IF(AND(E18<>\"\",G18<>\"\",I18<>\"\",K18<>\"\",M18<>\"\"),Equipment!K22*102,0)","v":0},{"$f":"IF(AND(E18<>\"\",G18<>\"\",I18<>\"\",K18<>\"\",M18<>\"\"),Equipment!K22*0.0634,0)","v":0}]
[12,null,{"$f":"IF(Equipment!U23=\"x\",Equipment!C23,\"\")","v":""},null,null,null,null,null,null,null,null,null,null,null,0,null,{"$f":"IF(AND(E19<>\"\",G19<>\"\",I19<>\"\",K19<>\"\",M19<>\"\"),Equipment!K23*102,0)","v":0},{"$f":"IF(AND(E19<>\"\",G19<>\"\",I19<>\"\",K19<>\"\",M19<>\"\"),Equipment!K23*0.0634,0)","v":0}]
[13,null,{"$f":"IF(Equipment!U24=\"x\",Equipment!C24,\"\")","v":""},null,null,null,null,null,null,null,null,null,null,null,0,null,{"$f":"IF(AND(E20<>\"\",G20<>\"\",I20<>\"\",K20<>\"\",M20<>\"\"),Equipment!K24*102,0)","v":0},{"$f":"IF(AND(E20<>\"\",G20<>\"\",I20<>\"\",K20<>\"\",M20<>\"\"),Equipment!K24*0.0634,0)","v":0}]
[14,null,{"$f":"IF(Equipment!U25=\"x\",Equipment!C25,\"\")","v":""},null,null,null,null,null,null,null,null,null,null,null,0,null,{"$f":"IF(AND(E21<>\"\",G21<>\"\",I21<>\"\",K21<>\"\",M21<>\"\"),Equipment!K25*102,0)","v":0},{"$f":"IF(AND(E21<>\"\",G21<>\"\",I21<>\"\",K21<>\"\",M21<>\"\"),Equipment!K25*0.0634,0)","v":0}]
[15,null,{"$f":"IF(Equipment!U26=\"x\",Equipment!C26,\"\")","v":""},null,null,null,null,null,null,null,null,null,null,null,0,null,{"$f":"IF(AND(E22<>\"\",G22<>\"\",I22<>\"\",K22<>\"\",M22<>\"\"),Equipment!K26*102,0)","v":0},{"$f":"IF(AND(E22<>\"\",G22<>\"\",I22<>\"\",K22<>\"\",M22<>\"\"),Equipment!K26*0.0634,0)","v":0}]
[16,null,{"$f":"IF(Equipment!U27=\"x\",Equipment!C27,\"\")","v":""},null,null,null,null,null,null,null,null,null,null,null,0,null,{"$f":"IF(AND(E23<>\"\",G23<>\"\",I23<>\"\",K23<>\"\",M23<>\"\"),Equipment!K27*102,0)","v":0},{"$f":"IF(AND(E23<>\"\",G23<>\"\",I23<>\"\",K23<>\"\",M23<>\"\"),Equipment!K27*0.0634,0)","v":0}]
[17,null,{"$f":"IF(Equipment!U28=\"x\",Equipment!C28,\"\")","v":""},null,null,null,null,null,null,null,null,null,null,null,0,null,{"$f":"IF(AND(E24<>\"\",G24<>\"\",I24<>\"\",K24<>\"\",M24<>\"\"),Equipment!K28*102,0)","v":0},{"$f":"IF(AND(E24<>\"\",G24<>\"\",I24<>\"\",K24<>\"\",M24<>\"\"),Equipment!K28*0.0634,0)","v":0}]
[18,null,{"$f":"IF(Equipment!U29=\"x\",Equipment!C29,\"\")","v":""},null,null,null,null,null,null,null,null,null,null,null,0,null,{"$f":"IF(AND(E25<>\"\",G25<>\"\",I25<>\"\",K25<>\"\",M25<>\"\"),Equipment!K29*102,0)","v":0},{"$f":"IF(AND(E25<>\"\",G25<>\"\",I25<>\"\",K25<>\"\",M25<>\"\"),Equipment!K29*0.0634,0)","v":0}]
[19,null,{"$f":"IF(Equipment!U30=\"x\",Equipment!C30,\"\")","v":""},null,null,null,null,null,null,null,null,null,null,null,0,null,{"$f":"IF(AND(E26<>\"\",G26<>\"\",I26<>\"\",K26<>\"\",M26<>\"\"),Equipment!K30*102,0)","v":0},{"$f":"IF(AND(E26<>\"\",G26<>\"\",I26<>\"\",K26<>\"\",M26<>\"\"),Equipment!K30*0.0634,0)","v":0}]
[20,null,{"$f":"IF(Equipment!U31=\"x\",Equipment!C31,\"\")","v":""},null,null,null,null,null,null,null,null,null,null,null,0,null,{"$f":"IF(AND(E27<>\"\",G27<>\"\",I27<>\"\",K27<>\"\",M27<>\"\"),Equipment!K31*102,0)","v":0},{"$f":"IF(AND(E27<>\"\",G27<>\"\",I27<>\"\",K27<>\"\",M27<>\"\"),Equipment!K31*0.0634,0)","v":0}]
[21,null,{"$f":"IF(Equipment!U32=\"x\",Equipment!C32,\"\")","v":""},null,null,null,null,null,null,null,null,null,null,null,0,null,{"$f":"IF(AND(E28<>\"\",G28<>\"\",I28<>\"\",K28<>\"\",M28<>\"\"),Equipment!K32*102,0)","v":0},{"$f":"IF(AND(E28<>\"\",G28<>\"\",I28<>\"\",K28<>\"\",M28<>\"\"),Equipment!K32*0.0634,0)","v":0}]
[22,null,{"$f":"IF(Equipment!U33=\"x\",Equipment!C33,\"\")","v":""},null,null,null,null,null,null,null,null,null,null,null,0,null,{"$f":"IF(AND(E29<>\"\",G29<>\"\",I29<>\"\",K29<>\"\",M29<>\"\"),Equipment!K33*102,0)","v":0},{"$f":"IF(AND(E29<>\"\",G29<>\"\",I29<>\"\",K29<>\"\",M29<>\"\"),Equipment!K33*0.0634,0)","v":0}]
[23,null,{"$f":"IF(Equipment!U34=\"x\",Equipment!C34,\"\")","v":""},null,null,null,null,null,null,null,null,null,null,null,0,null,{"$f":"IF(AND(E30<>\"\",G30<>\"\",I30<>\"\",K30<>\"\",M30<>\"\"),Equipment!K34*102,0)","v":0},{"$f":"IF(AND(E30<>\"\",G30<>\"\",I30<>\"\",K30<>\"\",M30<>\"\"),Equipment!K34*0.0634,0)","v":0}]
[24,null,{"$f":"IF(Equipment!U35=\"x\",Equipment!C35,\"\")","v":""},null,null,null,null,null,null,null,null,null,null,null,0,null,{"$f":"IF(AND(E31<>\"\",G31<>\"\",I31<>\"\",K31<>\"\",M31<>\"\"),Equipment!K35*102,0)","v":0},{"$f":"IF(AND(E31<>\"\",G31<>\"\",I31<>\"\",K31<>\"\",M31<>\"\"),Equipment!K35*0.0634,0)","v":0}]
[25,null,{"$f":"IF(Equipment!U36=\"x\",Equipment!C36,\"\")","v":""},null,null,null,null,null,null,null,null,null,null,null,0,null,{"$f":"IF(AND(E32<>\"\",G32<>\"\",I32<>\"\",K32<>\"\",M32<>\"\"),Equipment!K36*102,0)","v":0},{"$f":"IF(AND(E32<>\"\",G32<>\"\",I32<>\"\",K32<>\"\",M32<>\"\"),Equipment!K36*0.0634,0)","v":0}]
[26,null,{"$f":"IF(Equipment!U37=\"x\",Equipment!C37,\"\")","v":""},null,null,null,null,null,null,null,null,null,null,null,0,null,{"$f":"IF(AND(E33<>\"\",G33<>\"\",I33<>\"\",K33<>\"\",M33<>\"\"),Equipment!K37*102,0)","v":0},{"$f":"IF(AND(E33<>\"\",G33<>\"\",I33<>\"\",K33<>\"\",M33<>\"\"),Equipment!K37*0.0634,0)","v":0}]
[27,null,{"$f":"IF(Equipment!U38=\"x\",Equipment!C38,\"\")","v":""},null,null,null,null,null,null,null,null,null,null,null,0,null,{"$f":"IF(AND(E34<>\"\",G34<>\"\",I34<>\"\",K34<>\"\",M34<>\"\"),Equipment!K38*102,0)","v":0},{"$f":"IF(AND(E34<>\"\",G34<>\"\",I34<>\"\",K34<>\"\",M34<>\"\"),Equipment!K38*0.0634,0)","v":0}]
[28,null,{"$f":"IF(Equipment!U39=\"x\",Equipment!C39,\"\")","v":""},null,null,null,null,null,null,null,null,null,null,null,0,null,{"$f":"IF(AND(E35<>\"\",G35<>\"\",I35<>\"\",K35<>\"\",M35<>\"\"),Equipment!K39*102,0)","v":0},{"$f":"IF(AND(E35<>\"\",G35<>\"\",I35<>\"\",K35<>\"\",M35<>\"\"),Equipment!K39*0.0634,0)","v":0}]
[29,null,{"$f":"IF(Equipment!U40=\"x\",Equipment!C40,\"\")","v":""},null,null,null,null,null,null,null,null,null,null,null,0,null,{"$f":"IF(AND(E36<>\"\",G36<>\"\",I36<>\"\",K36<>\"\",M36<>\"\"),Equipment!K40*102,0)","v":0},{"$f":"IF(AND(E36<>\"\",G36<>\"\",I36<>\"\",K36<>\"\",M36<>\"\"),Equipment!K40*0.0634,0)","v":0}]
[30,null,{"$f":"IF(Equipment!U41=\"x\",Equipment!C41,\"\")","v":""},null,null,null,null,null,null,null,null,null,null,null,0,null,{"$f":"IF(AND(E37<>\"\",G37<>\"\",I37<>\"\",K37<>\"\",M37<>\"\"),Equipment!K41*102,0)","v":0},{"$f":"IF(AND(E37<>\"\",G37<>\"\",I37<>\"\",K37<>\"\",M37<>\"\"),Equipment!K41*0.0634,0)","v":0}]
[31,null,{"$f":"IF(Equipment!U42=\"x\",Equipment!C42,\"\")","v":""},null,null,null,null,null,null,null,null,null,null,null,0,null,{"$f":"IF(AND(E38<>\"\",G38<>\"\",I38<>\"\",K38<>\"\",M38<>\"\"),Equipment!K42*102,0)","v":0},{"$f":"IF(AND(E38<>\"\",G38<>\"\",I38<>\"\",K38<>\"\",M38<>\"\"),Equipment!K42*0.0634,0)","v":0}]
[32,null,{"$f":"IF(Equipment!U43=\"x\",Equipment!C43,\"\")","v":""},null,null,null,null,null,null,null,null,null,null,null,0,null,{"$f":"IF(AND(E39<>\"\",G39<>\"\",I39<>\"\",K39<>\"\",M39<>\"\"),Equipment!K43*102,0)","v":0},{"$f":"IF(AND(E39<>\"\",G39<>\"\",I39<>\"\",K39<>\"\",M39<>\"\"),Equipment!K43*0.0634,0)","v":0}]
[33,null,{"$f":"IF(Equipment!U44=\"x\",Equipment!C44,\"\")","v":""},null,null,null,null,null,null,null,null,null,null,null,0,null,{"$f":"IF(AND(E40<>\"\",G40<>\"\",I40<>\"\",K40<>\"\",M40<>\"\"),Equipment!K44*102,0)","v":0},{"$f":"IF(AND(E40<>\"\",G40<>\"\",I40<>\"\",K40<>\"\",M40<>\"\"),Equipment!K44*0.0634,0)","v":0}]
[34,null,{"$f":"IF(Equipment!U45=\"x\",Equipment!C45,\"\")","v":""},null,null,null,null,null,null,null,null,null,null,null,0,null,{"$f":"IF(AND(E41<>\"\",G41<>\"\",I41<>\"\",K41<>\"\",M41<>\"\"),Equipment!K45*102,0)","v":0},{"$f":"IF(AND(E41<>\"\",G41<>\"\",I41<>\"\",K41<>\"\",M41<>\"\"),Equipment!K45*0.0634,0)","v":0}]
[35,null,{"$f":"IF(Equipment!U46=\"x\",Equipment!C46,\"\")","v":""},null,null,null,null,null,null,null,null,null,null,null,0,null,{"$f":"IF(AND(E42<>\"\",G42<>\"\",I42<>\"\",K42<>\"\",M42<>\"\"),Equipment!K46*102,0)","v":0},{"$f":"IF(AND(E42<>\"\",G42<>\"\",I42<>\"\",K42<>\"\",M42<>\"\"),Equipment!K46*0.0634,0)","v":0}]
[36,null,{"$f":"IF(Equipment!U47=\"x\",Equipment!C47,\"\")","v":""},null,null,null,null,null,null,null,null,null,null,null,0,null,{"$f":"IF(AND(E43<>\"\",G43<>\"\",I43<>\"\",K43<>\"\",M43<>\"\"),Equipment!K47*102,0)","v":0},{"$f":"IF(AND(E43<>\"\",G43<>\"\",I43<>\"\",K43<>\"\",M43<>\"\"),Equipment!K47*0.0634,0)","v":0}]
[37,null,{"$f":"IF(Equipment!U48=\"x\",Equipment!C48,\"\")","v":""},null,null,null,null,null,null,null,null,null,null,null,0,null,{"$f":"IF(AND(E44<>\"\",G44<>\"\",I44<>\"\",K44<>\"\",M44<>\"\"),Equipment!K48*102,0)","v":0},{"$f":"IF(AND(E44<>\"\",G44<>\"\",I44<>\"\",K44<>\"\",M44<>\"\"),Equipment!K48*0.0634,0)","v":0}]
[38,null,{"$f":"IF(Equipment!U49=\"x\",Equipment!C49,\"\")","v":""},null,null,null,null,null,null,null,null,null,null,null,0,null,{"$f":"IF(AND(E45<>\"\",G45<>\"\",I45<>\"\",K45<>\"\",M45<>\"\"),Equipment!K49*102,0)","v":0},{"$f":"IF(AND(E45<>\"\",G45<>\"\",I45<>\"\",K45<>\"\",M45<>\"\"),Equipment!K49*0.0634,0)","v":0}]
[39,null,{"$f":"IF(Equipment!U50=\"x\",Equipment!C50,\"\")","v":""},null,null,null,null,null,null,null,null,null,null,null,0,null,{"$f":"IF(AND(E46<>\"\",G46<>\"\",I46<>\"\",K46<>\"\",M46<>\"\"),Equipment!K50*102,0)","v":0},{"$f":"IF(AND(E46<>\"\",G46<>\"\",I46<>\"\",K46<>\"\",M46<>\"\"),Equipment!K50*0.0634,0)","v":0}]
[40,null,{"$f":"IF(Equipment!U51=\"x\",Equipment!C51,\"\")","v":""},null,null,null,null,null,null,null,null,null,null,null,0,null,{"$f":"IF(AND(E47<>\"\",G47<>\"\",I47<>\"\",K47<>\"\",M47<>\"\"),Equipment!K51*102,0)","v":0},{"$f":"IF(AND(E47<>\"\",G47<>\"\",I47<>\"\",K47<>\"\",M47<>\"\"),Equipment!K51*0.0634,0)","v":0}]
[41,null,{"$f":"IF(Equipment!U52=\"x\",Equipment!C52,\"\")","v":""},null,null,null,null,null,null,null,null,null,null,null,0,null,{"$f":"IF(AND(E48<>\"\",G48<>\"\",I48<>\"\",K48<>\"\",M48<>\"\"),Equipment!K52*102,0)","v":0},{"$f":"IF(AND(E48<>\"\",G48<>\"\",I48<>\"\",K48<>\"\",M48<>\"\"),Equipment!K52*0.0634,0)","v":0}]
[42,null,{"$f":"IF(Equipment!U53=\"x\",Equipment!C53,\"\")","v":""},null,null,null,null,null,null,null,null,null,null,null,0,null,{"$f":"IF(AND(E49<>\"\",G49<>\"\",I49<>\"\",K49<>\"\",M49<>\"\"),Equipment!K53*102,0)","v":0},{"$f":"IF(AND(E49<>\"\",G49<>\"\",I49<>\"\",K49<>\"\",M49<>\"\"),Equipment!K53*0.0634,0)","v":0}]
[43,null,{"$f":"IF(Equipment!U54=\"x\",Equipment!C54,\"\")","v":""},null,null,null,null,null,null,null,null,null,null,null,0,null,{"$f":"IF(AND(E50<>\"\",G50<>\"\",I50<>\"\",K50<>\"\",M50<>\"\"),Equipment!K54*102,0)","v":0},{"$f":"IF(AND(E50<>\"\",G50<>\"\",I50<>\"\",K50<>\"\",M50<>\"\"),Equipment!K54*0.0634,0)","v":0}]
[44,null,{"$f":"IF(Equipment!U55=\"x\",Equipment!C55,\"\")","v":""},null,null,null,null,null,null,null,null,null,null,null,0,null,{"$f":"IF(AND(E51<>\"\",G51<>\"\",I51<>\"\",K51<>\"\",M51<>\"\"),Equipment!K55*102,0)","v":0},{"$f":"IF(AND(E51<>\"\",G51<>\"\",I51<>\"\",K51<>\"\",M51<>\"\"),Equipment!K55*0.0634,0)","v":0}]
[45,null,{"$f":"IF(Equipment!U56=\"x\",Equipment!C56,\"\")","v":""},null,null,null,null,null,null,null,null,null,null,null,0,null,{"$f":"IF(AND(E52<>\"\",G52<>\"\",I52<>\"\",K52<>\"\",M52<>\"\"),Equipment!K56*102,0)","v":0},{"$f":"IF(AND(E52<>\"\",G52<>\"\",I52<>\"\",K52<>\"\",M52<>\"\"),Equipment!K56*0.0634,0)","v":0}]
[46,null,{"$f":"IF(Equipment!U57=\"x\",Equipment!C57,\"\")","v":""},null,null,null,null,null,null,null,null,null,null,null,0,null,{"$f":"IF(AND(E53<>\"\",G53<>\"\",I53<>\"\",K53<>\"\",M53<>\"\"),Equipment!K57*102,0)","v":0},{"$f":"IF(AND(E53<>\"\",G53<>\"\",I53<>\"\",K53<>\"\",M53<>\"\"),Equipment!K57*0.0634,0)","v":0}]
[47,null,{"$f":"IF(Equipment!U58=\"x\",Equipment!C58,\"\")","v":""},null,null,null,null,null,null,null,null,null,null,null,0,null,{"$f":"IF(AND(E54<>\"\",G54<>\"\",I54<>\"\",K54<>\"\",M54<>\"\"),Equipment!K58*102,0)","v":0},{"$f":"IF(AND(E54<>\"\",G54<>\"\",I54<>\"\",K54<>\"\",M54<>\"\"),Equipment!K58*0.0634,0)","v":0}]
[48,null,{"$f":"IF(Equipment!U59=\"x\",Equipment!C59,\"\")","v":""},null,null,null,null,null,null,null,null,null,null,null,0,null,{"$f":"IF(AND(E55<>\"\",G55<>\"\",I55<>\"\",K55<>\"\",M55<>\"\"),Equipment!K59*102,0)","v":0},{"$f":"IF(AND(E55<>\"\",G55<>\"\",I55<>\"\",K55<>\"\",M55<>\"\"),Equipment!K59*0.0634,0)","v":0}]
[49,null,{"$f":"IF(Equipment!U60=\"x\",Equipment!C60,\"\")","v":""},null,null,null,null,null,null,null,null,null,null,null,0,null,{"$f":"IF(AND(E56<>\"\",G56<>\"\",I56<>\"\",K56<>\"\",M56<>\"\"),Equipment!K60*102,0)","v":0},{"$f":"IF(AND(E56<>\"\",G56<>\"\",I56<>\"\",K56<>\"\",M56<>\"\"),Equipment!K60*0.0634,0)","v":0}]
[50,null,{"$f":"IF(Equipment!U61=\"x\",Equipment!C61,\"\")","v":""},null,null,null,null,null,null,null,null,null,null,null,0,null,{"$f":"IF(AND(E57<>\"\",G57<>\"\",I57<>\"\",K57<>\"\",M57<>\"\"),Equipment!K61*102,0)","v":0},{"$f":"IF(AND(E57<>\"\",G57<>\"\",I57<>\"\",K57<>\"\",M57<>\"\"),Equipment!K61*0.0634,0)","v":0}]
[51,null,{"$f":"IF(Equipment!U62=\"x\",Equipment!C62,\"\")","v":""},null,null,null,null,null,null,null,null,null,null,null,0,null,{"$f":"IF(AND(E58<>\"\",G58<>\"\",I58<>\"\",K58<>\"\",M58<>\"\"),Equipment!K62*102,0)","v":0},{"$f":"IF(AND(E58<>\"\",G58<>\"\",I58<>\"\",K58<>\"\",M58<>\"\"),Equipment!K62*0.0634,0)","v":0}]
[52,null,{"$f":"IF(Equipment!U63=\"x\",Equipment!C63,\"\")","v":""},null,null,null,null,null,null,null,null,null,null,null,0,null,{"$f":"IF(AND(E59<>\"\",G59<>\"\",I59<>\"\",K59<>\"\",M59<>\"\"),Equipment!K63*102,0)","v":0},{"$f":"IF(AND(E59<>\"\",G59<>\"\",I59<>\"\",K59<>\"\",M59<>\"\"),Equipment!K63*0.0634,0)","v":0}]
[53,null,{"$f":"IF(Equipment!U64=\"x\",Equipment!C64,\"\")","v":""},null,null,null,null,null,null,null,null,null,null,null,0,null,{"$f":"IF(AND(E60<>\"\",G60<>\"\",I60<>\"\",K60<>\"\",M60<>\"\"),Equipment!K64*102,0)","v":0},{"$f":"IF(AND(E60<>\"\",G60<>\"\",I60<>\"\",K60<>\"\",M60<>\"\"),Equipment!K64*0.0634,0)","v":0}]
[54,null,{"$f":"IF(Equipment!U65=\"x\",Equipment!C65,\"\")","v":""},null,null,null,null,null,null,null,null,null,null,null,0,null,{"$f":"IF(AND(E61<>\"\",G61<>\"\",I61<>\"\",K61<>\"\",M61<>\"\"),Equipment!K65*102,0)","v":0},{"$f":"IF(AND(E61<>\"\",G61<>\"\",I61<>\"\",K61<>\"\",M61<>\"\"),Equipment!K65*0.0634,0)","v":0}]
[55,null,{"$f":"IF(Equipment!U66=\"x\",Equipment!C66,\"\")","v":""},null,null,null,null,null,null,null,null,null,null,null,0,null,{"$f":"IF(AND(E62<>\"\",G62<>\"\",I62<>\"\",K62<>\"\",M62<>\"\"),Equipment!K66*102,0)","v":0},{"$f":"IF(AND(E62<>\"\",G62<>\"\",I62<>\"\",K62<>\"\",M62<>\"\"),Equipment!K66*0.0634,0)","v":0}]
[56,null,{"$f":"IF(Equipment!U67=\"x\",Equipment!C67,\"\")","v":""},null,null,null,null,null,null,null,null,null,null,null,0,null,{"$f":"IF(AND(E63<>\"\",G63<>\"\",I63<>\"\",K63<>\"\",M63<>\"\"),Equipment!K67*102,0)","v":0},{"$f":"IF(AND(E63<>\"\",G63<>\"\",I63<>\"\",K63<>\"\",M63<>\"\"),Equipment!K67*0.0634,0)","v":0}]
[57,null,{"$f":"IF(Equipment!U68=\"x\",Equipment!C68,\"\")","v":""},null,null,null,null,null,null,null,null,null,null,null,0,null,{"$f":"IF(AND(E64<>\"\",G64<>\"\",I64<>\"\",K64<>\"\",M64<>\"\"),Equipment!K68*102,0)","v":0},{"$f":"IF(AND(E64<>\"\",G64<>\"\",I64<>\"\",K64<>\"\",M64<>\"\"),Equipment!K68*0.0634,0)","v":0}]
[58,null,{"$f":"IF(Equipment!U69=\"x\",Equipment!C69,\"\")","v":""},null,null,null,null,null,null,null,null,null,null,null,0,null,{"$f":"IF(AND(E65<>\"\",G65<>\"\",I65<>\"\",K65<>\"\",M65<>\"\"),Equipment!K69*102,0)","v":0},{"$f":"IF(AND(E65<>\"\",G65<>\"\",I65<>\"\",K65<>\"\",M65<>\"\"),Equipment!K69*0.0634,0)","v":0}]
[59,null,{"$f":"IF(Equipment!U70=\"x\",Equipment!C70,\"\")","v":""},null,null,null,null,null,null,null,null,null,null,null,0,null,{"$f":"IF(AND(E66<>\"\",G66<>\"\",I66<>\"\",K66<>\"\",M66<>\"\"),Equipment!K70*102,0)","v":0},{"$f":"IF(AND(E66<>\"\",G66<>\"\",I66<>\"\",K66<>\"\",M66<>\"\"),Equipment!K70*0.0634,0)","v":0}]
[60,null,{"$f":"IF(Equipment!U71=\"x\",Equipment!C71,\"\")","v":""},null,null,null,null,null,null,null,null,null,null,null,0,null,{"$f":"IF(AND(E67<>\"\",G67<>\"\",I67<>\"\",K67<>\"\",M67<>\"\"),Equipment!K71*102,0)","v":0},{"$f":"IF(AND(E67<>\"\",G67<>\"\",I67<>\"\",K67<>\"\",M67<>\"\"),Equipment!K71*0.0634,0)","v":0}]
[61,null,{"$f":"IF(Equipment!U72=\"x\",Equipment!C72,\"\")","v":""},null,null,null,null,null,null,null,null,null,null,null,0,null,{"$f":"IF(AND(E68<>\"\",G68<>\"\",I68<>\"\",K68<>\"\",M68<>\"\"),Equipment!K72*102,0)","v":0},{"$f":"IF(AND(E68<>\"\",G68<>\"\",I68<>\"\",K68<>\"\",M68<>\"\"),Equipment!K72*0.0634,0)","v":0}]
[62,null,{"$f":"IF(Equipment!U73=\"x\",Equipment!C73,\"\")","v":""},null,null,null,null,null,null,null,null,null,null,null,0,null,{"$f":"IF(AND(E69<>\"\",G69<>\"\",I69<>\"\",K69<>\"\",M69<>\"\"),Equipment!K73*102,0)","v":0},{"$f":"IF(AND(E69<>\"\",G69<>\"\",I69<>\"\",K69<>\"\",M69<>\"\"),Equipment!K73*0.0634,0)","v":0}]
[63,null,{"$f":"IF(Equipment!U74=\"x\",Equipment!C74,\"\")","v":""},null,null,null,null,null,null,null,null,null,null,null,0,null,{"$f":"IF(AND(E70<>\"\",G70<>\"\",I70<>\"\",K70<>\"\",M70<>\"\"),Equipment!K74*102,0)","v":0},{"$f":"IF(AND(E70<>\"\",G70<>\"\",I70<>\"\",K70<>\"\",M70<>\"\"),Equipment!K74*0.0634,0)","v":0}]
[64,null,{"$f":"IF(Equipment!U75=\"x\",Equipment!C75,\"\")","v":""},null,null,null,null,null,null,null,null,null,null,null,0,null,{"$f":"IF(AND(E71<>\"\",G71<>\"\",I71<>\"\",K71<>\"\",M71<>\"\"),Equipment!K75*102,0)","v":0},{"$f":"IF(AND(E71<>\"\",G71<>\"\",I71<>\"\",K71<>\"\",M71<>\"\"),Equipment!K75*0.0634,0)","v":0}]
[65,null,{"$f":"IF(Equipment!U76=\"x\",Equipment!C76,\"\")","v":""},null,null,null,null,null,null,null,null,null,null,null,0,null,{"$f":"IF(AND(E72<>\"\",G72<>\"\",I72<>\"\",K72<>\"\",M72<>\"\"),Equipment!K76*102,0)","v":0},{"$f":"IF(AND(E72<>\"\",G72<>\"\",I72<>\"\",K72<>\"\",M72<>\"\"),Equipment!K76*0.0634,0)","v":0}]
[66,null,{"$f":"IF(Equipment!U77=\"x\",Equipment!C77,\"\")","v":""},null,null,null,null,null,null,null,null,null,null,null,{"$f":"IF(AND(G73<>\"\",I73<>\"\",K73<>\"\",M73<>\"\"),MIN(E73*0.7,150),0)","v":0},null,{"$f":"IF(AND(E73<>\"\",G73<>\"\",I73<>\"\",K73<>\"\",M73<>\"\"),Equipment!K77*102,0)","v":0},{"$f":"IF(AND(E73<>\"\",G73<>\"\",I73<>\"\",K73<>\"\",M73<>\"\"),Equipment!K77*0.0634,0)","v":0}]
[67,null,{"$f":"IF(Equipment!U78=\"x\",Equipment!C78,\"\")","v":""},null,null,null,null,null,null,null,null,null,null,null,0,null,{"$f":"IF(AND(E74<>\"\",G74<>\"\",I74<>\"\",K74<>\"\",M74<>\"\"),Equipment!K78*102,0)","v":0},{"$f":"IF(AND(E74<>\"\",G74<>\"\",I74<>\"\",K74<>\"\",M74<>\"\"),Equipment!K78*0.0634,0)","v":0}]
[68,null,{"$f":"IF(Equipment!U79=\"x\",Equipment!C79,\"\")","v":""},null,null,null,null,null,null,null,null,null,null,null,0,null,{"$f":"IF(AND(E75<>\"\",G75<>\"\",I75<>\"\",K75<>\"\",M75<>\"\"),Equipment!K79*102,0)","v":0},{"$f":"IF(AND(E75<>\"\",G75<>\"\",I75<>\"\",K75<>\"\",M75<>\"\"),Equipment!K79*0.0634,0)","v":0}]
[69,null,{"$f":"IF(Equipment!U80=\"x\",Equipment!C80,\"\")","v":""},null,null,null,null,null,null,null,null,null,null,null,0,null,{"$f":"IF(AND(E76<>\"\",G76<>\"\",I76<>\"\",K76<>\"\",M76<>\"\"),Equipment!K80*102,0)","v":0},{"$f":"IF(AND(E76<>\"\",G76<>\"\",I76<>\"\",K76<>\"\",M76<>\"\"),Equipment!K80*0.0634,0)","v":0}]
[70,null,{"$f":"IF(Equipment!U81=\"x\",Equipment!C81,\"\")","v":""},null,null,null,null,null,null,null,null,null,null,null,0,null,{"$f":"IF(AND(E77<>\"\",G77<>\"\",I77<>\"\",K77<>\"\",M77<>\"\"),Equipment!K81*102,0)","v":0},{"$f":"IF(AND(E77<>\"\",G77<>\"\",I77<>\"\",K77<>\"\",M77<>\"\"),Equipment!K81*0.0634,0)","v":0}]
[71,null,{"$f":"IF(Equipment!U82=\"x\",Equipment!C82,\"\")","v":""},null,null,null,null,null,null,null,null,null,null,null,0,null,{"$f":"IF(AND(E78<>\"\",G78<>\"\",I78<>\"\",K78<>\"\",M78<>\"\"),Equipment!K82*102,0)","v":0},{"$f":"IF(AND(E78<>\"\",G78<>\"\",I78<>\"\",K78<>\"\",M78<>\"\"),Equipment!K82*0.0634,0)","v":0}]
[72,null,{"$f":"IF(Equipment!U83=\"x\",Equipment!C83,\"\")","v":""},null,null,null,null,null,null,null,null,null,null,null,0,null,{"$f":"IF(AND(E79<>\"\",G79<>\"\",I79<>\"\",K79<>\"\",M79<>\"\"),Equipment!K83*102,0)","v":0},{"$f":"IF(AND(E79<>\"\",G79<>\"\",I79<>\"\",K79<>\"\",M79<>\"\"),Equipment!K83*0.0634,0)","v":0}]
[73,null,{"$f":"IF(Equipment!U84=\"x\",Equipment!C84,\"\")","v":""},null,null,null,null,null,null,null,null,null,null,null,0,null,{"$f":"IF(AND(E80<>\"\",G80<>\"\",I80<>\"\",K80<>\"\",M80<>\"\"),Equipment!K84*102,0)","v":0},{"$f":"IF(AND(E80<>\"\",G80<>\"\",I80<>\"\",K80<>\"\",M80<>\"\"),Equipment!K84*0.0634,0)","v":0}]
[74,null,{"$f":"IF(Equipment!U85=\"x\",Equipment!C85,\"\")","v":""},null,null,null,null,null,null,null,null,null,null,null,0,null,{"$f":"IF(AND(E81<>\"\",G81<>\"\",I81<>\"\",K81<>\"\",M81<>\"\"),Equipment!K85*102,0)","v":0},{"$f":"IF(AND(E81<>\"\",G81<>\"\",I81<>\"\",K81<>\"\",M81<>\"\"),Equipment!K85*0.0634,0)","v":0}]
[75,null,{"$f":"IF(Equipment!U86=\"x\",Equipment!C86,\"\")","v":""},null,null,null,null,null,null,null,null,null,null,null,0,null,{"$f":"IF(AND(E82<>\"\",G82<>\"\",I82<>\"\",K82<>\"\",M82<>\"\"),Equipment!K86*102,0)","v":0},{"$f":"IF(AND(E82<>\"\",G82<>\"\",I82<>\"\",K82<>\"\",M82<>\"\"),Equipment!K86*0.0634,0)","v":0}]
[76,null,{"$f":"IF(Equipment!U87=\"x\",Equipment!C87,\"\")","v":""},null,null,null,null,null,null,null,null,null,null,null,0,null,{"$f":"IF(AND(E83<>\"\",G83<>\"\",I83<>\"\",K83<>\"\",M83<>\"\"),Equipment!K87*102,0)","v":0},{"$f":"IF(AND(E83<>\"\",G83<>\"\",I83<>\"\",K83<>\"\",M83<>\"\"),Equipment!K87*0.0634,0)","v":0}]
[77,null,{"$f":"IF(Equipment!U88=\"x\",Equipment!C88,\"\")","v":""},null,null,null,null,null,null,null,null,null,null,null,0,null,{"$f":"IF(AND(E84<>\"\",G84<>\"\",I84<>\"\",K84<>\"\",M84<>\"\"),Equipment!K88*102,0)","v":0},{"$f":"IF(AND(E84<>\"\",G84<>\"\",I84<>\"\",K84<>\"\",M84<>\"\"),Equipment!K88*0.0634,0)","v":0}]
[78,null,{"$f":"IF(Equipment!U89=\"x\",Equipment!C89,\"\")","v":""},null,null,null,null,null,null,null,null,null,null,null,0,null,{"$f":"IF(AND(E85<>\"\",G85<>\"\",I85<>\"\",K85<>\"\",M85<>\"\"),Equipment!K89*102,0)","v":0},{"$f":"IF(AND(E85<>\"\",G85<>\"\",I85<>\"\",K85<>\"\",M85<>\"\"),Equipment!K89*0.0634,0)","v":0}]
[79,null,{"$f":"IF(Equipment!U90=\"x\",Equipment!C90,\"\")","v":""},null,null,null,null,null,null,null,null,null,null,null,0,null,{"$f":"IF(AND(E86<>\"\",G86<>\"\",I86<>\"\",K86<>\"\",M86<>\"\"),Equipment!K90*102,0)","v":0},{"$f":"IF(AND(E86<>\"\",G86<>\"\",I86<>\"\",K86<>\"\",M86<>\"\"),Equipment!K90*0.0634,0)","v":0}]
[80,null,{"$f":"IF(Equipment!U91=\"x\",Equipment!C91,\"\")","v":""},null,null,null,null,null,null,null,null,null,null,null,0,null,{"$f":"IF(AND(E87<>\"\",G87<>\"\",I87<>\"\",K87<>\"\",M87<>\"\"),Equipment!K91*102,0)","v":0},{"$f":"IF(AND(E87<>\"\",G87<>\"\",I87<>\"\",K87<>\"\",M87<>\"\"),Equipment!K91*0.0634,0)","v":0}]
[81,null,{"$f":"IF(Equipment!U92=\"x\",Equipment!C92,\"\")","v":""},null,null,null,null,null,null,null,null,null,null,null,0,null,{"$f":"IF(AND(E88<>\"\",G88<>\"\",I88<>\"\",K88<>\"\",M88<>\"\"),Equipment!K92*102,0)","v":0},{"$f":"IF(AND(E88<>\"\",G88<>\"\",I88<>\"\",K88<>\"\",M88<>\"\"),Equipment!K92*0.0634,0)","v":0}]
[82,null,{"$f":"IF(Equipment!U93=\"x\",Equipment!C93,\"\")","v":""},null,null,null,null,null,null,null,null,null,null,null,0,null,{"$f":"IF(AND(E89<>\"\",G89<>\"\",I89<>\"\",K89<>\"\",M89<>\"\"),Equipment!K93*102,0)","v":0},{"$f":"IF(AND(E89<>\"\",G89<>\"\",I89<>\"\",K89<>\"\",M89<>\"\"),Equipment!K93*0.0634,0)","v":0}]
[83,null,{"$f":"IF(Equipment!U94=\"x\",Equipment!C94,\"\")","v":""},null,null,null,null,null,null,null,null,null,null,null,0,null,{"$f":"IF(AND(E90<>\"\",G90<>\"\",I90<>\"\",K90<>\"\",M90<>\"\"),Equipment!K94*102,0)","v":0},{"$f":"IF(AND(E90<>\"\",G90<>\"\",I90<>\"\",K90<>\"\",M90<>\"\"),Equipment!K94*0.0634,0)","v":0}]
[84,null,{"$f":"IF(Equipment!U95=\"x\",Equipment!C95,\"\")","v":""},null,null,null,null,null,null,null,null,null,null,null,0,null,{"$f":"IF(AND(E91<>\"\",G91<>\"\",I91<>\"\",K91<>\"\",M91<>\"\"),Equipment!K95*102,0)","v":0},{"$f":"IF(AND(E91<>\"\",G91<>\"\",I91<>\"\",K91<>\"\",M91<>\"\"),Equipment!K95*0.0634,0)","v":0}]
[85,null,{"$f":"IF(Equipment!U96=\"x\",Equipment!C96,\"\")","v":""},null,null,null,null,null,null,null,null,null,null,null,0,null,{"$f":"IF(AND(E92<>\"\",G92<>\"\",I92<>\"\",K92<>\"\",M92<>\"\"),Equipment!K96*102,0)","v":0},{"$f":"IF(AND(E92<>\"\",G92<>\"\",I92<>\"\",K92<>\"\",M92<>\"\"),Equipment!K96*0.0634,0)","v":0}]
[86,null,{"$f":"IF(Equipment!U97=\"x\",Equipment!C97,\"\")","v":""},null,null,null,null,null,null,null,null,null,null,null,0,null,{"$f":"IF(AND(E93<>\"\",G93<>\"\",I93<>\"\",K93<>\"\",M93<>\"\"),Equipment!K97*102,0)","v":0},{"$f":"IF(AND(E93<>\"\",G93<>\"\",I93<>\"\",K93<>\"\",M93<>\"\"),Equipment!K97*0.0634,0)","v":0}]
[87,null,{"$f":"IF(Equipment!U98=\"x\",Equipment!C98,\"\")","v":""},null,null,null,null,null,null,null,null,null,null,null,0,null,{"$f":"IF(AND(E94<>\"\",G94<>\"\",I94<>\"\",K94<>\"\",M94<>\"\"),Equipment!K98*102,0)","v":0},{"$f":"IF(AND(E94<>\"\",G94<>\"\",I94<>\"\",K94<>\"\",M94<>\"\"),Equipment!K98*0.0634,0)","v":0}]
[88,null,{"$f":"IF(Equipment!U99=\"x\",Equipment!C99,\"\")","v":""},null,null,null,null,null,null,null,null,null,null,null,0,null,{"$f":"IF(AND(E95<>\"\",G95<>\"\",I95<>\"\",K95<>\"\",M95<>\"\"),Equipment!K99*102,0)","v":0},{"$f":"IF(AND(E95<>\"\",G95<>\"\",I95<>\"\",K95<>\"\",M95<>\"\"),Equipment!K99*0.0634,0)","v":0}]
[89,null,{"$f":"IF(Equipment!U100=\"x\",Equipment!C100,\"\")","v":""},null,null,null,null,null,null,null,null,null,null,null,0,null,{"$f":"IF(AND(E96<>\"\",G96<>\"\",I96<>\"\",K96<>\"\",M96<>\"\"),Equipment!K100*102,0)","v":0},{"$f":"IF(AND(E96<>\"\",G96<>\"\",I96<>\"\",K96<>\"\",M96<>\"\"),Equipment!K100*0.0634,0)","v":0}]
[90,null,{"$f":"IF(Equipment!U101=\"x\",Equipment!C101,\"\")","v":""},null,null,null,null,null,null,null,null,null,null,null,0,null,{"$f":"IF(AND(E97<>\"\",G97<>\"\",I97<>\"\",K97<>\"\",M97<>\"\"),Equipment!K101*102,0)","v":0},{"$f":"IF(AND(E97<>\"\",G97<>\"\",I97<>\"\",K97<>\"\",M97<>\"\"),Equipment!K101*0.0634,0)","v":0}]
[91,null,{"$f":"IF(Equipment!U102=\"x\",Equipment!C102,\"\")","v":""},null,null,null,null,null,null,null,null,null,null,null,0,null,{"$f":"IF(AND(E98<>\"\",G98<>\"\",I98<>\"\",K98<>\"\",M98<>\"\"),Equipment!K102*102,0)","v":0},{"$f":"IF(AND(E98<>\"\",G98<>\"\",I98<>\"\",K98<>\"\",M98<>\"\"),Equipment!K102*0.0634,0)","v":0}]
[92,null,null,null,null,null,null,null,null,null,null,null,null,null,0,null,{"$f":"IF(AND(E99<>\"\",G99<>\"\",I99<>\"\",K99<>\"\",M99<>\"\"),Equipment!K103*102,0)","v":0},{"$f":"IF(AND(E99<>\"\",G99<>\"\",I99<>\"\",K99<>\"\",M99<>\"\"),Equipment!K103*0.0634,0)","v":0}]
[93,null,null,null,null,null,null,null,null,null,null,null,null,null,0,null,{"$f":"IF(AND(E100<>\"\",G100<>\"\",I100<>\"\",K100<>\"\",M100<>\"\"),Equipment!K104*102,0)","v":0},{"$f":"IF(AND(E100<>\"\",G100<>\"\",I100<>\"\",K100<>\"\",M100<>\"\"),Equipment!K104*0.0634,0)","v":0}]
[94,null,{"$f":"IF(Equipment!U103=\"x\",Equipment!C103,\"\")","v":""},null,null,null,null,null,null,null,null,null,null,null,0,null,{"$f":"IF(AND(E101<>\"\",G101<>\"\",I101<>\"\",K101<>\"\",M101<>\"\"),Equipment!K105*102,0)","v":0},{"$f":"IF(AND(E101<>\"\",G101<>\"\",I101<>\"\",K101<>\"\",M101<>\"\"),Equipment!K105*0.0634,0)","v":0}]
[95,null,null,null,null,null,null,null,null,null,null,null,null,null,0,null,{"$f":"IF(AND(E102<>\"\",G102<>\"\",I102<>\"\",K102<>\"\",M102<>\"\"),Equipment!K106*102,0)","v":0},{"$f":"IF(AND(E102<>\"\",G102<>\"\",I102<>\"\",K102<>\"\",M102<>\"\"),Equipment!K106*0.0634,0)","v":0}]
[96,null,null,null,null,null,null,null,null,null,null,null,null,null,0,null,{"$f":"IF(AND(E103<>\"\",G103<>\"\",I103<>\"\",K103<>\"\",M103<>\"\"),Equipment!K107*102,0)","v":0},{"$f":"IF(AND(E103<>\"\",G103<>\"\",I103<>\"\",K103<>\"\",M103<>\"\"),Equipment!K107*0.0634,0)","v":0}]
[97,null,null,null,null,null,null,null,null,null,null,null,null,null,0,null,{"$f":"IF(AND(E104<>\"\",G104<>\"\",I104<>\"\",K104<>\"\",M104<>\"\"),Equipment!K108*102,0)","v":0},{"$f":"IF(AND(E104<>\"\",G104<>\"\",I104<>\"\",K104<>\"\",M104<>\"\"),Equipment!K108*0.0634,0)","v":0}]
[98,null,null,null,null,null,null,null,null,null,null,null,null,null,0,null,{"$f":"IF(AND(E105<>\"\",G105<>\"\",I105<>\"\",K105<>\"\",M105<>\"\"),Equipment!K109*102,0)","v":0},{"$f":"IF(AND(E105<>\"\",G105<>\"\",I105<>\"\",K105<>\"\",M105<>\"\"),Equipment!K109*0.0634,0)","v":0}]
[99,null,{"$f":"IF(Equipment!U104=\"x\",Equipment!C104,\"\")","v":""},null,null,null,null,null,null,null,null,null,null,null,0,null,{"$f":"IF(AND(E106<>\"\",G106<>\"\",I106<>\"\",K106<>\"\",M106<>\"\"),Equipment!K110*102,0)","v":0},{"$f":"IF(AND(E106<>\"\",G106<>\"\",I106<>\"\",K106<>\"\",M106<>\"\"),Equipment!K110*0.0634,0)","v":0}]
[100,null,{"$f":"IF(Equipment!U105=\"x\",Equipment!C105,\"\")","v":""},null,null,null,null,null,null,null,null,null,null,null,0,null,{"$f":"IF(AND(E107<>\"\",G107<>\"\",I107<>\"\",K107<>\"\",M107<>\"\"),Equipment!K111*102,0)","v":0},{"$f":"IF(AND(E107<>\"\",G107<>\"\",I107<>\"\",K107<>\"\",M107<>\"\"),Equipment!K111*0.0634,0)","v":0}]

{"sheet":"Refrigerant","index":8,"n_rows":106,"n_cols":21,"rows_kept":106,"cut":false,"hidden":false,"merged":[[4,20,5,23],[6,20,8,23],[100,8,100,9],[105,6,105,7],[105,10,105,11],[105,12,105,13],[105,8,105,9],[103,6,103,7],[103,10,103,11],[103,12,103,13],[90,6,90,7],[90,10,90,11],[90,12,90,13],[86,6,86,7],[86,10,86,11],[86,12,86,13],[88,6,88,7],[88,10,88,11],[88,12,88,13],[82,6,82,7],[82,10,82,11],[82,12,82,13],[84,6,84,7],[84,10,84,11],[104,2,104,3],[104,4,104,5],[104,6,104,7],[104,10,104,11],[104,12,104,13],[103,8,103,9],[104,8,104,9],[103,2,103,3],[103,4,103,5],[105,2,105,3],[105,4,105,5],[96,10,96,11],[96,12,96,13],[95,8,95,9],[101,6,101,7],[101,10,101,11],[101,12,101,13],[102,2,102,3],[102,4,102,5],[102,6,102,7],[102,10,102,11],[102,12,102,13],[101,8,101,9],[102,8,102,9],[99,6,99,7],[99,10,99,11],[99,12,99,13],[100,2,100,3],[100,4,100,5],[100,6,100,7],[100,10,100,11],[100,12,100,13],[101,2,101,3],[101,4,101,5],[99,8,99,9],[92,8,92,9],[93,8,93,9],[94,8,94,9],[94,6,94,7],[94,10,94,11],[94,12,94,13],[95,2,95,3],[95,4,95,5],[95,6,95,7],[95,10,95,11],[95,12,95,13],[97,2,97,3],[97,4,97,5],[99,2,99,3],[99,4,99,5],[93,4,93,5],[93,6,93,7],[93,10,93,11],[93,12,93,13],[94,2,94,3],[94,4,94,5],[98,2,98,3],[91,2,91,3],[91,4,91,5],[91,6,91,7],[91,10,91,11],[91,12,91,13],[90,8,90,9],[91,8,91,9],[90,2,90,3],[90,4,90,5],[87,2,87,3],[87,4,87,5],[87,6,87,7],[87,10,87,11],[87,12,87,13],[86,8,86,9],[87,8,87,9],[86,2,86,3],[86,4,86,5],[89,2,89,3],[89,4,89,5],[89,6,89,7],[89,10,89,11],[89,12,89,13],[88,8,88,9],[89,8,89,9],[88,2,88,3],[88,4,88,5],[83,2,83,3],[83,4,83,5],[83,6,83,7],[83,10,83,11],[83,12,83,13],[82,8,82,9],[83,8,83,9],[82,2,82,3],[82,4,82,5],[84,12,84,13],[85,2,85,3],[85,4,85,5],[85,6,85,7],[85,10,85,11],[85,12,85,13],[84,8,84,9],[85,8,85,9],[84,2,84,3],[84,4,84,5],[78,6,78,7],[78,10,78,11],[78,12,78,13],[79,2,79,3],[79,4,79,5],[79,6,79,7],[79,10,79,11],[79,12,79,13],[78,8,78,9],[79,8,79,9],[78,2,78,3],[78,4,78,5],[80,6,80,7],[80,10,80,11],[80,12,80,13],[81,2,81,3],[81,4,81,5],[81,6,81,7],[81,10,81,11],[81,12,81,13],[80,8,80,9],[81,8,81,9],[80,2,80,3],[80,4,80,5],[74,6,74,7],[74,10,74,11],[74,12,74,13],[75,2,75,3],[75,4,75,5],[75,6,75,7],[75,10,75,11],[75,12,75,13],[74,8,74,9],[75,8,75,9],[74,2,74,3],[74,4,74,5],[76,6,76,7],[76,10,76,11],[76,12,76,13],[77,2,77,3],[77,4,77,5],[77,6,77,7],[77,10,77,11],[77,12,77,13],[76,8,76,9],[77,8,77,9],[76,2,76,3],[76,4,76,5],[70,6,70,7],[70,10,70,11],[70,12,70,13],[71,2,71,3],[71,4,71,5],[71,6,71,7],[71,10,71,11],[71,12,71,13],[70,8,70,9],[71,8,71,9],[70,2,70,3],[70,4,70,5],[72,6,72,7],[72,10,72,11],[72,12,72,13],[73,2,73,3],[73,4,73,5],[73,6,73,7],[73,10,73,11],[73,12,73,13],[72,8,72,9],[73,8,73,9],[72,2,72,3],[72,4,72,5],[66,6,66,7],[66,10,66,11],[66,12,66,13],[67,2,67,3],[67,4,67,5],[67,6,67,7],[67,10,67,11],[67,12,67,13],[66,8,66,9],[67,8,67,9],[66,2,66,3],[66,4,66,5],[68,6,68,7],[68,10,68,11],[68,12,68,13],[69,2,69,3],[69,4,69,5],[69,6,69,7],[69,10,69,11],[69,12,69,13],[68,8,68,9],[69,8,69,9],[68,2,68,3],[68,4,68,5],[62,6,62,7],[62,10,62,11],[62,12,62,13],[63,2,63,3],[63,4,63,5],[63,6,63,7],[63,10,63,11],[63,12,63,13],[62,8,62,9],[63,8,63,9],[62,2,62,3],[62,4,62,5],[64,6,64,7],[64,10,64,11],[64,12,64,13],[65,2,65,3],[65,4,65,5],[65,6,65,7],[65,10,65,11],[65,12,65,13],[64,8,64,9],[65,8,65,9],[64,2,64,3],[64,4,64,5],[58,6,58,7],[58,10,58,11],[58,12,58,13],[59,2,59,3],[59,4,59,5],[59,6,59,7],[59,10,59,11],[59,12,59,13],[58,8,58,9],[59,8,59,9],[58,2,58,3],[58,4,58,5],[60,6,60,7],[60,10,60,11],[60,12,60,13],[61,2,61,3],[61,4,61,5],[61,6,61,7],[61,10,61,11],[61,12,61,13],[60,8,60,9],[61,8,61,9],[60,2,60,3],[60,4,60,5],[54,6,54,7],[54,10,54,11],[54,12,54,13],[55,2,55,3],[55,4,55,5],[55,6,55,7],[55,10,55,11],[55,12,55,13],[54,8,54,9],[55,8,55,9],[54,2,54,3],[54,4,54,5],[56,6,56,7],[56,10,56,11],[56,12,56,13],[57,2,57,3],[57,4,57,5],[57,6,57,7],[57,10,57,11],[57,12,57,13],[56,8,56,9],[57,8,57,9],[56,2,56,3],[56,4,56,5],[50,6,50,7],[50,10,50,11],[50,12,50,13],[51,2,51,3],[51,4,51,5],[51,6,51,7],[51,10,51,11],[51,12,51,13],[50,8,50,9],[51,8,51,9],[50,2,50,3],[50,4,50,5],[52,6,52,7],[52,10,52,11],[52,12,52,13],[53,2,53,3],[53,4,53,5],[53,6,53,7],[53,10,53,11],[53,12,53,13],[52,8,52,9],[53,8,53,9],[52,2,52,3],[52,4,52,5],[46,6,46,7],[46,10,46,11],[46,12,46,13],[47,2,47,3],[47,4,47,5],[47,6,47,7],[47,10,47,11],[47,12,47,13],[46,8,46,9],[47,8,47,9],[46,2,46,3],[46,4,46,5],[48,6,48,7],[48,10,48,11],[48,12,48,13],[49,2,49,3],[49,4,49,5],[49,6,49,7],[49,10,49,11],[49,12,49,13],[48,8,48,9],[49,8,49,9],[48,2,48,3],[48,4,48,5],[42,6,42,7],[42,10,42,11],[42,12,42,13],[43,2,43,3],[43,4,43,5],[43,6,43,7],[43,10,43,11],[43,12,43,13],[42,8,42,9],[43,8,43,9],[42,2,42,3],[42,4,42,5],[44,6,44,7],[44,10,44,11],[44,12,44,13],[45,2,45,3],[45,4,45,5],[45,6,45,7],[45,10,45,11],[45,12,45,13],[44,8,44,9],[45,8,45,9],[44,2,44,3],[44,4,44,5],[38,6,38,7],[38,10,38,11],[38,12,38,13],[39,2,39,3],[39,4,39,5],[39,6,39,7],[39,10,39,11],[39,12,39,13],[38,8,38,9],[39,8,39,9],[38,2,38,3],[38,4,38,5],[40,6,40,7],[40,10,40,11],[40,12,40,13],[41,2,41,3],[41,4,41,5],[41,6,41,7],[41,10,41,11],[41,12,41,13],[40,8,40,9],[41,8,41,9],[40,2,40,3],[40,4,40,5],[34,6,34,7],[34,10,34,11],[34,12,34,13],[35,2,35,3],[35,4,35,5],[35,6,35,7],[35,10,35,11],[35,12,35,13],[34,8,34,9],[35,8,35,9],[34,2,34,3],[34,4,34,5],[36,6,36,7],[36,10,36,11],[36,12,36,13],[37,2,37,3],[37,4,37,5],[37,6,37,7],[37,10,37,11],[37,12,37,13],[36,8,36,9],[37,8,37,9],[36,2,36,3],[36,4,36,5],[30,6,30,7],[30,10,30,11],[30,12,30,13],[31,2,31,3],[31,4,31,5],[31,6,31,7],[31,10,31,11],[31,12,31,13],[30,8,30,9],[31,8,31,9],[30,2,30,3],[30,4,30,5],[32,6,32,7],[32,10,32,11],[32,12,32,13],[33,2,33,3],[33,4,33,5],[33,6,33,7],[33,10,33,11],[33,12,33,13],[32,8,32,9],[33,8,33,9],[32,2,32,3],[32,4,32,5],[26,6,26,7],[26,10,26,11],[26,12,26,13],[27,2,27,3],[27,4,27,5],[27,6,27,7],[27,10,27,11],[27,12,27,13],[26,8,26,9],[27,8,27,9],[26,2,26,3],[26,4,26,5],[28,6,28,7],[28,10,28,11],[28,12,28,13],[29,2,29,3],[29,4,29,5],[29,6,29,7],[29,10,29,11],[29,12,29,13],[28,8,28,9],[29,8,29,9],[28,2,28,3],[28,4,28,5],[22,6,22,7],[22,10,22,11],[22,12,22,13],[23,2,23,3],[23,4,23,5],[23,6,23,7],[23,10,23,11],[23,12,23,13],[22,8,22,9],[23,8,23,9],[22,2,22,3],[22,4,22,5],[24,6,24,7],[24,10,24,11],[24,12,24,13],[25,2,25,3],[25,4,25,5],[25,6,25,7],[25,10,25,11],[25,12,25,13],[24,8,24,9],[25,8,25,9],[24,2,24,3],[24,4,24,5],[18,6,18,7],[18,10,18,11],[18,12,18,13],[19,2,19,3],[19,4,19,5],[19,6,19,7],[19,10,19,11],[19,12,19,13],[18,8,18,9],[19,8,19,9],[18,2,18,3],[18,4,18,5],[20,6,20,7],[20,10,20,11],[20,12,20,13],[21,2,21,3],[21,4,21,5],[21,6,21,7],[21,10,21,11],[21,12,21,13],[20,8,20,9],[21,8,21,9],[20,2,20,3],[20,4,20,5],[17,8,17,9],[14,6,14,7],[14,10,14,11],[14,12,14,13],[15,2,15,3],[15,4,15,5],[15,6,15,7],[15,10,15,11],[15,12,15,13],[14,8,14,9],[15,8,15,9],[14,2,14,3],[14,4,14,5],[16,2,16,3],[16,4,16,5],[17,10,17,11],[17,12,17,13],[16,8,16,9],[1,1,2,5],[4,4,4,11],[5,2,5,3],[5,4,5,5],[12,6,12,7],[12,10,12,11],[12,12,12,13],[13,2,13,3],[13,4,13,5],[13,6,13,7],[13,10,13,11],[13,12,13,13],[12,8,12,9],[13,8,13,9],[10,6,10,7],[10,10,10,11],[10,12,10,13],[11,2,11,3],[11,4,11,5],[11,6,11,7],[11,10,11,11],[11,12,11,13],[10,8,10,9],[11,8,11,9],[2,6,2,7],[8,6,8,7],[8,10,8,11],[8,12,8,13],[9,2,9,3],[9,4,9,5],[9,6,9,7],[9,10,9,11],[9,12,9,13],[8,8,8,9],[9,8,9,9],[6,6,6,7],[6,10,6,11],[6,12,6,13],[7,2,7,3],[7,4,7,5],[7,6,7,7],[7,10,7,11],[7,12,7,13],[6,8,6,9],[7,8,7,9],[6,2,6,3],[6,4,6,5],[8,2,8,3],[98,4,98,5],[98,6,98,7],[98,10,98,11],[98,12,98,13],[96,8,96,9],[97,8,97,9],[98,8,98,9],[97,6,97,7],[97,10,97,11],[97,12,97,13],[96,2,96,3],[96,4,96,5],[96,6,96,7],[5,6,5,7],[5,10,5,11],[5,12,5,13],[92,2,92,3],[92,4,92,5],[92,6,92,7],[92,10,92,11],[92,12,92,13],[93,2,93,3],[5,8,5,9],[8,4,8,5],[10,2,10,3],[10,4,10,5],[12,2,12,3],[12,4,12,5],[16,6,16,7],[16,10,16,11],[16,12,16,13],[17,2,17,3],[17,4,17,5],[17,6,17,7]]}
[]
[null,"Proper Refrigerant Charge",null,null,null,null,null,null,null,null,null,null,"Total kWh/yr Savings",{"$f":"SUM(O7:O106)","v":0},null,"Incentive",{"$f":"SUM(M7:N106)","v":0}]
[null,null,null,null,null,null,null,null,null,"Customer Costs",{"$f":"SUM(E7:F106)","v":0},null,"Total kW Savings",{"$f":"SUM(P7:P106)","v":0},null,"Electric Cost Savings/YR",{"$f":"IFERROR(N2*INDEX(kWhRates,MATCH(RateSchedule,RateSchedules,0))+N3*12*INDEX(kWRates,MATCH(RateSchedule,RateSchedules,0)),0)","v":0},null,null,null,"Instructions"]
[null,null,null,null,null,null,null,null,null,null,null,null,null,null,null,null,null,null,null,null,"1. Complete all yellow cells"]
[null,null,"RTU Details: ",null,"Refrigerant Details:",null,null,null,null,null,null,null,null,null,null,null,null,null,null,null,"Note"]
[null,null,"Rooftop Unit Label (from equipment tab)",null,"Customer Cost",null,"Recommended Refrigerant Charge",null,"Refrigerant Added",null,"Refrigerant Type",null,"Estimated Incentive",null,"kWh","kW"]
[1,null,{"$f":"IF(Equipment!V12=\"x\",Equipment!C12,\"\")","v":""},null,null,null,null,null,null,null,null,null,{"$f":"IF(AND(K7<>\"\"),MIN(35*Equipment!K12,0.7*E7),0)","v":0},null,{"$f":"IF(AND(E7<>\"\",K7<>\"\"),17*Equipment!K12,0)","v":0},{"$f":"IF(AND(E7<>\"\",K7<>\"\"),0.015*Equipment!K12)","v":false},null,null,null,null,"All fields must be completed to calculate the savings & incentives"]
[2,null,{"$f":"IF(Equipment!V13=\"x\",Equipment!C13,\"\")","v":""},null,null,null,null,null,null,null,null,null,{"$f":"IF(AND(K8<>\"\"),MIN(35*Equipment!K13,0.7*E8),0)","v":0},null,{"$f":"IF(AND(E8<>\"\",K8<>\"\"),17*Equipment!K13,0)","v":0},{"$f":"IF(AND(E8<>\"\",K8<>\"\"),0.015*Equipment!K13)","v":false}]
[3,null,{"$f":"IF(Equipment!V14=\"x\",Equipment!C14,\"\")","v":""},null,null,null,null,null,null,null,null,null,{"$f":"IF(AND(K9<>\"\"),MIN(35*Equipment!K14,0.7*E9),0)","v":0},null,{"$f":"IF(AND(E9<>\"\",K9<>\"\"),17*Equipment!K14,0)","v":0},{"$f":"IF(AND(E9<>\"\",K9<>\"\"),0.015*Equipment!K14)","v":false}]
[4,null,{"$f":"IF(Equipment!V15=\"x\",Equipment!C15,\"\")","v":""},null,null,null,null,null,null,null,null,null,{"$f":"IF(AND(K10<>\"\"),MIN(35*Equipment!K15,0.7*E10),0)","v":0},null,{"$f":"IF(AND(E10<>\"\",K10<>\"\"),17*Equipment!K15,0)","v":0},{"$f":"IF(AND(E10<>\"\",K10<>\"\"),0.015*Equipment!K15)","v":false}]
[5,null,{"$f":"IF(Equipment!V16=\"x\",Equipment!C16,\"\")","v":""},null,null,null,null,null,null,null,null,null,{"$f":"IF(AND(K11<>\"\"),MIN(35*Equipment!K16,0.7*E11),0)","v":0},null,{"$f":"IF(AND(E11<>\"\",K11<>\"\"),17*Equipment!K16,0)","v":0},{"$f":"IF(AND(E11<>\"\",K11<>\"\"),0.015*Equipment!K16)","v":false}]
[6,null,{"$f":"IF(Equipment!V17=\"x\",Equipment!C17,\"\")","v":""},null,null,null,null,null,null,null,null,null,{"$f":"IF(AND(K12<>\"\"),MIN(35*Equipment!K17,0.7*E12),0)","v":0},null,{"$f":"IF(AND(E12<>\"\",K12<>\"\"),17*Equipment!K17,0)","v":0},{"$f":"IF(AND(E12<>\"\",K12<>\"\"),0.015*Equipment!K17)","v":false}]
[7,null,{"$f":"IF(Equipment!V18=\"x\",Equipment!C18,\"\")","v":""},null,null,null,null,null,null,null,null,null,{"$f":"IF(AND(K13<>\"\"),MIN(35*Equipment!K18,0.7*E13),0)","v":0},null,{"$f":"IF(AND(E13<>\"\",K13<>\"\"),17*Equipment!K18,0)","v":0},{"$f":"IF(AND(E13<>\"\",K13<>\"\"),0.015*Equipment!K18)","v":false}]
[8,null,{"$f":"IF(Equipment!V19=\"x\",Equipment!C19,\"\")","v":""},null,null,null,null,null,null,null,null,null,{"$f":"IF(AND(K14<>\"\"),MIN(35*Equipment!K19,0.7*E14),0)","v":0},null,{"$f":"IF(AND(E14<>\"\",K14<>\"\"),17*Equipment!K19,0)","v":0},{"$f":"IF(AND(E14<>\"\",K14<>\"\"),0.015*Equipment!K19)","v":false}]
[9,null,{"$f":"IF(Equipment!V20=\"x\",Equipment!C20,\"\")","v":""},null,null,null,null,null,null,null,null,null,{"$f":"IF(AND(K15<>\"\"),MIN(35*Equipment!K20,0.7*E15),0)","v":0},null,{"$f":"IF(AND(E15<>\"\",K15<>\"\"),17*Equipment!K20,0)","v":0},{"$f":"IF(AND(E15<>\"\",K15<>\"\"),0.015*Equipment!K20)","v":false}]
[10,null,{"$f":"IF(Equipment!V21=\"x\",Equipment!C21,\"\")","v":""},null,null,null,null,null,null,null,null,null,{"$f":"IF(AND(K16<>\"\"),MIN(35*Equipment!K21,0.7*E16),0)","v":0},null,{"$f":"IF(AND(E16<>\"\",K16<>\"\"),17*Equipment!K21,0)","v":0},{"$f":"IF(AND(E16<>\"\",K16<>\"\"),0.015*Equipment!K21)","v":false}]
[11,null,{"$f":"IF(Equipment!V22=\"x\",Equipment!C22,\"\")","v":""},null,null,null,null,null,null,null,null,null,{"$f":"IF(AND(K17<>\"\"),MIN(35*Equipment!K22,0.7*E17),0)","v":0},null,{"$f":"IF(AND(E17<>\"\",K17<>\"\"),17*Equipment!K22,0)","v":0},{"$f":"IF(AND(E17<>\"\",K17<>\"\"),0.015*Equipment!K22)","v":false}]
[12,null,{"$f":"IF(Equipment!V23=\"x\",Equipment!C23,\"\")","v":""},null,null,null,null,null,null,null,null,null,{"$f":"IF(AND(K18<>\"\"),MIN(35*Equipment!K23,0.7*E18),0)","v":0},null,{"$f":"IF(AND(E18<>\"\",K18<>\"\"),17*Equipment!K23,0)","v":0},{"$f":"IF(AND(E18<>\"\",K18<>\"\"),0.015*Equipment!K23)","v":false}]
[13,null,{"$f":"IF(Equipment!V24=\"x\",Equipment!C24,\"\")","v":""},null,null,null,null,null,null,null,null,null,{"$f":"IF(AND(K19<>\"\"),MIN(35*Equipment!K24,0.7*E19),0)","v":0},null,{"$f":"IF(AND(E19<>\"\",K19<>\"\"),17*Equipment!K24,0)","v":0},{"$f":"IF(AND(E19<>\"\",K19<>\"\"),0.015*Equipment!K24)","v":false}]
[14,null,{"$f":"IF(Equipment!V25=\"x\",Equipment!C25,\"\")","v":""},null,null,null,null,null,null,null,null,null,{"$f":"IF(AND(K20<>\"\"),MIN(35*Equipment!K25,0.7*E20),0)","v":0},null,{"$f":"IF(AND(E20<>\"\",K20<>\"\"),17*Equipment!K25,0)","v":0},{"$f":"IF(AND(E20<>\"\",K20<>\"\"),0.015*Equipment!K25)","v":false}]
[15,null,{"$f":"IF(Equipment!V26=\"x\",Equipment!C26,\"\")","v":""},null,null,null,null,null,null,null,null,null,{"$f":"IF(AND(K21<>\"\"),MIN(35*Equipment!K26,0.7*E21),0)","v":0},null,{"$f":"IF(AND(E21<>\"\",K21<>\"\"),17*Equipment!K26,0)","v":0},{"$f":"IF(AND(E21<>\"\",K21<>\"\"),0.015*Equipment!K26)","v":false}]
[16,null,{"$f":"IF(Equipment!V27=\"x\",Equipment!C27,\"\")","v":""},null,null,null,null,null,null,null,null,null,{"$f":"IF(AND(K22<>\"\"),MIN(35*Equipment!K27,0.7*E22),0)","v":0},null,{"$f":"IF(AND(E22<>\"\",K22<>\"\"),17*Equipment!K27,0)","v":0},{"$f":"IF(AND(E22<>\"\",K22<>\"\"),0.015*Equipment!K27)","v":false}]
[17,null,{"$f":"IF(Equipment!V28=\"x\",Equipment!C28,\"\")","v":""},null,null,null,null,null,null,null,null,null,{"$f":"IF(AND(K23<>\"\"),MIN(35*Equipment!K28,0.7*E23),0)","v":0},null,{"$f":"IF(AND(E23<>\"\",K23<>\"\"),17*Equipment!K28,0)","v":0},{"$f":"IF(AND(E23<>\"\",K23<>\"\"),0.015*Equipment!K28)","v":false}]
[18,null,{"$f":"IF(Equipment!V29=\"x\",Equipment!C29,\"\")","v":""},null,null,null,null,null,null,null,null,null,{"$f":"IF(AND(K24<>\"\"),MIN(35*Equipment!K29,0.7*E24),0)","v":0},null,{"$f":"IF(AND(E24<>\"\",K24<>\"\"),17*Equipment!K29,0)","v":0},{"$f":"IF(AND(E24<>\"\",K24<>\"\"),0.015*Equipment!K29)","v":false}]
[19,null,{"$f":"IF(Equipment!V30=\"x\",Equipment!C30,\"\")","v":""},null,null,null,null,null,null,null,null,null,{"$f":"IF(AND(K25<>\"\"),MIN(35*Equipment!K30,0.7*E25),0)","v":0},null,{"$f":"IF(AND(E25<>\"\",K25<>\"\"),17*Equipment!K30,0)","v":0},{"$f":"IF(AND(E25<>\"\",K25<>\"\"),0.015*Equipment!K30)","v":false}]
[20,null,{"$f":"IF(Equipment!V31=\"x\",Equipment!C31,\"\")","v":""},null,null,null,null,null,null,null,null,null,{"$f":"IF(AND(K26<>\"\"),MIN(35*Equipment!K31,0.7*E26),0)","v":0},null,{"$f":"IF(AND(E26<>\"\",K26<>\"\"),17*Equipment!K31,0)","v":0},{"$f":"IF(AND(E26<>\"\",K26<>\"\"),0.015*Equipment!K31)","v":false}]
[21,null,{"$f":"IF(Equipment!V32=\"x\",Equipment!C32,\"\")","v":""},null,null,null,null,null,null,null,null,null,{"$f":"IF(AND(K27<>\"\"),MIN(35*Equipment!K32,0.7*E27),0)","v":0},null,{"$f":"IF(AND(E27<>\"\",K27<>\"\"),17*Equipment!K32,0)","v":0},{"$f":"IF(AND(E27<>\"\",K27<>\"\"),0.015*Equipment!K32)","v":false}]
[22,null,{"$f":"IF(Equipment!V33=\"x\",Equipment!C33,\"\")","v":""},null,null,null,null,null,null,null,null,null,{"$f":"IF(AND(K28<>\"\"),MIN(35*Equipment!K33,0.7*E28),0)","v":0},null,{"$f":"IF(AND(E28<>\"\",K28<>\"\"),17*Equipment!K33,0)","v":0},{"$f":"IF(AND(E28<>\"\",K28<>\"\"),0.015*Equipment!K33)","v":false}]
[23,null,{"$f":"IF(Equipment!V34=\"x\",Equipment!C34,\"\")","v":""},null,null,null,null,null,null,null,null,null,{"$f":"IF(AND(K29<>\"\"),MIN(35*Equipment!K34,0.7*E29),0)","v":0},null,{"$f":"IF(AND(E29<>\"\",K29<>\"\"),17*Equipment!K34,0)","v":0},{"$f":"IF(AND(E29<>\"\",K29<>\"\"),0.015*Equipment!K34)","v":false}]
[24,null,{"$f":"IF(Equipment!V35=\"x\",Equipment!C35,\"\")","v":""},null,null,null,null,null,null,null,null,null,{"$f":"IF(AND(K30<>\"\"),MIN(35*Equipment!K35,0.7*E30),0)","v":0},null,{"$f":"IF(AND(E30<>\"\",K30<>\"\"),17*Equipment!K35,0)","v":0},{"$f":"IF(AND(E30<>\"\",K30<>\"\"),0.015*Equipment!K35)","v":false}]
[25,null,{"$f":"IF(Equipment!V36=\"x\",Equipment!C36,\"\")","v":""},null,null,null,null,null,null,null,null,null,{"$f":"IF(AND(K31<>\"\"),MIN(35*Equipment!K36,0.7*E31),0)","v":0},null,{"$f":"IF(AND(E31<>\"\",K31<>\"\"),17*Equipment!K36,0)","v":0},{"$f":"IF(AND(E31<>\"\",K31<>\"\"),0.015*Equipment!K36)","v":false}]
[26,null,{"$f":"IF(Equipment!V37=\"x\",Equipment!C37,\"\")","v":""},null,null,null,null,null,null,null,null,null,{"$f":"IF(AND(K32<>\"\"),MIN(35*Equipment!K37,0.7*E32),0)","v":0},null,{"$f":"IF(AND(E32<>\"\",K32<>\"\"),17*Equipment!K37,0)","v":0},{"$f":"IF(AND(E32<>\"\",K32<>\"\"),0.015*Equipment!K37)","v":false}]
[27,null,{"$f":"IF(Equipment!V38=\"x\",Equipment!C38,\"\")","v":""},null,null,null,null,null,null,null,null,null,{"$f":"IF(AND(K33<>\"\"),MIN(35*Equipment!K38,0.7*E33),0)","v":0},null,{"$f":"IF(AND(E33<>\"\",K33<>\"\"),17*Equipment!K38,0)","v":0},{"$f":"IF(AND(E33<>\"\",K33<>\"\"),0.015*Equipment!K38)","v":false}]
[28,null,{"$f":"IF(Equipment!V39=\"x\",Equipment!C39,\"\")","v":""},null,null,null,null,null,null,null,null,null,{"$f":"IF(AND(K34<>\"\"),MIN(35*Equipment!K39,0.7*E34),0)","v":0},null,{"$f":"IF(AND(E34<>\"\",K34<>\"\"),17*Equipment!K39,0)","v":0},{"$f":"IF(AND(E34<>\"\",K34<>\"\"),0.015*Equipment!K39)","v":false}]
[29,null,{"$f":"IF(Equipment!V40=\"x\",Equipment!C40,\"\")","v":""},null,null,null,null,null,null,null,null,null,{"$f":"IF(AND(K35<>\"\"),MIN(35*Equipment!K40,0.7*E35),0)","v":0},null,{"$f":"IF(AND(E35<>\"\",K35<>\"\"),17*Equipment!K40,0)","v":0},{"$f":"IF(AND(E35<>\"\",K35<>\"\"),0.015*Equipment!K40)","v":false}]
[30,null,{"$f":"IF(Equipment!V41=\"x\",Equipment!C41,\"\")","v":""},null,null,null,null,null,null,null,null,null,{"$f":"IF(AND(K36<>\"\"),MIN(35*Equipment!K41,0.7*E36),0)","v":0},null,{"$f":"IF(AND(E36<>\"\",K36<>\"\"),17*Equipment!K41,0)","v":0},{"$f":"IF(AND(E36<>\"\",K36<>\"\"),0.015*Equipment!K41)","v":false}]
[31,null,{"$f":"IF(Equipment!V42=\"x\",Equipment!C42,\"\")","v":""},null,null,null,null,null,null,null,null,null,{"$f":"IF(AND(K37<>\"\"),MIN(35*Equipment!K42,0.7*E37),0)","v":0},null,{"$f":"IF(AND(E37<>\"\",K37<>\"\"),17*Equipment!K42,0)","v":0},{"$f":"IF(AND(E37<>\"\",K37<>\"\"),0.015*Equipment!K42)","v":false}]
[32,null,{"$f":"IF(Equipment!V43=\"x\",Equipment!C43,\"\")","v":""},null,null,null,null,null,null,null,null,null,{"$f":"IF(AND(K38<>\"\"),MIN(35*Equipment!K43,0.7*E38),0)","v":0},null,{"$f":"IF(AND(E38<>\"\",K38<>\"\"),17*Equipment!K43,0)","v":0},{"$f":"IF(AND(E38<>\"\",K38<>\"\"),0.015*Equipment!K43)","v":false}]
[33,null,{"$f":"IF(Equipment!V44=\"x\",Equipment!C44,\"\")","v":""},null,null,null,null,null,null,null,null,null,{"$f":"IF(AND(K39<>\"\"),MIN(35*Equipment!K44,0.7*E39),0)","v":0},null,{"$f":"IF(AND(E39<>\"\",K39<>\"\"),17*Equipment!K44,0)","v":0},{"$f":"IF(AND(E39<>\"\",K39<>\"\"),0.015*Equipment!K44)","v":false}]
[34,null,{"$f":"IF(Equipment!V45=\"x\",Equipment!C45,\"\")","v":""},null,null,null,null,null,null,null,null,null,{"$f":"IF(AND(K40<>\"\"),MIN(35*Equipment!K45,0.7*E40),0)","v":0},null,{"$f":"IF(AND(E40<>\"\",K40<>\"\"),17*Equipment!K45,0)","v":0},{"$f":"IF(AND(E40<>\"\",K40<>\"\"),0.015*Equipment!K45)","v":false}]
[35,null,{"$f":"IF(Equipment!V46=\"x\",Equipment!C46,\"\")","v":""},null,null,null,null,null,null,null,null,null,{"$f":"IF(AND(K41<>\"\"),MIN(35*Equipment!K46,0.7*E41),0)","v":0},null,{"$f":"IF(AND(E41<>\"\",K41<>\"\"),17*Equipment!K46,0)","v":0},{"$f":"IF(AND(E41<>\"\",K41<>\"\"),0.015*Equipment!K46)","v":false}]
[36,null,{"$f":"IF(Equipment!V47=\"x\",Equipment!C47,\"\")","v":""},null,null,null,null,null,null,null,null,null,{"$f":"IF(AND(K42<>\"\"),MIN(35*Equipment!K47,0.7*E42),0)","v":0},null,{"$f":"IF(AND(E42<>\"\",K42<>\"\"),17*Equipment!K47,0)","v":0},{"$f":"IF(AND(E42<>\"\",K42<>\"\"),0.015*Equipment!K47)","v":false}]
[37,null,{"$f":"IF(Equipment!V48=\"x\",Equipment!C48,\"\")","v":""},null,null,null,null,null,null,null,null,null,{"$f":"IF(AND(K43<>\"\"),MIN(35*Equipment!K48,0.7*E43),0)","v":0},null,{"$f":"IF(AND(E43<>\"\",K43<>\"\"),17*Equipment!K48,0)","v":0},{"$f":"IF(AND(E43<>\"\",K43<>\"\"),0.015*Equipment!K48)","v":false}]
[38,null,{"$f":"IF(Equipment!V49=\"x\",Equipment!C49,\"\")","v":""},null,null,null,null,null,null,null,null,null,{"$f":"IF(AND(K44<>\"\"),MIN(35*Equipment!K49,0.7*E44),0)","v":0},null,{"$f":"IF(AND(E44<>\"\",K44<>\"\"),17*Equipment!K49,0)","v":0},{"$f":"IF(AND(E44<>\"\",K44<>\"\"),0.015*Equipment!K49)","v":false}]
[39,null,{"$f":"IF(Equipment!V50=\"x\",Equipment!C50,\"\")","v":""},null,null,null,null,null,null,null,null,null,{"$f":"IF(AND(K45<>\"\"),MIN(35*Equipment!K50,0.7*E45),0)","v":0},null,{"$f":"IF(AND(E45<>\"\",K45<>\"\"),17*Equipment!K50,0)","v":0},{"$f":"IF(AND(E45<>\"\",K45<>\"\"),0.015*Equipment!K50)","v":false}]
[40,null,{"$f":"IF(Equipment!V51=\"x\",Equipment!C51,\"\")","v":""},null,null,null,null,null,null,null,null,null,{"$f":"IF(AND(K46<>\"\"),MIN(35*Equipment!K51,0.7*E46),0)","v":0},null,{"$f":"IF(AND(E46<>\"\",K46<>\"\"),17*Equipment!K51,0)","v":0},{"$f":"IF(AND(E46<>\"\",K46<>\"\"),0.015*Equipment!K51)","v":false}]
[41,null,{"$f":"IF(Equipment!V52=\"x\",Equipment!C52,\"\")","v":""},null,null,null,null,null,null,null,null,null,{"$f":"IF(AND(K47<>\"\"),MIN(35*Equipment!K52,0.7*E47),0)","v":0},null,{"$f":"IF(AND(E47<>\"\",K47<>\"\"),17*Equipment!K52,0)","v":0},{"$f":"IF(AND(E47<>\"\",K47<>\"\"),0.015*Equipment!K52)","v":false}]
[42,null,{"$f":"IF(Equipment!V53=\"x\",Equipment!C53,\"\")","v":""},null,null,null,null,null,null,null,null,null,{"$f":"IF(AND(K48<>\"\"),MIN(35*Equipment!K53,0.7*E48),0)","v":0},null,{"$f":"IF(AND(E48<>\"\",K48<>\"\"),17*Equipment!K53,0)","v":0},{"$f":"IF(AND(E48<>\"\",K48<>\"\"),0.015*Equipment!K53)","v":false}]
[43,null,{"$f":"IF(Equipment!V54=\"x\",Equipment!C54,\"\")","v":""},null,null,null,null,null,null,null,null,null,{"$f":"IF(AND(K49<>\"\"),MIN(35*Equipment!K54,0.7*E49),0)","v":0},null,{"$f":"IF(AND(E49<>\"\",K49<>\"\"),17*Equipment!K54,0)","v":0},{"$f":"IF(AND(E49<>\"\",K49<>\"\"),0.015*Equipment!K54)","v":false}]
[44,null,{"$f":"IF(Equipment!V55=\"x\",Equipment!C55,\"\")","v":""},null,null,null,null,null,null,null,null,null,{"$f":"IF(AND(K50<>\"\"),MIN(35*Equipment!K55,0.7*E50),0)","v":0},null,{"$f":"IF(AND(E50<>\"\",K50<>\"\"),17*Equipment!K55,0)","v":0},{"$f":"IF(AND(E50<>\"\",K50<>\"\"),0.015*Equipment!K55)","v":false}]
[45,null,{"$f":"IF(Equipment!V56=\"x\",Equipment!C56,\"\")","v":""},null,null,null,null,null,null,null,null,null,{"$f":"IF(AND(K51<>\"\"),MIN(35*Equipment!K56,0.7*E51),0)","v":0},null,{"$f":"IF(AND(E51<>\"\",K51<>\"\"),17*Equipment!K56,0)","v":0},{"$f":"IF(AND(E51<>\"\",K51<>\"\"),0.015*Equipment!K56)","v":false}]
[46,null,{"$f":"IF(Equipment!V57=\"x\",Equipment!C57,\"\")","v":""},null,null,null,null,null,null,null,null,null,{"$f":"IF(AND(K52<>\"\"),MIN(35*Equipment!K57,0.7*E52),0)","v":0},null,{"$f":"IF(AND(E52<>\"\",K52<>\"\"),17*Equipment!K57,0)","v":0},{"$f":"IF(AND(E52<>\"\",K52<>\"\"),0.015*Equipment!K57)","v":false}]
[47,null,{"$f":"IF(Equipment!V58=\"x\",Equipment!C58,\"\")","v":""},null,null,null,null,null,null,null,null,null,{"$f":"IF(AND(K53<>\"\"),MIN(35*Equipment!K58,0.7*E53),0)","v":0},null,{"$f":"IF(AND(E53<>\"\",K53<>\"\"),17*Equipment!K58,0)","v":0},{"$f":"IF(AND(E53<>\"\",K53<>\"\"),0.015*Equipment!K58)","v":false}]
[48,null,{"$f":"IF(Equipment!V59=\"x\",Equipment!C59,\"\")","v":""},null,null,null,null,null,null,null,null,null,{"$f":"IF(AND(K54<>\"\"),MIN(35*Equipment!K59,0.7*E54),0)","v":0},null,{"$f":"IF(AND(E54<>\"\",K54<>\"\"),17*Equipment!K59,0)","v":0},{"$f":"IF(AND(E54<>\"\",K54<>\"\"),0.015*Equipment!K59)","v":false}]
[49,null,{"$f":"IF(Equipment!V60=\"x\",Equipment!C60,\"\")","v":""},null,null,null,null,null,null,null,null,null,{"$f":"IF(AND(K55<>\"\"),MIN(35*Equipment!K60,0.7*E55),0)","v":0},null,{"$f":"IF(AND(E55<>\"\",K55<>\"\"),17*Equipment!K60,0)","v":0},{"$f":"IF(AND(E55<>\"\",K55<>\"\"),0.015*Equipment!K60)","v":false}]
[50,null,{"$f":"IF(Equipment!V61=\"x\",Equipment!C61,\"\")","v":""},null,null,null,null,null,null,null,null,null,{"$f":"IF(AND(K56<>\"\"),MIN(35*Equipment!K61,0.7*E56),0)","v":0},null,{"$f":"IF(AND(E56<>\"\",K56<>\"\"),17*Equipment!K61,0)","v":0},{"$f":"IF(AND(E56<>\"\",K56<>\"\"),0.015*Equipment!K61)","v":false}]
[51,null,{"$f":"IF(Equipment!V62=\"x\",Equipment!C62,\"\")","v":""},null,null,null,null,null,null,null,null,null,{"$f":"IF(AND(K57<>\"\"),MIN(35*Equipment!K62,0.7*E57),0)","v":0},null,{"$f":"IF(AND(E57<>\"\",K57<>\"\"),17*Equipment!K62,0)","v":0},{"$f":"IF(AND(E57<>\"\",K57<>\"\"),0.015*Equipment!K62)","v":false}]
[52,null,{"$f":"IF(Equipment!V63=\"x\",Equipment!C63,\"\")","v":""},null,null,null,null,null,null,null,null,null,{"$f":"IF(AND(K58<>\"\"),MIN(35*Equipment!K63,0.7*E58),0)","v":0},null,{"$f":"IF(AND(E58<>\"\",K58<>\"\"),17*Equipment!K63,0)","v":0},{"$f":"IF(AND(E58<>\"\",K58<>\"\"),0.015*Equipment!K63)","v":false}]
[53,null,{"$f":"IF(Equipment!V64=\"x\",Equipment!C64,\"\")","v":""},null,null,null,null,null,null,null,null,null,{"$f":"IF(AND(K59<>\"\"),MIN(35*Equipment!K64,0.7*E59),0)","v":0},null,{"$f":"IF(AND(E59<>\"\",K59<>\"\"),17*Equipment!K64,0)","v":0},{"$f":"IF(AND(E59<>\"\",K59<>\"\"),0.015*Equipment!K64)","v":false}]
[54,null,{"$f":"IF(Equipment!V65=\"x\",Equipment!C65,\"\")","v":""},null,null,null,null,null,null,null,null,null,{"$f":"IF(AND(K60<>\"\"),MIN(35*Equipment!K65,0.7*E60),0)","v":0},null,{"$f":"IF(AND(E60<>\"\",K60<>\"\"),17*Equipment!K65,0)","v":0},{"$f":"IF(AND(E60<>\"\",K60<>\"\"),0.015*Equipment!K65)","v":false}]
[55,null,{"$f":"IF(Equipment!V66=\"x\",Equipment!C66,\"\")","v":""},null,null,null,null,null,null,null,null,null,{"$f":"IF(AND(K61<>\"\"),MIN(35*Equipment!K66,0.7*E61),0)","v":0},null,{"$f":"IF(AND(E61<>\"\",K61<>\"\"),17*Equipment!K66,0)","v":0},{"$f":"IF(AND(E61<>\"\",K61<>\"\"),0.015*Equipment!K66)","v":false}]
[56,null,{"$f":"IF(Equipment!V67=\"x\",Equipment!C67,\"\")","v":""},null,null,null,null,null,null,null,null,null,{"$f":"IF(AND(K62<>\"\"),MIN(35*Equipment!K67,0.7*E62),0)","v":0},null,{"$f":"IF(AND(E62<>\"\",K62<>\"\"),17*Equipment!K67,0)","v":0},{"$f":"IF(AND(E62<>\"\",K62<>\"\"),0.015*Equipment!K67)","v":false}]
[57,null,{"$f":"IF(Equipment!V68=\"x\",Equipment!C68,\"\")","v":""},null,null,null,null,null,null,null,null,null,{"$f":"IF(AND(K63<>\"\"),MIN(35*Equipment!K68,0.7*E63),0)","v":0},null,{"$f":"IF(AND(E63<>\"\",K63<>\"\"),17*Equipment!K68,0)","v":0},{"$f":"IF(AND(E63<>\"\",K63<>\"\"),0.015*Equipment!K68)","v":false}]
[58,null,{"$f":"IF(Equipment!V69=\"x\",Equipment!C69,\"\")","v":""},null,null,null,null,null,null,null,null,null,{"$f":"IF(AND(K64<>\"\"),MIN(35*Equipment!K69,0.7*E64),0)","v":0},null,{"$f":"IF(AND(E64<>\"\",K64<>\"\"),17*Equipment!K69,0)","v":0},{"$f":"IF(AND(E64<>\"\",K64<>\"\"),0.015*Equipment!K69)","v":false}]
[59,null,{"$f":"IF(Equipment!V70=\"x\",Equipment!C70,\"\")","v":""},null,null,null,null,null,null,null,null,null,{"$f":"IF(AND(K65<>\"\"),MIN(35*Equipment!K70,0.7*E65),0)","v":0},null,{"$f":"IF(AND(E65<>\"\",K65<>\"\"),17*Equipment!K70,0)","v":0},{"$f":"IF(AND(E65<>\"\",K65<>\"\"),0.015*Equipment!K70)","v":false}]
[60,null,{"$f":"IF(Equipment!V71=\"x\",Equipment!C71,\"\")","v":""},null,null,null,null,null,null,null,null,null,{"$f":"IF(AND(K66<>\"\"),MIN(35*Equipment!K71,0.7*E66),0)","v":0},null,{"$f":"IF(AND(E66<>\"\",K66<>\"\"),17*Equipment!K71,0)","v":0},{"$f":"IF(AND(E66<>\"\",K66<>\"\"),0.015*Equipment!K71)","v":false}]
[61,null,{"$f":"IF(Equipment!V72=\"x\",Equipment!C72,\"\")","v":""},null,null,null,null,null,null,null,null,null,{"$f":"IF(AND(K67<>\"\"),MIN(35*Equipment!K72,0.7*E67),0)","v":0},null,{"$f":"IF(AND(E67<>\"\",K67<>\"\"),17*Equipment!K72,0)","v":0},{"$f":"IF(AND(E67<>\"\",K67<>\"\"),0.015*Equipment!K72)","v":false}]
[62,null,{"$f":"IF(Equipment!V73=\"x\",Equipment!C73,\"\")","v":""},null,null,null,null,null,null,null,null,null,{"$f":"IF(AND(K68<>\"\"),MIN(35*Equipment!K73,0.7*E68),0)","v":0},null,{"$f":"IF(AND(E68<>\"\",K68<>\"\"),17*Equipment!K73,0)","v":0},{"$f":"IF(AND(E68<>\"\",K68<>\"\"),0.015*Equipment!K73)","v":false}]
[63,null,{"$f":"IF(Equipment!V74=\"x\",Equipment!C74,\"\")","v":""},null,null,null,null,null,null,null,null,null,{"$f":"IF(AND(K69<>\"\"),MIN(35*Equipment!K74,0.7*E69),0)","v":0},null,{"$f":"IF(AND(E69<>\"\",K69<>\"\"),17*Equipment!K74,0)","v":0},{"$f":"IF(AND(E69<>\"\",K69<>\"\"),0.015*Equipment!K74)","v":false}]
[64,null,{"$f":"IF(Equipment!V75=\"x\",Equipment!C75,\"\")","v":""},null,null,null,null,null,null,null,null,null,{"$f":"IF(AND(K70<>\"\"),MIN(35*Equipment!K75,0.7*E70),0)","v":0},null,{"$f":"IF(AND(E70<>\"\",K70<>\"\"),17*Equipment!K75,0)","v":0},{"$f":"IF(AND(E70<>\"\",K70<>\"\"),0.015*Equipment!K75)","v":false}]
[65,null,{"$f":"IF(Equipment!V76=\"x\",Equipment!C76,\"\")","v":""},null,null,null,null,null,null,null,null,null,{"$f":"IF(AND(K71<>\"\"),MIN(35*Equipment!K76,0.7*E71),0)","v":0},null,{"$f":"IF(AND(E71<>\"\",K71<>\"\"),17*Equipment!K76,0)","v":0},{"$f":"IF(AND(E71<>\"\",K71<>\"\"),0.015*Equipment!K76)","v":false}]
[66,null,{"$f":"IF(Equipment!V77=\"x\",Equipment!C77,\"\")","v":""},null,null,null,null,null,null,null,null,null,{"$f":"IF(AND(K72<>\"\"),MIN(35*Equipment!K77,0.7*E72),0)","v":0},null,{"$f":"IF(AND(E72<>\"\",K72<>\"\"),17*Equipment!K77,0)","v":0},{"$f":"IF(AND(E72<>\"\",K72<>\"\"),0.015*Equipment!K77)","v":false}]
[67,null,{"$f":"IF(Equipment!V78=\"x\",Equipment!C78,\"\")","v":""},null,null,null,null,null,null,null,null,null,{"$f":"IF(AND(K73<>\"\"),MIN(35*Equipment!K78,0.7*E73),0)","v":0},null,{"$f":"IF(AND(E73<>\"\",K73<>\"\"),17*Equipment!K78,0)","v":0},{"$f":"IF(AND(E73<>\"\",K73<>\"\"),0.015*Equipment!K78)","v":false}]
[68,null,{"$f":"IF(Equipment!V79=\"x\",Equipment!C79,\"\")","v":""},null,null,null,null,null,null,null,null,null,{"$f":"IF(AND(K74<>\"\"),MIN(35*Equipment!K79,0.7*E74),0)","v":0},null,{"$f":"IF(AND(E74<>\"\",K74<>\"\"),17*Equipment!K79,0)","v":0},{"$f":"IF(AND(E74<>\"\",K74<>\"\"),0.015*Equipment!K79)","v":false}]
[69,null,{"$f":"IF(Equipment!V80=\"x\",Equipment!C80,\"\")","v":""},null,null,null,null,null,null,null,null,null,{"$f":"IF(AND(K75<>\"\"),MIN(35*Equipment!K80,0.7*E75),0)","v":0},null,{"$f":"IF(AND(E75<>\"\",K75<>\"\"),17*Equipment!K80,0)","v":0},{"$f":"IF(AND(E75<>\"\",K75<>\"\"),0.015*Equipment!K80)","v":false}]
[70,null,{"$f":"IF(Equipment!V81=\"x\",Equipment!C81,\"\")","v":""},null,null,null,null,null,null,null,null,null,{"$f":"IF(AND(K76<>\"\"),MIN(35*Equipment!K81,0.7*E76),0)","v":0},null,{"$f":"IF(AND(E76<>\"\",K76<>\"\"),17*Equipment!K81,0)","v":0},{"$f":"IF(AND(E76<>\"\",K76<>\"\"),0.015*Equipment!K81)","v":false}]
[71,null,{"$f":"IF(Equipment!V82=\"x\",Equipment!C82,\"\")","v":""},null,null,null,null,null,null,null,null,null,{"$f":"IF(AND(K77<>\"\"),MIN(35*Equipment!K82,0.7*E77),0)","v":0},null,{"$f":"IF(AND(E77<>\"\",K77<>\"\"),17*Equipment!K82,0)","v":0},{"$f":"IF(AND(E77<>\"\",K77<>\"\"),0.015*Equipment!K82)","v":false}]
[72,null,{"$f":"IF(Equipment!V83=\"x\",Equipment!C83,\"\")","v":""},null,null,null,null,null,null,null,null,null,{"$f":"IF(AND(K78<>\"\"),MIN(35*Equipment!K83,0.7*E78),0)","v":0},null,{"$f":"IF(AND(E78<>\"\",K78<>\"\"),17*Equipment!K83,0)","v":0},{"$f":"IF(AND(E78<>\"\",K78<>\"\"),0.015*Equipment!K83)","v":false}]
[73,null,{"$f":"IF(Equipment!V84=\"x\",Equipment!C84,\"\")","v":""},null,null,null,null,null,null,null,null,null,{"$f":"IF(AND(K79<>\"\"),MIN(35*Equipment!K84,0.7*E79),0)","v":0},null,{"$f":"IF(AND(E79<>\"\",K79<>\"\"),17*Equipment!K84,0)","v":0},{"$f":"IF(AND(E79<>\"\",K79<>\"\"),0.015*Equipment!K84)","v":false}]
[74,null,{"$f":"IF(Equipment!V85=\"x\",Equipment!C85,\"\")","v":""},null,null,null,null,null,null,null,null,null,{"$f":"IF(AND(K80<>\"\"),MIN(35*Equipment!K85,0.7*E80),0)","v":0},null,{"$f":"IF(AND(E80<>\"\",K80<>\"\"),17*Equipment!K85,0)","v":0},{"$f":"IF(AND(E80<>\"\",K80<>\"\"),0.015*Equipment!K85)","v":false}]
[75,null,{"$f":"IF(Equipment!V86=\"x\",Equipment!C86,\"\")","v":""},null,null,null,null,null,null,null,null,null,{"$f":"IF(AND(K81<>\"\"),MIN(35*Equipment!K86,0.7*E81),0)","v":0},null,{"$f":"IF(AND(E81<>\"\",K81<>\"\"),17*Equipment!K86,0)","v":0},{"$f":"IF(AND(E81<>\"\",K81<>\"\"),0.015*Equipment!K86)","v":false}]
[76,null,{"$f":"IF(Equipment!V87=\"x\",Equipment!C87,\"\")","v":""},null,null,null,null,null,null,null,null,null,{"$f":"IF(AND(K82<>\"\"),MIN(35*Equipment!K87,0.7*E82),0)","v":0},null,{"$f":"IF(AND(E82<>\"\",K82<>\"\"),17*Equipment!K87,0)","v":0},{"$f":"IF(AND(E82<>\"\",K82<>\"\"),0.015*Equipment!K87)","v":false}]
[77,null,{"$f":"IF(Equipment!V88=\"x\",Equipment!C88,\"\")","v":""},null,null,null,null,null,null,null,null,null,{"$f":"IF(AND(K83<>\"\"),MIN(35*Equipment!K88,0.7*E83),0)","v":0},null,{"$f":"IF(AND(E83<>\"\",K83<>\"\"),17*Equipment!K88,0)","v":0},{"$f":"IF(AND(E83<>\"\",K83<>\"\"),0.015*Equipment!K88)","v":false}]
[78,null,{"$f":"IF(Equipment!V89=\"x\",Equipment!C89,\"\")","v":""},null,null,null,null,null,null,null,null,null,{"$f":"IF(AND(K84<>\"\"),MIN(35*Equipment!K89,0.7*E84),0)","v":0},null,{"$f":"IF(AND(E84<>\"\",K84<>\"\"),17*Equipment!K89,0)","v":0},{"$f":"IF(AND(E84<>\"\",K84<>\"\"),0.015*Equipment!K89)","v":false}]
[79,null,{"$f":"IF(Equipment!V90=\"x\",Equipment!C90,\"\")","v":""},null,null,null,null,null,null,null,null,null,{"$f":"IF(AND(K85<>\"\"),MIN(35*Equipment!K90,0.7*E85),0)","v":0},null,{"$f":"IF(AND(E85<>\"\",K85<>\"\"),17*Equipment!K90,0)","v":0},{"$f":"IF(AND(E85<>\"\",K85<>\"\"),0.015*Equipment!K90)","v":false}]
[80,null,{"$f":"IF(Equipment!V91=\"x\",Equipment!C91,\"\")","v":""},null,null,null,null,null,null,null,null,null,{"$f":"IF(AND(K86<>\"\"),MIN(35*Equipment!K91,0.7*E86),0)","v":0},null,{"$f":"IF(AND(E86<>\"\",K86<>\"\"),17*Equipment!K91,0)","v":0},{"$f":"IF(AND(E86<>\"\",K86<>\"\"),0.015*Equipment!K91)","v":false}]
[81,null,{"$f":"IF(Equipment!V92=\"x\",Equipment!C92,\"\")","v":""},null,null,null,null,null,null,null,null,null,{"$f":"IF(AND(K87<>\"\"),MIN(35*Equipment!K92,0.7*E87),0)","v":0},null,{"$f":"IF(AND(E87<>\"\",K87<>\"\"),17*Equipment!K92,0)","v":0},{"$f":"IF(AND(E87<>\"\",K87<>\"\"),0.015*Equipment!K92)","v":false}]
[82,null,{"$f":"IF(Equipment!V93=\"x\",Equipment!C93,\"\")","v":""},null,null,null,null,null,null,null,null,null,{"$f":"IF(AND(K88<>\"\"),MIN(35*Equipment!K93,0.7*E88),0)","v":0},null,{"$f":"IF(AND(E88<>\"\",K88<>\"\"),17*Equipment!K93,0)","v":0},{"$f":"IF(AND(E88<>\"\",K88<>\"\"),0.015*Equipment!K93)","v":false}]
[83,null,{"$f":"IF(Equipment!V94=\"x\",Equipment!C94,\"\")","v":""},null,null,null,null,null,null,null,null,null,{"$f":"IF(AND(K89<>\"\"),MIN(35*Equipment!K94,0.7*E89),0)","v":0},null,{"$f":"IF(AND(E89<>\"\",K89<>\"\"),17*Equipment!K94,0)","v":0},{"$f":"IF(AND(E89<>\"\",K89<>\"\"),0.015*Equipment!K94)","v":false}]
[84,null,{"$f":"IF(Equipment!V95=\"x\",Equipment!C95,\"\")","v":""},null,null,null,null,null,null,null,null,null,{"$f":"IF(AND(K90<>\"\"),MIN(35*Equipment!K95,0.7*E90),0)","v":0},null,{"$f":"IF(AND(E90<>\"\",K90<>\"\"),17*Equipment!K95,0)","v":0},{"$f":"IF(AND(E90<>\"\",K90<>\"\"),0.015*Equipment!K95)","v":false}]
[85,null,{"$f":"IF(Equipment!V96=\"x\",Equipment!C96,\"\")","v":""},null,null,null,null,null,null,null,null,null,{"$f":"IF(AND(K91<>\"\"),MIN(35*Equipment!K96,0.7*E91),0)","v":0},null,{"$f":"IF(AND(E91<>\"\",K91<>\"\"),17*Equipment!K96,0)","v":0},{"$f":"IF(AND(E91<>\"\",K91<>\"\"),0.015*Equipment!K96)","v":false}]
[86,null,{"$f":"IF(Equipment!V97=\"x\",Equipment!C97,\"\")","v":""},null,null,null,null,null,null,null,null,null,{"$f":"IF(AND(K92<>\"\"),MIN(35*Equipment!K97,0.7*E92),0)","v":0},null,{"$f":"IF(AND(E92<>\"\",K92<>\"\"),17*Equipment!K97,0)","v":0},{"$f":"IF(AND(E92<>\"\",K92<>\"\"),0.015*Equipment!K97)","v":false}]
[87,null,{"$f":"IF(Equipment!V98=\"x\",Equipment!C98,\"\")","v":""},null,null,null,null,null,null,null,null,null,{"$f":"IF(AND(K93<>\"\"),MIN(35*Equipment!K98,0.7*E93),0)","v":0},null,{"$f":"IF(AND(E93<>\"\",K93<>\"\"),17*Equipment!K98,0)","v":0},{"$f":"IF(AND(E93<>\"\",K93<>\"\"),0.015*Equipment!K98)","v":false}]
[88,null,{"$f":"IF(Equipment!V99=\"x\",Equipment!C99,\"\")","v":""},null,null,null,null,null,null,null,null,null,{"$f":"IF(AND(K94<>\"\"),MIN(35*Equipment!K99,0.7*E94),0)","v":0},null,{"$f":"IF(AND(E94<>\"\",K94<>\"\"),17*Equipment!K99,0)","v":0},{"$f":"IF(AND(E94<>\"\",K94<>\"\"),0.015*Equipment!K99)","v":false}]
[89,null,{"$f":"IF(Equipment!V100=\"x\",Equipment!C100,\"\")","v":""},null,null,null,null,null,null,null,null,null,{"$f":"IF(AND(K95<>\"\"),MIN(35*Equipment!K100,0.7*E95),0)","v":0},null,{"$f":"IF(AND(E95<>\"\",K95<>\"\"),17*Equipment!K100,0)","v":0},{"$f":"IF(AND(E95<>\"\",K95<>\"\"),0.015*Equipment!K100)","v":false}]
[90,null,{"$f":"IF(Equipment!V101=\"x\",Equipment!C101,\"\")","v":""},null,null,null,null,null,null,null,null,null,{"$f":"IF(AND(K96<>\"\"),MIN(35*Equipment!K101,0.7*E96),0)","v":0},null,{"$f":"IF(AND(E96<>\"\",K96<>\"\"),17*Equipment!K101,0)","v":0},{"$f":"IF(AND(E96<>\"\",K96<>\"\"),0.015*Equipment!K101)","v":false}]
[91,null,{"$f":"IF(Equipment!V102=\"x\",Equipment!C102,\"\")","v":""},null,null,null,null,null,null,null,null,null,{"$f":"IF(AND(K97<>\"\"),MIN(35*Equipment!K102,0.7*E97),0)","v":0},null,{"$f":"IF(AND(E97<>\"\",K97<>\"\"),17*Equipment!K102,0)","v":0},{"$f":"IF(AND(E97<>\"\",K97<>\"\"),0.015*Equipment!K102)","v":false}]
[92,null,{"$f":"IF(Equipment!V103=\"x\",Equipment!C103,\"\")","v":""},null,null,null,null,null,null,null,null,null,{"$f":"IF(AND(K98<>\"\"),MIN(35*Equipment!K103,0.7*E98),0)","v":0},null,{"$f":"IF(AND(E98<>\"\",K98<>\"\"),17*Equipment!K103,0)","v":0},{"$f":"IF(AND(E98<>\"\",K98<>\"\"),0.015*Equipment!K103)","v":false}]
[93,null,{"$f":"IF(Equipment!V104=\"x\",Equipment!C104,\"\")","v":""},null,null,null,null,null,null,null,null,null,{"$f":"IF(AND(K99<>\"\"),MIN(35*Equipment!K104,0.7*E99),0)","v":0},null,{"$f":"IF(AND(E99<>\"\",K99<>\"\"),17*Equipment!K104,0)","v":0},{"$f":"IF(AND(E99<>\"\",K99<>\"\"),0.015*Equipment!K104)","v":false}]
[94,null,{"$f":"IF(Equipment!V105=\"x\",Equipment!C105,\"\")","v":""},null,null,null,null,null,null,null,null,null,{"$f":"IF(AND(K100<>\"\"),MIN(35*Equipment!K105,0.7*E100),0)","v":0},null,{"$f":"IF(AND(E100<>\"\",K100<>\"\"),17*Equipment!K105,0)","v":0},{"$f":"IF(AND(E100<>\"\",K100<>\"\"),0.015*Equipment!K105)","v":false}]
[95,null,{"$f":"IF(Equipment!V106=\"x\",Equipment!C106,\"\")","v":""},null,null,null,null,null,null,null,null,null,{"$f":"IF(AND(K101<>\"\"),MIN(35*Equipment!K106,0.7*E101),0)","v":0},null,{"$f":"IF(AND(E101<>\"\",K101<>\"\"),17*Equipment!K106,0)","v":0},{"$f":"IF(AND(E101<>\"\",K101<>\"\"),0.015*Equipment!K106)","v":false}]
[96,null,{"$f":"IF(Equipment!V107=\"x\",Equipment!C107,\"\")","v":""},null,null,null,null,null,null,null,null,null,{"$f":"IF(AND(K102<>\"\"),MIN(35*Equipment!K107,0.7*E102),0)","v":0},null,{"$f":"IF(AND(E102<>\"\",K102<>\"\"),17*Equipment!K107,0)","v":0},{"$f":"IF(AND(E102<>\"\",K102<>\"\"),0.015*Equipment!K107)","v":false}]
[97,null,{"$f":"IF(Equipment!V108=\"x\",Equipment!C108,\"\")","v":""},null,null,null,null,null,null,null,null,null,{"$f":"IF(AND(K103<>\"\"),MIN(35*Equipment!K108,0.7*E103),0)","v":0},null,{"$f":"IF(AND(E103<>\"\",K103<>\"\"),17*Equipment!K108,0)","v":0},{"$f":"IF(AND(E103<>\"\",K103<>\"\"),0.015*Equipment!K108)","v":false}]
[98,null,{"$f":"IF(Equipment!V109=\"x\",Equipment!C109,\"\")","v":""},null,null,null,null,null,null,null,null,null,{"$f":"IF(AND(K104<>\"\"),MIN(35*Equipment!K109,0.7*E104),0)","v":0},null,{"$f":"IF(AND(E104<>\"\",K104<>\"\"),17*Equipment!K109,0)","v":0},{"$f":"IF(AND(E104<>\"\",K104<>\"\"),0.015*Equipment!K109)","v":false}]
[99,null,{"$f":"IF(Equipment!V110=\"x\",Equipment!C110,\"\")","v":""},null,null,null,null,null,null,null,null,null,{"$f":"IF(AND(K105<>\"\"),MIN(35*Equipment!K110,0.7*E105),0)","v":0},null,{"$f":"IF(AND(E105<>\"\",K105<>\"\"),17*Equipment!K110,0)","v":0},{"$f":"IF(AND(E105<>\"\",K105<>\"\"),0.015*Equipment!K110)","v":false}]
[100,null,{"$f":"IF(Equipment!V111=\"x\",Equipment!C111,\"\")","v":""},null,null,null,null,null,null,null,null,null,{"$f":"IF(AND(K106<>\"\"),MIN(35*Equipment!K111,0.7*E106),0)","v":0},null,{"$f":"IF(AND(E106<>\"\",K106<>\"\"),17*Equipment!K111,0)","v":0},{"$f":"IF(AND(E106<>\"\",K106<>\"\"),0.015*Equipment!K111)","v":false}]

{"sheet":"ARC - Retrofit","index":9,"n_rows":110,"n_cols":20,"rows_kept":110,"cut":false,"hidden":true,"merged":[[4,19,5,22],[6,19,8,22],[102,2,102,3],[105,2,105,3],[105,6,105,7],[104,2,104,3],[99,2,99,3],[99,6,99,7],[98,2,98,3],[101,2,101,3],[101,6,101,7],[100,2,100,3],[104,6,104,7],[102,6,102,7],[100,6,100,7],[98,6,98,7],[101,4,101,5],[102,4,102,5],[103,4,103,5],[104,4,104,5],[105,4,105,5],[98,4,98,5],[99,4,99,5],[100,4,100,5],[109,2,109,3],[106,6,106,7],[107,2,107,3],[107,6,107,7],[106,2,106,3],[109,6,109,7],[108,6,108,7],[108,2,108,3],[103,2,103,3],[103,6,103,7],[106,4,106,5],[107,4,107,5],[108,4,108,5],[109,4,109,5],[95,2,95,3],[95,6,95,7],[94,2,94,3],[97,2,97,3],[97,6,97,7],[96,2,96,3],[91,2,91,3],[91,6,91,7],[90,2,90,3],[93,2,93,3],[93,6,93,7],[92,2,92,3],[96,6,96,7],[94,6,94,7],[92,6,92,7],[90,6,90,7],[92,4,92,5],[93,4,93,5],[94,4,94,5],[95,4,95,5],[90,4,90,5],[91,4,91,5],[96,4,96,5],[97,4,97,5],[87,2,87,3],[87,6,87,7],[86,2,86,3],[89,2,89,3],[89,6,89,7],[88,2,88,3],[83,2,83,3],[83,6,83,7],[82,2,82,3],[85,2,85,3],[85,6,85,7],[84,2,84,3],[86,6,86,7],[84,6,84,7],[82,6,82,7],[88,6,88,7],[83,4,83,5],[84,4,84,5],[85,4,85,5],[86,4,86,5],[82,4,82,5],[87,4,87,5],[88,4,88,5],[89,4,89,5],[79,2,79,3],[79,6,79,7],[78,2,78,3],[81,2,81,3],[81,6,81,7],[80,2,80,3],[74,6,74,7],[75,2,75,3],[75,6,75,7],[74,2,74,3],[77,2,77,3],[77,6,77,7],[76,2,76,3],[80,6,80,7],[78,6,78,7],[76,6,76,7],[74,4,74,5],[75,4,75,5],[76,4,76,5],[77,4,77,5],[78,4,78,5],[79,4,79,5],[80,4,80,5],[81,4,81,5],[73,2,73,3],[73,6,73,7],[72,2,72,3],[69,2,69,3],[69,6,69,7],[68,2,68,3],[71,2,71,3],[71,6,71,7],[70,2,70,3],[70,6,70,7],[72,6,72,7],[68,4,68,5],[69,4,69,5],[70,4,70,5],[71,4,71,5],[72,4,72,5],[73,4,73,5],[66,2,66,3],[68,6,68,7],[63,2,63,3],[63,6,63,7],[62,2,62,3],[65,2,65,3],[65,6,65,7],[64,2,64,3],[67,2,67,3],[67,6,67,7],[64,6,64,7],[66,6,66,7],[62,4,62,5],[63,4,63,5],[64,4,64,5],[65,4,65,5],[66,4,66,5],[67,4,67,5],[60,2,60,3],[62,6,62,7],[57,2,57,3],[57,6,57,7],[56,2,56,3],[59,2,59,3],[59,6,59,7],[58,2,58,3],[61,2,61,3],[61,6,61,7],[58,6,58,7],[60,6,60,7],[59,4,59,5],[60,4,60,5],[61,4,61,5],[56,4,56,5],[57,4,57,5],[58,4,58,5],[54,6,54,7],[49,2,49,3],[54,2,54,3],[56,6,56,7],[51,2,51,3],[51,6,51,7],[50,2,50,3],[53,2,53,3],[53,6,53,7],[52,2,52,3],[55,2,55,3],[55,6,55,7],[52,6,52,7],[49,4,49,5],[50,4,50,5],[51,4,51,5],[52,4,52,5],[53,4,53,5],[54,4,54,5],[55,4,55,5],[48,6,48,7],[43,2,43,3],[48,2,48,3],[50,6,50,7],[45,2,45,3],[45,6,45,7],[44,2,44,3],[47,2,47,3],[47,6,47,7],[46,2,46,3],[46,6,46,7],[43,4,43,5],[44,4,44,5],[45,4,45,5],[46,4,46,5],[47,4,47,5],[48,4,48,5],[49,6,49,7],[42,6,42,7],[37,2,37,3],[42,2,42,3],[44,6,44,7],[39,2,39,3],[39,6,39,7],[38,2,38,3],[41,2,41,3],[41,6,41,7],[40,2,40,3],[40,6,40,7],[37,4,37,5],[38,4,38,5],[39,4,39,5],[40,4,40,5],[41,4,41,5],[42,4,42,5],[43,6,43,7],[36,6,36,7],[31,2,31,3],[31,6,31,7],[36,2,36,3],[38,6,38,7],[32,6,32,7],[33,2,33,3],[33,6,33,7],[32,2,32,3],[35,2,35,3],[35,6,35,7],[34,2,34,3],[34,6,34,7],[34,4,34,5],[35,4,35,5],[36,4,36,5],[37,6,37,7],[31,4,31,5],[32,4,32,5],[33,4,33,5],[28,6,28,7],[29,2,29,3],[29,6,29,7],[28,2,28,3],[30,6,30,7],[30,2,30,3],[25,2,25,3],[25,6,25,7],[24,2,24,3],[26,6,26,7],[27,2,27,3],[27,6,27,7],[26,2,26,3],[24,4,24,5],[25,4,25,5],[26,4,26,5],[27,4,27,5],[28,4,28,5],[29,4,29,5],[30,4,30,5],[23,2,23,3],[23,6,23,7],[22,2,22,3],[24,6,24,7],[19,2,19,3],[19,6,19,7],[18,2,18,3],[20,6,20,7],[21,2,21,3],[21,6,21,7],[20,2,20,3],[20,4,20,5],[21,4,21,5],[22,4,22,5],[23,4,23,5],[18,4,18,5],[19,4,19,5],[5,3,5,10],[7,3,7,10],[8,3,8,10],[9,3,10,10],[9,2,10,2],[13,4,14,5],[6,3,6,10],[22,6,22,7],[15,4,15,5],[16,4,16,5],[17,4,17,5],[12,2,12,5],[16,6,16,7],[17,2,17,3],[17,6,17,7],[16,2,16,3],[18,6,18,7],[13,6,14,7],[15,2,15,3],[15,6,15,7],[13,2,14,3]]}
[]
[null,"Advanced Rooftop Controls (Retrofit)",null,null,null,null,null,null,null,null,null,"Total kWh/yr Savings",{"$f":"SUM(I16:I110)","v":0},null,"Incentive",{"$f":"SUM(G16:H110)","v":0}]
[null,null,null,null,null,null,null,null,"Customer Costs",{"$f":"SUM(E16:F110)","v":0},null,"Total kW Savings",0,null,"Electric Cost Savings/YR",{"$f":"IFERROR(M2*INDEX(kWhRates,MATCH(RateSchedule,RateSchedules,0))+M3*12*INDEX(kWRates,MATCH(RateSchedule,RateSchedules,0)),0)","v":0},null,null,null,"Instructions"]
[null,null,null,null,null,null,null,null,null,null,null,null,null,null,null,null,null,null,null,"1. Complete yellow cells."]
[null,null,"Confirm the following:",null,null,null,null,null,null,null,null,null,null,null,null,null,null,null,null,"Note"]
[null,null,null,"1. Control is installed on an existing unitary package rooftop unit (no split-systems)"]
[null,null,null,"2. Existing rooftop unit is between 1 and 15 years old",null,null,null,null,null,null,null,null,null,null,null,null,null,null,null,"All fields must be completed to calculate the savings & incentives"]
[null,null,null,"3. Control includes CO2 or occupancy based sensor that determines ventillation and space conditioning needs"]
[null,null,null,"4. Control includes digital, integrated economizer controls"]
[null,null,null,"5. Control replaces constant speed fan motor with etiehr a supply fan VFD or multi-speed fan motor with controller that meets ventilation and space conditioning needs"]
[]
[]
[null,null,"Equipment Details: "]
[null,null,"Rooftop Unit Label (from equipment tab)",null,"Customer Cost",null,"Estimated Incentive",null,"kWh"]
[]
[1,null,{"$f":"IF(Equipment!W12=\"x\",Equipment!C12,\"\")","v":""},null,null,null,{"$f":"IF(AND($C$6=\"Yes\",$C$7=\"Yes\",$C$8=\"Yes\",$C$9=\"Yes\",$C$10=\"Yes\",E16<>\"\"),IF(AND(Equipment!K12>=5,Equipment!K12<=10),2000,IF(AND(Equipment!K12>10,Equipment!K12<=15),2800,IF(AND(Equipment!K12>15,Equipment!K12<=20),4000,IF(AND(Equipment!K12>20),4500,IF(AND(Equipment!K12>0,Equipment!K12<5),500,0))))),0)","v":0},null,{"$f":"IF(AND($C$6=\"Yes\",$C$7=\"Yes\",$C$8=\"Yes\",$C$9=\"Yes\",$C$10=\"Yes\",E16<>\"\"),0.539*INDEX(OpHours,MATCH(Equipment!$C$7,BuildingTypeList,0))*Equipment!$O12,0)","v":0}]
[2,null,{"$f":"IF(Equipment!W13=\"x\",Equipment!C13,\"\")","v":""},null,null,null,{"$f":"IF(AND($C$6=\"Yes\",$C$7=\"Yes\",$C$8=\"Yes\",$C$9=\"Yes\",$C$10=\"Yes\",E17<>\"\"),IF(AND(Equipment!K13>=5,Equipment!K13<=10),2000,IF(AND(Equipment!K13>10,Equipment!K13<=15),2800,IF(AND(Equipment!K13>15,Equipment!K13<=20),4000,IF(AND(Equipment!K13>20),4500,IF(AND(Equipment!K13>0,Equipment!K13<5),500,0))))),0)","v":0},null,{"$f":"IF(AND($C$6=\"Yes\",$C$7=\"Yes\",$C$8=\"Yes\",$C$9=\"Yes\",$C$10=\"Yes\",E17<>\"\"),0.539*INDEX(OpHours,MATCH(Equipment!$C$7,BuildingTypeList,0))*Equipment!$O13,0)","v":0}]
[3,null,{"$f":"IF(Equipment!W14=\"x\",Equipment!C14,\"\")","v":""},null,null,null,{"$f":"IF(AND($C$6=\"Yes\",$C$7=\"Yes\",$C$8=\"Yes\",$C$9=\"Yes\",$C$10=\"Yes\",E18<>\"\"),IF(AND(Equipment!K14>=5,Equipment!K14<=10),2000,IF(AND(Equipment!K14>10,Equipment!K14<=15),2800,IF(AND(Equipment!K14>15,Equipment!K14<=20),4000,IF(AND(Equipment!K14>20),4500,IF(AND(Equipment!K14>0,Equipment!K14<5),500,0))))),0)","v":0},null,{"$f":"IF(AND($C$6=\"Yes\",$C$7=\"Yes\",$C$8=\"Yes\",$C$9=\"Yes\",$C$10=\"Yes\",E18<>\"\"),0.539*INDEX(OpHours,MATCH(Equipment!$C$7,BuildingTypeList,0))*Equipment!$O14,0)","v":0}]
[4,null,{"$f":"IF(Equipment!W15=\"x\",Equipment!C15,\"\")","v":""},null,null,null,{"$f":"IF(AND($C$6=\"Yes\",$C$7=\"Yes\",$C$8=\"Yes\",$C$9=\"Yes\",$C$10=\"Yes\",E19<>\"\"),IF(AND(Equipment!K15>=5,Equipment!K15<=10),2000,IF(AND(Equipment!K15>10,Equipment!K15<=15),2800,IF(AND(Equipment!K15>15,Equipment!K15<=20),4000,IF(AND(Equipment!K15>20),4500,IF(AND(Equipment!K15>0,Equipment!K15<5),500,0))))),0)","v":0},null,{"$f":"IF(AND($C$6=\"Yes\",$C$7=\"Yes\",$C$8=\"Yes\",$C$9=\"Yes\",$C$10=\"Yes\",E19<>\"\"),0.539*INDEX(OpHours,MATCH(Equipment!$C$7,BuildingTypeList,0))*Equipment!$O15,0)","v":0}]
[5,null,{"$f":"IF(Equipment!W16=\"x\",Equipment!C16,\"\")","v":""},null,null,null,{"$f":"IF(AND($C$6=\"Yes\",$C$7=\"Yes\",$C$8=\"Yes\",$C$9=\"Yes\",$C$10=\"Yes\",E20<>\"\"),IF(AND(Equipment!K16>=5,Equipment!K16<=10),2000,IF(AND(Equipment!K16>10,Equipment!K16<=15),2800,IF(AND(Equipment!K16>15,Equipment!K16<=20),4000,IF(AND(Equipment!K16>20),4500,IF(AND(Equipment!K16>0,Equipment!K16<5),500,0))))),0)","v":0},null,{"$f":"IF(AND($C$6=\"Yes\",$C$7=\"Yes\",$C$8=\"Yes\",$C$9=\"Yes\",$C$10=\"Yes\",E20<>\"\"),0.539*INDEX(OpHours,MATCH(Equipment!$C$7,BuildingTypeList,0))*Equipment!$O16,0)","v":0}]
[6,null,{"$f":"IF(Equipment!W17=\"x\",Equipment!C17,\"\")","v":""},null,null,null,{"$f":"IF(AND($C$6=\"Yes\",$C$7=\"Yes\",$C$8=\"Yes\",$C$9=\"Yes\",$C$10=\"Yes\",E21<>\"\"),IF(AND(Equipment!K17>=5,Equipment!K17<=10),2000,IF(AND(Equipment!K17>10,Equipment!K17<=15),2800,IF(AND(Equipment!K17>15,Equipment!K17<=20),4000,IF(AND(Equipment!K17>20),4500,IF(AND(Equipment!K17>0,Equipment!K17<5),500,0))))),0)","v":0},null,{"$f":"IF(AND($C$6=\"Yes\",$C$7=\"Yes\",$C$8=\"Yes\",$C$9=\"Yes\",$C$10=\"Yes\",E21<>\"\"),0.539*INDEX(OpHours,MATCH(Equipment!$C$7,BuildingTypeList,0))*Equipment!$O17,0)","v":0}]
[7,null,{"$f":"IF(Equipment!W18=\"x\",Equipment!C18,\"\")","v":""},null,null,null,{"$f":"IF(AND($C$6=\"Yes\",$C$7=\"Yes\",$C$8=\"Yes\",$C$9=\"Yes\",$C$10=\"Yes\",E22<>\"\"),IF(AND(Equipment!K18>=5,Equipment!K18<=10),2000,IF(AND(Equipment!K18>10,Equipment!K18<=15),2800,IF(AND(Equipment!K18>15,Equipment!K18<=20),4000,IF(AND(Equipment!K18>20),4500,IF(AND(Equipment!K18>0,Equipment!K18<5),500,0))))),0)","v":0},null,{"$f":"IF(AND($C$6=\"Yes\",$C$7=\"Yes\",$C$8=\"Yes\",$C$9=\"Yes\",$C$10=\"Yes\",E22<>\"\"),0.539*INDEX(OpHours,MATCH(Equipment!$C$7,BuildingTypeList,0))*Equipment!$O18,0)","v":0}]
[8,null,{"$f":"IF(Equipment!W19=\"x\",Equipment!C19,\"\")","v":""},null,null,null,{"$f":"IF(AND($C$6=\"Yes\",$C$7=\"Yes\",$C$8=\"Yes\",$C$9=\"Yes\",$C$10=\"Yes\",E23<>\"\"),IF(AND(Equipment!K19>=5,Equipment!K19<=10),2000,IF(AND(Equipment!K19>10,Equipment!K19<=15),2800,IF(AND(Equipment!K19>15,Equipment!K19<=20),4000,IF(AND(Equipment!K19>20),4500,IF(AND(Equipment!K19>0,Equipment!K19<5),500,0))))),0)","v":0},null,{"$f":"IF(AND($C$6=\"Yes\",$C$7=\"Yes\",$C$8=\"Yes\",$C$9=\"Yes\",$C$10=\"Yes\",E23<>\"\"),0.539*INDEX(OpHours,MATCH(Equipment!$C$7,BuildingTypeList,0))*Equipment!$O19,0)","v":0}]
[9,null,{"$f":"IF(Equipment!W20=\"x\",Equipment!C20,\"\")","v":""},null,null,null,{"$f":"IF(AND($C$6=\"Yes\",$C$7=\"Yes\",$C$8=\"Yes\",$C$9=\"Yes\",$C$10=\"Yes\",E24<>\"\"),IF(AND(Equipment!K20>=5,Equipment!K20<=10),2000,IF(AND(Equipment!K20>10,Equipment!K20<=15),2800,IF(AND(Equipment!K20>15,Equipment!K20<=20),4000,IF(AND(Equipment!K20>20),4500,IF(AND(Equipment!K20>0,Equipment!K20<5),500,0))))),0)","v":0},null,{"$f":"IF(AND($C$6=\"Yes\",$C$7=\"Yes\",$C$8=\"Yes\",$C$9=\"Yes\",$C$10=\"Yes\",E24<>\"\"),0.539*INDEX(OpHours,MATCH(Equipment!$C$7,BuildingTypeList,0))*Equipment!$O20,0)","v":0}]
[10,null,{"$f":"IF(Equipment!W21=\"x\",Equipment!C21,\"\")","v":""},null,null,null,{"$f":"IF(AND($C$6=\"Yes\",$C$7=\"Yes\",$C$8=\"Yes\",$C$9=\"Yes\",$C$10=\"Yes\",E25<>\"\"),IF(AND(Equipment!K21>=5,Equipment!K21<=10),2000,IF(AND(Equipment!K21>10,Equipment!K21<=15),2800,IF(AND(Equipment!K21>15,Equipment!K21<=20),4000,IF(AND(Equipment!K21>20),4500,IF(AND(Equipment!K21>0,Equipment!K21<5),500,0))))),0)","v":0},null,{"$f":"IF(AND($C$6=\"Yes\",$C$7=\"Yes\",$C$8=\"Yes\",$C$9=\"Yes\",$C$10=\"Yes\",E25<>\"\"),0.539*INDEX(OpHours,MATCH(Equipment!$C$7,BuildingTypeList,0))*Equipment!$O21,0)","v":0}]
[11,null,{"$f":"IF(Equipment!W22=\"x\",Equipment!C22,\"\")","v":""},null,null,null,{"$f":"IF(AND($C$6=\"Yes\",$C$7=\"Yes\",$C$8=\"Yes\",$C$9=\"Yes\",$C$10=\"Yes\",E26<>\"\"),IF(AND(Equipment!K22>=5,Equipment!K22<=10),2000,IF(AND(Equipment!K22>10,Equipment!K22<=15),2800,IF(AND(Equipment!K22>15,Equipment!K22<=20),4000,IF(AND(Equipment!K22>20),4500,IF(AND(Equipment!K22>0,Equipment!K22<5),500,0))))),0)","v":0},null,{"$f":"IF(AND($C$6=\"Yes\",$C$7=\"Yes\",$C$8=\"Yes\",$C$9=\"Yes\",$C$10=\"Yes\",E26<>\"\"),0.539*INDEX(OpHours,MATCH(Equipment!$C$7,BuildingTypeList,0))*Equipment!$O22,0)","v":0}]
[12,null,{"$f":"IF(Equipment!W23=\"x\",Equipment!C23,\"\")","v":""},null,null,null,{"$f":"IF(AND($C$6=\"Yes\",$C$7=\"Yes\",$C$8=\"Yes\",$C$9=\"Yes\",$C$10=\"Yes\",E27<>\"\"),IF(AND(Equipment!K23>=5,Equipment!K23<=10),2000,IF(AND(Equipment!K23>10,Equipment!K23<=15),2800,IF(AND(Equipment!K23>15,Equipment!K23<=20),4000,IF(AND(Equipment!K23>20),4500,IF(AND(Equipment!K23>0,Equipment!K23<5),500,0))))),0)","v":0},null,{"$f":"IF(AND($C$6=\"Yes\",$C$7=\"Yes\",$C$8=\"Yes\",$C$9=\"Yes\",$C$10=\"Yes\",E27<>\"\"),0.539*INDEX(OpHours,MATCH(Equipment!$C$7,BuildingTypeList,0))*Equipment!$O23,0)","v":0}]
[13,null,{"$f":"IF(Equipment!W24=\"x\",Equipment!C24,\"\")","v":""},null,null,null,{"$f":"IF(AND($C$6=\"Yes\",$C$7=\"Yes\",$C$8=\"Yes\",$C$9=\"Yes\",$C$10=\"Yes\",E28<>\"\"),IF(AND(Equipment!K24>=5,Equipment!K24<=10),2000,IF(AND(Equipment!K24>10,Equipment!K24<=15),2800,IF(AND(Equipment!K24>15,Equipment!K24<=20),4000,IF(AND(Equipment!K24>20),4500,IF(AND(Equipment!K24>0,Equipment!K24<5),500,0))))),0)","v":0},null,{"$f":"IF(AND($C$6=\"Yes\",$C$7=\"Yes\",$C$8=\"Yes\",$C$9=\"Yes\",$C$10=\"Yes\",E28<>\"\"),0.539*INDEX(OpHours,MATCH(Equipment!$C$7,BuildingTypeList,0))*Equipment!$O24,0)","v":0}]
[14,null,{"$f":"IF(Equipment!W25=\"x\",Equipment!C25,\"\")","v":""},null,null,null,{"$f":"IF(AND($C$6=\"Yes\",$C$7=\"Yes\",$C$8=\"Yes\",$C$9=\"Yes\",$C$10=\"Yes\",E29<>\"\"),IF(AND(Equipment!K25>=5,Equipment!K25<=10),2000,IF(AND(Equipment!K25>10,Equipment!K25<=15),2800,IF(AND(Equipment!K25>15,Equipment!K25<=20),4000,IF(AND(Equipment!K25>20),4500,IF(AND(Equipment!K25>0,Equipment!K25<5),500,0))))),0)","v":0},null,{"$f":"IF(AND($C$6=\"Yes\",$C$7=\"Yes\",$C$8=\"Yes\",$C$9=\"Yes\",$C$10=\"Yes\",E29<>\"\"),0.539*INDEX(OpHours,MATCH(Equipment!$C$7,BuildingTypeList,0))*Equipment!$O25,0)","v":0}]
[15,null,{"$f":"IF(Equipment!W26=\"x\",Equipment!C26,\"\")","v":""},null,null,null,{"$f":"IF(AND($C$6=\"Yes\",$C$7=\"Yes\",$C$8=\"Yes\",$C$9=\"Yes\",$C$10=\"Yes\",E30<>\"\"),IF(AND(Equipment!K26>=5,Equipment!K26<=10),2000,IF(AND(Equipment!K26>10,Equipment!K26<=15),2800,IF(AND(Equipment!K26>15,Equipment!K26<=20),4000,IF(AND(Equipment!K26>20),4500,IF(AND(Equipment!K26>0,Equipment!K26<5),500,0))))),0)","v":0},null,{"$f":"IF(AND($C$6=\"Yes\",$C$7=\"Yes\",$C$8=\"Yes\",$C$9=\"Yes\",$C$10=\"Yes\",E30<>\"\"),0.539*INDEX(OpHours,MATCH(Equipment!$C$7,BuildingTypeList,0))*Equipment!$O26,0)","v":0}]
[16,null,{"$f":"IF(Equipment!W27=\"x\",Equipment!C27,\"\")","v":""},null,null,null,{"$f":"IF(AND($C$6=\"Yes\",$C$7=\"Yes\",$C$8=\"Yes\",$C$9=\"Yes\",$C$10=\"Yes\",E31<>\"\"),IF(AND(Equipment!K27>=5,Equipment!K27<=10),2000,IF(AND(Equipment!K27>10,Equipment!K27<=15),2800,IF(AND(Equipment!K27>15,Equipment!K27<=20),4000,IF(AND(Equipment!K27>20),4500,IF(AND(Equipment!K27>0,Equipment!K27<5),500,0))))),0)","v":0},null,{"$f":"IF(AND($C$6=\"Yes\",$C$7=\"Yes\",$C$8=\"Yes\",$C$9=\"Yes\",$C$10=\"Yes\",E31<>\"\"),0.539*INDEX(OpHours,MATCH(Equipment!$C$7,BuildingTypeList,0))*Equipment!$O27,0)","v":0}]
[17,null,{"$f":"IF(Equipment!W28=\"x\",Equipment!C28,\"\")","v":""},null,null,null,{"$f":"IF(AND($C$6=\"Yes\",$C$7=\"Yes\",$C$8=\"Yes\",$C$9=\"Yes\",$C$10=\"Yes\",E32<>\"\"),IF(AND(Equipment!K28>=5,Equipment!K28<=10),2000,IF(AND(Equipment!K28>10,Equipment!K28<=15),2800,IF(AND(Equipment!K28>15,Equipment!K28<=20),4000,IF(AND(Equipment!K28>20),4500,IF(AND(Equipment!K28>0,Equipment!K28<5),500,0))))),0)","v":0},null,{"$f":"IF(AND($C$6=\"Yes\",$C$7=\"Yes\",$C$8=\"Yes\",$C$9=\"Yes\",$C$10=\"Yes\",E32<>\"\"),0.539*INDEX(OpHours,MATCH(Equipment!$C$7,BuildingTypeList,0))*Equipment!$O28,0)","v":0}]
[18,null,{"$f":"IF(Equipment!W29=\"x\",Equipment!C29,\"\")","v":""},null,null,null,{"$f":"IF(AND($C$6=\"Yes\",$C$7=\"Yes\",$C$8=\"Yes\",$C$9=\"Yes\",$C$10=\"Yes\",E33<>\"\"),IF(AND(Equipment!K29>=5,Equipment!K29<=10),2000,IF(AND(Equipment!K29>10,Equipment!K29<=15),2800,IF(AND(Equipment!K29>15,Equipment!K29<=20),4000,IF(AND(Equipment!K29>20),4500,IF(AND(Equipment!K29>0,Equipment!K29<5),500,0))))),0)","v":0},null,{"$f":"IF(AND($C$6=\"Yes\",$C$7=\"Yes\",$C$8=\"Yes\",$C$9=\"Yes\",$C$10=\"Yes\",E33<>\"\"),0.539*INDEX(OpHours,MATCH(Equipment!$C$7,BuildingTypeList,0))*Equipment!$O29,0)","v":0}]
[19,null,{"$f":"IF(Equipment!W30=\"x\",Equipment!C30,\"\")","v":""},null,null,null,{"$f":"IF(AND($C$6=\"Yes\",$C$7=\"Yes\",$C$8=\"Yes\",$C$9=\"Yes\",$C$10=\"Yes\",E34<>\"\"),IF(AND(Equipment!K30>=5,Equipment!K30<=10),2000,IF(AND(Equipment!K30>10,Equipment!K30<=15),2800,IF(AND(Equipment!K30>15,Equipment!K30<=20),4000,IF(AND(Equipment!K30>20),4500,IF(AND(Equipment!K30>0,Equipment!K30<5),500,0))))),0)","v":0},null,{"$f":"IF(AND($C$6=\"Yes\",$C$7=\"Yes\",$C$8=\"Yes\",$C$9=\"Yes\",$C$10=\"Yes\",E34<>\"\"),0.539*INDEX(OpHours,MATCH(Equipment!$C$7,BuildingTypeList,0))*Equipment!$O30,0)","v":0}]
[20,null,{"$f":"IF(Equipment!W31=\"x\",Equipment!C31,\"\")","v":""},null,null,null,{"$f":"IF(AND($C$6=\"Yes\",$C$7=\"Yes\",$C$8=\"Yes\",$C$9=\"Yes\",$C$10=\"Yes\",E35<>\"\"),IF(AND(Equipment!K31>=5,Equipment!K31<=10),2000,IF(AND(Equipment!K31>10,Equipment!K31<=15),2800,IF(AND(Equipment!K31>15,Equipment!K31<=20),4000,IF(AND(Equipment!K31>20),4500,IF(AND(Equipment!K31>0,Equipment!K31<5),500,0))))),0)","v":0},null,{"$f":"IF(AND($C$6=\"Yes\",$C$7=\"Yes\",$C$8=\"Yes\",$C$9=\"Yes\",$C$10=\"Yes\",E35<>\"\"),0.539*INDEX(OpHours,MATCH(Equipment!$C$7,BuildingTypeList,0))*Equipment!$O31,0)","v":0}]
[21,null,{"$f":"IF(Equipment!W32=\"x\",Equipment!C32,\"\")","v":""},null,null,null,{"$f":"IF(AND($C$6=\"Yes\",$C$7=\"Yes\",$C$8=\"Yes\",$C$9=\"Yes\",$C$10=\"Yes\",E36<>\"\"),IF(AND(Equipment!K32>=5,Equipment!K32<=10),2000,IF(AND(Equipment!K32>10,Equipment!K32<=15),2800,IF(AND(Equipment!K32>15,Equipment!K32<=20),4000,IF(AND(Equipment!K32>20),4500,IF(AND(Equipment!K32>0,Equipment!K32<5),500,0))))),0)","v":0},null,{"$f":"IF(AND($C$6=\"Yes\",$C$7=\"Yes\",$C$8=\"Yes\",$C$9=\"Yes\",$C$10=\"Yes\",E36<>\"\"),0.539*INDEX(OpHours,MATCH(Equipment!$C$7,BuildingTypeList,0))*Equipment!$O32,0)","v":0}]
[22,null,{"$f":"IF(Equipment!W33=\"x\",Equipment!C33,\"\")","v":""},null,null,null,{"$f":"IF(AND($C$6=\"Yes\",$C$7=\"Yes\",$C$8=\"Yes\",$C$9=\"Yes\",$C$10=\"Yes\",E37<>\"\"),IF(AND(Equipment!K33>=5,Equipment!K33<=10),2000,IF(AND(Equipment!K33>10,Equipment!K33<=15),2800,IF(AND(Equipment!K33>15,Equipment!K33<=20),4000,IF(AND(Equipment!K33>20),4500,IF(AND(Equipment!K33>0,Equipment!K33<5),500,0))))),0)","v":0},null,{"$f":"IF(AND($C$6=\"Yes\",$C$7=\"Yes\",$C$8=\"Yes\",$C$9=\"Yes\",$C$10=\"Yes\",E37<>\"\"),0.539*INDEX(OpHours,MATCH(Equipment!$C$7,BuildingTypeList,0))*Equipment!$O33,0)","v":0}]
[23,null,{"$f":"IF(Equipment!W34=\"x\",Equipment!C34,\"\")","v":""},null,null,null,{"$f":"IF(AND($C$6=\"Yes\",$C$7=\"Yes\",$C$8=\"Yes\",$C$9=\"Yes\",$C$10=\"Yes\",E38<>\"\"),IF(AND(Equipment!K34>=5,Equipment!K34<=10),2000,IF(AND(Equipment!K34>10,Equipment!K34<=15),2800,IF(AND(Equipment!K34>15,Equipment!K34<=20),4000,IF(AND(Equipment!K34>20),4500,IF(AND(Equipment!K34>0,Equipment!K34<5),500,0))))),0)","v":0},null,{"$f":"IF(AND($C$6=\"Yes\",$C$7=\"Yes\",$C$8=\"Yes\",$C$9=\"Yes\",$C$10=\"Yes\",E38<>\"\"),0.539*INDEX(OpHours,MATCH(Equipment!$C$7,BuildingTypeList,0))*Equipment!$O34,0)","v":0}]
[24,null,{"$f":"IF(Equipment!W35=\"x\",Equipment!C35,\"\")","v":""},null,null,null,{"$f":"IF(AND($C$6=\"Yes\",$C$7=\"Yes\",$C$8=\"Yes\",$C$9=\"Yes\",$C$10=\"Yes\",E39<>\"\"),IF(AND(Equipment!K35>=5,Equipment!K35<=10),2000,IF(AND(Equipment!K35>10,Equipment!K35<=15),2800,IF(AND(Equipment!K35>15,Equipment!K35<=20),4000,IF(AND(Equipment!K35>20),4500,IF(AND(Equipment!K35>0,Equipment!K35<5),500,0))))),0)","v":0},null,{"$f":"IF(AND($C$6=\"Yes\",$C$7=\"Yes\",$C$8=\"Yes\",$C$9=\"Yes\",$C$10=\"Yes\",E39<>\"\"),0.539*INDEX(OpHours,MATCH(Equipment!$C$7,BuildingTypeList,0))*Equipment!$O35,0)","v":0}]
[25,null,{"$f":"IF(Equipment!W36=\"x\",Equipment!C36,\"\")","v":""},null,null,null,{"$f":"IF(AND($C$6=\"Yes\",$C$7=\"Yes\",$C$8=\"Yes\",$C$9=\"Yes\",$C$10=\"Yes\",E40<>\"\"),IF(AND(Equipment!K36>=5,Equipment!K36<=10),2000,IF(AND(Equipment!K36>10,Equipment!K36<=15),2800,IF(AND(Equipment!K36>15,Equipment!K36<=20),4000,IF(AND(Equipment!K36>20),4500,IF(AND(Equipment!K36>0,Equipment!K36<5),500,0))))),0)","v":0},null,{"$f":"IF(AND($C$6=\"Yes\",$C$7=\"Yes\",$C$8=\"Yes\",$C$9=\"Yes\",$C$10=\"Yes\",E40<>\"\"),0.539*INDEX(OpHours,MATCH(Equipment!$C$7,BuildingTypeList,0))*Equipment!$O36,0)","v":0}]
[26,null,{"$f":"IF(Equipment!W37=\"x\",Equipment!C37,\"\")","v":""},null,null,null,{"$f":"IF(AND($C$6=\"Yes\",$C$7=\"Yes\",$C$8=\"Yes\",$C$9=\"Yes\",$C$10=\"Yes\",E41<>\"\"),IF(AND(Equipment!K37>=5,Equipment!K37<=10),2000,IF(AND(Equipment!K37>10,Equipment!K37<=15),2800,IF(AND(Equipment!K37>15,Equipment!K37<=20),4000,IF(AND(Equipment!K37>20),4500,IF(AND(Equipment!K37>0,Equipment!K37<5),500,0))))),0)","v":0},null,{"$f":"IF(AND($C$6=\"Yes\",$C$7=\"Yes\",$C$8=\"Yes\",$C$9=\"Yes\",$C$10=\"Yes\",E41<>\"\"),0.539*INDEX(OpHours,MATCH(Equipment!$C$7,BuildingTypeList,0))*Equipment!$O37,0)","v":0}]
[27,null,{"$f":"IF(Equipment!W38=\"x\",Equipment!C38,\"\")","v":""},null,null,null,{"$f":"IF(AND($C$6=\"Yes\",$C$7=\"Yes\",$C$8=\"Yes\",$C$9=\"Yes\",$C$10=\"Yes\",E42<>\"\"),IF(AND(Equipment!K38>=5,Equipment!K38<=10),2000,IF(AND(Equipment!K38>10,Equipment!K38<=15),2800,IF(AND(Equipment!K38>15,Equipment!K38<=20),4000,IF(AND(Equipment!K38>20),4500,IF(AND(Equipment!K38>0,Equipment!K38<5),500,0))))),0)","v":0},null,{"$f":"IF(AND($C$6=\"Yes\",$C$7=\"Yes\",$C$8=\"Yes\",$C$9=\"Yes\",$C$10=\"Yes\",E42<>\"\"),0.539*INDEX(OpHours,MATCH(Equipment!$C$7,BuildingTypeList,0))*Equipment!$O38,0)","v":0}]
[28,null,{"$f":"IF(Equipment!W39=\"x\",Equipment!C39,\"\")","v":""},null,null,null,{"$f":"IF(AND($C$6=\"Yes\",$C$7=\"Yes\",$C$8=\"Yes\",$C$9=\"Yes\",$C$10=\"Yes\",E43<>\"\"),IF(AND(Equipment!K39>=5,Equipment!K39<=10),2000,IF(AND(Equipment!K39>10,Equipment!K39<=15),2800,IF(AND(Equipment!K39>15,Equipment!K39<=20),4000,IF(AND(Equipment!K39>20),4500,IF(AND(Equipment!K39>0,Equipment!K39<5),500,0))))),0)","v":0},null,{"$f":"IF(AND($C$6=\"Yes\",$C$7=\"Yes\",$C$8=\"Yes\",$C$9=\"Yes\",$C$10=\"Yes\",E43<>\"\"),0.539*INDEX(OpHours,MATCH(Equipment!$C$7,BuildingTypeList,0))*Equipment!$O39,0)","v":0}]
[29,null,{"$f":"IF(Equipment!W40=\"x\",Equipment!C40,\"\")","v":""},null,null,null,{"$f":"IF(AND($C$6=\"Yes\",$C$7=\"Yes\",$C$8=\"Yes\",$C$9=\"Yes\",$C$10=\"Yes\",E44<>\"\"),IF(AND(Equipment!K40>=5,Equipment!K40<=10),2000,IF(AND(Equipment!K40>10,Equipment!K40<=15),2800,IF(AND(Equipment!K40>15,Equipment!K40<=20),4000,IF(AND(Equipment!K40>20),4500,IF(AND(Equipment!K40>0,Equipment!K40<5),500,0))))),0)","v":0},null,{"$f":"IF(AND($C$6=\"Yes\",$C$7=\"Yes\",$C$8=\"Yes\",$C$9=\"Yes\",$C$10=\"Yes\",E44<>\"\"),0.539*INDEX(OpHours,MATCH(Equipment!$C$7,BuildingTypeList,0))*Equipment!$O40,0)","v":0}]
[30,null,{"$f":"IF(Equipment!W41=\"x\",Equipment!C41,\"\")","v":""},null,null,null,{"$f":"IF(AND($C$6=\"Yes\",$C$7=\"Yes\",$C$8=\"Yes\",$C$9=\"Yes\",$C$10=\"Yes\",E45<>\"\"),IF(AND(Equipment!K41>=5,Equipment!K41<=10),2000,IF(AND(Equipment!K41>10,Equipment!K41<=15),2800,IF(AND(Equipment!K41>15,Equipment!K41<=20),4000,IF(AND(Equipment!K41>20),4500,IF(AND(Equipment!K41>0,Equipment!K41<5),500,0))))),0)","v":0},null,{"$f":"IF(AND($C$6=\"Yes\",$C$7=\"Yes\",$C$8=\"Yes\",$C$9=\"Yes\",$C$10=\"Yes\",E45<>\"\"),0.539*INDEX(OpHours,MATCH(Equipment!$C$7,BuildingTypeList,0))*Equipment!$O41,0)","v":0}]
[31,null,{"$f":"IF(Equipment!W42=\"x\",Equipment!C42,\"\")","v":""},null,null,null,{"$f":"IF(AND($C$6=\"Yes\",$C$7=\"Yes\",$C$8=\"Yes\",$C$9=\"Yes\",$C$10=\"Yes\",E46<>\"\"),IF(AND(Equipment!K42>=5,Equipment!K42<=10),2000,IF(AND(Equipment!K42>10,Equipment!K42<=15),2800,IF(AND(Equipment!K42>15,Equipment!K42<=20),4000,IF(AND(Equipment!K42>20),4500,IF(AND(Equipment!K42>0,Equipment!K42<5),500,0))))),0)","v":0},null,{"$f":"IF(AND($C$6=\"Yes\",$C$7=\"Yes\",$C$8=\"Yes\",$C$9=\"Yes\",$C$10=\"Yes\",E46<>\"\"),0.539*INDEX(OpHours,MATCH(Equipment!$C$7,BuildingTypeList,0))*Equipment!$O42,0)","v":0}]
[32,null,{"$f":"IF(Equipment!W43=\"x\",Equipment!C43,\"\")","v":""},null,null,null,{"$f":"IF(AND($C$6=\"Yes\",$C$7=\"Yes\",$C$8=\"Yes\",$C$9=\"Yes\",$C$10=\"Yes\",E47<>\"\"),IF(AND(Equipment!K43>=5,Equipment!K43<=10),2000,IF(AND(Equipment!K43>10,Equipment!K43<=15),2800,IF(AND(Equipment!K43>15,Equipment!K43<=20),4000,IF(AND(Equipment!K43>20),4500,IF(AND(Equipment!K43>0,Equipment!K43<5),500,0))))),0)","v":0},null,{"$f":"IF(AND($C$6=\"Yes\",$C$7=\"Yes\",$C$8=\"Yes\",$C$9=\"Yes\",$C$10=\"Yes\",E47<>\"\"),0.539*INDEX(OpHours,MATCH(Equipment!$C$7,BuildingTypeList,0))*Equipment!$O43,0)","v":0}]
[33,null,{"$f":"IF(Equipment!W44=\"x\",Equipment!C44,\"\")","v":""},null,null,null,{"$f":"IF(AND($C$6=\"Yes\",$C$7=\"Yes\",$C$8=\"Yes\",$C$9=\"Yes\",$C$10=\"Yes\",E48<>\"\"),IF(AND(Equipment!K44>=5,Equipment!K44<=10),2000,IF(AND(Equipment!K44>10,Equipment!K44<=15),2800,IF(AND(Equipment!K44>15,Equipment!K44<=20),4000,IF(AND(Equipment!K44>20),4500,IF(AND(Equipment!K44>0,Equipment!K44<5),500,0))))),0)","v":0},null,{"$f":"IF(AND($C$6=\"Yes\",$C$7=\"Yes\",$C$8=\"Yes\",$C$9=\"Yes\",$C$10=\"Yes\",E48<>\"\"),0.539*INDEX(OpHours,MATCH(Equipment!$C$7,BuildingTypeList,0))*Equipment!$O44,0)","v":0}]
[34,null,{"$f":"IF(Equipment!W45=\"x\",Equipment!C45,\"\")","v":""},null,null,null,{"$f":"IF(AND($C$6=\"Yes\",$C$7=\"Yes\",$C$8=\"Yes\",$C$9=\"Yes\",$C$10=\"Yes\",E49<>\"\"),IF(AND(Equipment!K45>=5,Equipment!K45<=10),2000,IF(AND(Equipment!K45>10,Equipment!K45<=15),2800,IF(AND(Equipment!K45>15,Equipment!K45<=20),4000,IF(AND(Equipment!K45>20),4500,IF(AND(Equipment!K45>0,Equipment!K45<5),500,0))))),0)","v":0},null,{"$f":"IF(AND($C$6=\"Yes\",$C$7=\"Yes\",$C$8=\"Yes\",$C$9=\"Yes\",$C$10=\"Yes\",E49<>\"\"),0.539*INDEX(OpHours,MATCH(Equipment!$C$7,BuildingTypeList,0))*Equipment!$O45,0)","v":0}]
[35,null,{"$f":"IF(Equipment!W46=\"x\",Equipment!C46,\"\")","v":""},null,null,null,{"$f":"IF(AND($C$6=\"Yes\",$C$7=\"Yes\",$C$8=\"Yes\",$C$9=\"Yes\",$C$10=\"Yes\",E50<>\"\"),IF(AND(Equipment!K46>=5,Equipment!K46<=10),2000,IF(AND(Equipment!K46>10,Equipment!K46<=15),2800,IF(AND(Equipment!K46>15,Equipment!K46<=20),4000,IF(AND(Equipment!K46>20),4500,IF(AND(Equipment!K46>0,Equipment!K46<5),500,0))))),0)","v":0},null,{"$f":"IF(AND($C$6=\"Yes\",$C$7=\"Yes\",$C$8=\"Yes\",$C$9=\"Yes\",$C$10=\"Yes\",E50<>\"\"),0.539*INDEX(OpHours,MATCH(Equipment!$C$7,BuildingTypeList,0))*Equipment!$O46,0)","v":0}]
[36,null,{"$f":"IF(Equipment!W47=\"x\",Equipment!C47,\"\")","v":""},null,null,null,{"$f":"IF(AND($C$6=\"Yes\",$C$7=\"Yes\",$C$8=\"Yes\",$C$9=\"Yes\",$C$10=\"Yes\",E51<>\"\"),IF(AND(Equipment!K47>=5,Equipment!K47<=10),2000,IF(AND(Equipment!K47>10,Equipment!K47<=15),2800,IF(AND(Equipment!K47>15,Equipment!K47<=20),4000,IF(AND(Equipment!K47>20),4500,IF(AND(Equipment!K47>0,Equipment!K47<5),500,0))))),0)","v":0},null,{"$f":"IF(AND($C$6=\"Yes\",$C$7=\"Yes\",$C$8=\"Yes\",$C$9=\"Yes\",$C$10=\"Yes\",E51<>\"\"),0.539*INDEX(OpHours,MATCH(Equipment!$C$7,BuildingTypeList,0))*Equipment!$O47,0)","v":0}]
[37,null,{"$f":"IF(Equipment!W48=\"x\",Equipment!C48,\"\")","v":""},null,null,null,{"$f":"IF(AND($C$6=\"Yes\",$C$7=\"Yes\",$C$8=\"Yes\",$C$9=\"Yes\",$C$10=\"Yes\",E52<>\"\"),IF(AND(Equipment!K48>=5,Equipment!K48<=10),2000,IF(AND(Equipment!K48>10,Equipment!K48<=15),2800,IF(AND(Equipment!K48>15,Equipment!K48<=20),4000,IF(AND(Equipment!K48>20),4500,IF(AND(Equipment!K48>0,Equipment!K48<5),500,0))))),0)","v":0},null,{"$f":"IF(AND($C$6=\"Yes\",$C$7=\"Yes\",$C$8=\"Yes\",$C$9=\"Yes\",$C$10=\"Yes\",E52<>\"\"),0.539*INDEX(OpHours,MATCH(Equipment!$C$7,BuildingTypeList,0))*Equipment!$O48,0)","v":0}]
[38,null,{"$f":"IF(Equipment!W49=\"x\",Equipment!C49,\"\")","v":""},null,null,null,{"$f":"IF(AND($C$6=\"Yes\",$C$7=\"Yes\",$C$8=\"Yes\",$C$9=\"Yes\",$C$10=\"Yes\",E53<>\"\"),IF(AND(Equipment!K49>=5,Equipment!K49<=10),2000,IF(AND(Equipment!K49>10,Equipment!K49<=15),2800,IF(AND(Equipment!K49>15,Equipment!K49<=20),4000,IF(AND(Equipment!K49>20),4500,IF(AND(Equipment!K49>0,Equipment!K49<5),500,0))))),0)","v":0},null,{"$f":"IF(AND($C$6=\"Yes\",$C$7=\"Yes\",$C$8=\"Yes\",$C$9=\"Yes\",$C$10=\"Yes\",E53<>\"\"),0.539*INDEX(OpHours,MATCH(Equipment!$C$7,BuildingTypeList,0))*Equipment!$O49,0)","v":0}]
[39,null,{"$f":"IF(Equipment!W50=\"x\",Equipment!C50,\"\")","v":""},null,null,null,{"$f":"IF(AND($C$6=\"Yes\",$C$7=\"Yes\",$C$8=\"Yes\",$C$9=\"Yes\",$C$10=\"Yes\",E54<>\"\"),IF(AND(Equipment!K50>=5,Equipment!K50<=10),2000,IF(AND(Equipment!K50>10,Equipment!K50<=15),2800,IF(AND(Equipment!K50>15,Equipment!K50<=20),4000,IF(AND(Equipment!K50>20),4500,IF(AND(Equipment!K50>0,Equipment!K50<5),500,0))))),0)","v":0},null,{"$f":"IF(AND($C$6=\"Yes\",$C$7=\"Yes\",$C$8=\"Yes\",$C$9=\"Yes\",$C$10=\"Yes\",E54<>\"\"),0.539*INDEX(OpHours,MATCH(Equipment!$C$7,BuildingTypeList,0))*Equipment!$O50,0)","v":0}]
[40,null,{"$f":"IF(Equipment!W51=\"x\",Equipment!C51,\"\")","v":""},null,null,null,{"$f":"IF(AND($C$6=\"Yes\",$C$7=\"Yes\",$C$8=\"Yes\",$C$9=\"Yes\",$C$10=\"Yes\",E55<>\"\"),IF(AND(Equipment!K51>=5,Equipment!K51<=10),2000,IF(AND(Equipment!K51>10,Equipment!K51<=15),2800,IF(AND(Equipment!K51>15,Equipment!K51<=20),4000,IF(AND(Equipment!K51>20),4500,IF(AND(Equipment!K51>0,Equipment!K51<5),500,0))))),0)","v":0},null,{"$f":"IF(AND($C$6=\"Yes\",$C$7=\"Yes\",$C$8=\"Yes\",$C$9=\"Yes\",$C$10=\"Yes\",E55<>\"\"),0.539*INDEX(OpHours,MATCH(Equipment!$C$7,BuildingTypeList,0))*Equipment!$O51,0)","v":0}]
[41,null,{"$f":"IF(Equipment!W52=\"x\",Equipment!C52,\"\")","v":""},null,null,null,{"$f":"IF(AND($C$6=\"Yes\",$C$7=\"Yes\",$C$8=\"Yes\",$C$9=\"Yes\",$C$10=\"Yes\",E56<>\"\"),IF(AND(Equipment!K52>=5,Equipment!K52<=10),2000,IF(AND(Equipment!K52>10,Equipment!K52<=15),2800,IF(AND(Equipment!K52>15,Equipment!K52<=20),4000,IF(AND(Equipment!K52>20),4500,IF(AND(Equipment!K52>0,Equipment!K52<5),500,0))))),0)","v":0},null,{"$f":"IF(AND($C$6=\"Yes\",$C$7=\"Yes\",$C$8=\"Yes\",$C$9=\"Yes\",$C$10=\"Yes\",E56<>\"\"),0.539*INDEX(OpHours,MATCH(Equipment!$C$7,BuildingTypeList,0))*Equipment!$O52,0)","v":0}]
[42,null,{"$f":"IF(Equipment!W53=\"x\",Equipment!C53,\"\")","v":""},null,null,null,{"$f":"IF(AND($C$6=\"Yes\",$C$7=\"Yes\",$C$8=\"Yes\",$C$9=\"Yes\",$C$10=\"Yes\",E57<>\"\"),IF(AND(Equipment!K53>=5,Equipment!K53<=10),2000,IF(AND(Equipment!K53>10,Equipment!K53<=15),2800,IF(AND(Equipment!K53>15,Equipment!K53<=20),4000,IF(AND(Equipment!K53>20),4500,IF(AND(Equipment!K53>0,Equipment!K53<5),500,0))))),0)","v":0},null,{"$f":"IF(AND($C$6=\"Yes\",$C$7=\"Yes\",$C$8=\"Yes\",$C$9=\"Yes\",$C$10=\"Yes\",E57<>\"\"),0.539*INDEX(OpHours,MATCH(Equipment!$C$7,BuildingTypeList,0))*Equipment!$O53,0)","v":0}]
[43,null,{"$f":"IF(Equipment!W54=\"x\",Equipment!C54,\"\")","v":""},null,null,null,{"$f":"IF(AND($C$6=\"Yes\",$C$7=\"Yes\",$C$8=\"Yes\",$C$9=\"Yes\",$C$10=\"Yes\",E58<>\"\"),IF(AND(Equipment!K54>=5,Equipment!K54<=10),2000,IF(AND(Equipment!K54>10,Equipment!K54<=15),2800,IF(AND(Equipment!K54>15,Equipment!K54<=20),4000,IF(AND(Equipment!K54>20),4500,IF(AND(Equipment!K54>0,Equipment!K54<5),500,0))))),0)","v":0},null,{"$f":"IF(AND($C$6=\"Yes\",$C$7=\"Yes\",$C$8=\"Yes\",$C$9=\"Yes\",$C$10=\"Yes\",E58<>\"\"),0.539*INDEX(OpHours,MATCH(Equipment!$C$7,BuildingTypeList,0))*Equipment!$O54,0)","v":0}]
[44,null,{"$f":"IF(Equipment!W55=\"x\",Equipment!C55,\"\")","v":""},null,null,null,{"$f":"IF(AND($C$6=\"Yes\",$C$7=\"Yes\",$C$8=\"Yes\",$C$9=\"Yes\",$C$10=\"Yes\",E59<>\"\"),IF(AND(Equipment!K55>=5,Equipment!K55<=10),2000,IF(AND(Equipment!K55>10,Equipment!K55<=15),2800,IF(AND(Equipment!K55>15,Equipment!K55<=20),4000,IF(AND(Equipment!K55>20),4500,IF(AND(Equipment!K55>0,Equipment!K55<5),500,0))))),0)","v":0},null,{"$f":"IF(AND($C$6=\"Yes\",$C$7=\"Yes\",$C$8=\"Yes\",$C$9=\"Yes\",$C$10=\"Yes\",E59<>\"\"),0.539*INDEX(OpHours,MATCH(Equipment!$C$7,BuildingTypeList,0))*Equipment!$O55,0)","v":0}]
[45,null,{"$f":"IF(Equipment!W56=\"x\",Equipment!C56,\"\")","v":""},null,null,null,{"$f":"IF(AND($C$6=\"Yes\",$C$7=\"Yes\",$C$8=\"Yes\",$C$9=\"Yes\",$C$10=\"Yes\",E60<>\"\"),IF(AND(Equipment!K56>=5,Equipment!K56<=10),2000,IF(AND(Equipment!K56>10,Equipment!K56<=15),2800,IF(AND(Equipment!K56>15,Equipment!K56<=20),4000,IF(AND(Equipment!K56>20),4500,IF(AND(Equipment!K56>0,Equipment!K56<5),500,0))))),0)","v":0},null,{"$f":"IF(AND($C$6=\"Yes\",$C$7=\"Yes\",$C$8=\"Yes\",$C$9=\"Yes\",$C$10=\"Yes\",E60<>\"\"),0.539*INDEX(OpHours,MATCH(Equipment!$C$7,BuildingTypeList,0))*Equipment!$O56,0)","v":0}]
[46,null,{"$f":"IF(Equipment!W57=\"x\",Equipment!C57,\"\")","v":""},null,null,null,{"$f":"IF(AND($C$6=\"Yes\",$C$7=\"Yes\",$C$8=\"Yes\",$C$9=\"Yes\",$C$10=\"Yes\",E61<>\"\"),IF(AND(Equipment!K57>=5,Equipment!K57<=10),2000,IF(AND(Equipment!K57>10,Equipment!K57<=15),2800,IF(AND(Equipment!K57>15,Equipment!K57<=20),4000,IF(AND(Equipment!K57>20),4500,IF(AND(Equipment!K57>0,Equipment!K57<5),500,0))))),0)","v":0},null,{"$f":"IF(AND($C$6=\"Yes\",$C$7=\"Yes\",$C$8=\"Yes\",$C$9=\"Yes\",$C$10=\"Yes\",E61<>\"\"),0.539*INDEX(OpHours,MATCH(Equipment!$C$7,BuildingTypeList,0))*Equipment!$O57,0)","v":0}]
[47,null,{"$f":"IF(Equipment!W58=\"x\",Equipment!C58,\"\")","v":""},null,null,null,{"$f":"IF(AND($C$6=\"Yes\",$C$7=\"Yes\",$C$8=\"Yes\",$C$9=\"Yes\",$C$10=\"Yes\",E62<>\"\"),IF(AND(Equipment!K58>=5,Equipment!K58<=10),2000,IF(AND(Equipment!K58>10,Equipment!K58<=15),2800,IF(AND(Equipment!K58>15,Equipment!K58<=20),4000,IF(AND(Equipment!K58>20),4500,IF(AND(Equipment!K58>0,Equipment!K58<5),500,0))))),0)","v":0},null,{"$f":"IF(AND($C$6=\"Yes\",$C$7=\"Yes\",$C$8=\"Yes\",$C$9=\"Yes\",$C$10=\"Yes\",E62<>\"\"),0.539*INDEX(OpHours,MATCH(Equipment!$C$7,BuildingTypeList,0))*Equipment!$O58,0)","v":0}]
[48,null,{"$f":"IF(Equipment!W59=\"x\",Equipment!C59,\"\")","v":""},null,null,null,{"$f":"IF(AND($C$6=\"Yes\",$C$7=\"Yes\",$C$8=\"Yes\",$C$9=\"Yes\",$C$10=\"Yes\",E63<>\"\"),IF(AND(Equipment!K59>=5,Equipment!K59<=10),2000,IF(AND(Equipment!K59>10,Equipment!K59<=15),2800,IF(AND(Equipment!K59>15,Equipment!K59<=20),4000,IF(AND(Equipment!K59>20),4500,IF(AND(Equipment!K59>0,Equipment!K59<5),500,0))))),0)","v":0},null,{"$f":"IF(AND($C$6=\"Yes\",$C$7=\"Yes\",$C$8=\"Yes\",$C$9=\"Yes\",$C$10=\"Yes\",E63<>\"\"),0.539*INDEX(OpHours,MATCH(Equipment!$C$7,BuildingTypeList,0))*Equipment!$O59,0)","v":0}]
[49,null,{"$f":"IF(Equipment!W60=\"x\",Equipment!C60,\"\")","v":""},null,null,null,{"$f":"IF(AND($C$6=\"Yes\",$C$7=\"Yes\",$C$8=\"Yes\",$C$9=\"Yes\",$C$10=\"Yes\",E64<>\"\"),IF(AND(Equipment!K60>=5,Equipment!K60<=10),2000,IF(AND(Equipment!K60>10,Equipment!K60<=15),2800,IF(AND(Equipment!K60>15,Equipment!K60<=20),4000,IF(AND(Equipment!K60>20),4500,IF(AND(Equipment!K60>0,Equipment!K60<5),500,0))))),0)","v":0},null,{"$f":"IF(AND($C$6=\"Yes\",$C$7=\"Yes\",$C$8=\"Yes\",$C$9=\"Yes\",$C$10=\"Yes\",E64<>\"\"),0.539*INDEX(OpHours,MATCH(Equipment!$C$7,BuildingTypeList,0))*Equipment!$O60,0)","v":0}]
[50,null,{"$f":"IF(Equipment!W61=\"x\",Equipment!C61,\"\")","v":""},null,null,null,{"$f":"IF(AND($C$6=\"Yes\",$C$7=\"Yes\",$C$8=\"Yes\",$C$9=\"Yes\",$C$10=\"Yes\",E65<>\"\"),IF(AND(Equipment!K61>=5,Equipment!K61<=10),2000,IF(AND(Equipment!K61>10,Equipment!K61<=15),2800,IF(AND(Equipment!K61>15,Equipment!K61<=20),4000,IF(AND(Equipment!K61>20),4500,IF(AND(Equipment!K61>0,Equipment!K61<5),500,0))))),0)","v":0},null,{"$f":"IF(AND($C$6=\"Yes\",$C$7=\"Yes\",$C$8=\"Yes\",$C$9=\"Yes\",$C$10=\"Yes\",E65<>\"\"),0.539*INDEX(OpHours,MATCH(Equipment!$C$7,BuildingTypeList,0))*Equipment!$O61,0)","v":0}]
[51,null,{"$f":"IF(Equipment!W62=\"x\",Equipment!C62,\"\")","v":""},null,null,null,{"$f":"IF(AND($C$6=\"Yes\",$C$7=\"Yes\",$C$8=\"Yes\",$C$9=\"Yes\",$C$10=\"Yes\",E66<>\"\"),IF(AND(Equipment!K62>=5,Equipment!K62<=10),2000,IF(AND(Equipment!K62>10,Equipment!K62<=15),2800,IF(AND(Equipment!K62>15,Equipment!K62<=20),4000,IF(AND(Equipment!K62>20),4500,IF(AND(Equipment!K62>0,Equipment!K62<5),500,0))))),0)","v":0},null,{"$f":"IF(AND($C$6=\"Yes\",$C$7=\"Yes\",$C$8=\"Yes\",$C$9=\"Yes\",$C$10=\"Yes\",E66<>\"\"),0.539*INDEX(OpHours,MATCH(Equipment!$C$7,BuildingTypeList,0))*Equipment!$O62,0)","v":0}]
[52,null,{"$f":"IF(Equipment!W63=\"x\",Equipment!C63,\"\")","v":""},null,null,null,{"$f":"IF(AND($C$6=\"Yes\",$C$7=\"Yes\",$C$8=\"Yes\",$C$9=\"Yes\",$C$10=\"Yes\",E67<>\"\"),IF(AND(Equipment!K63>=5,Equipment!K63<=10),2000,IF(AND(Equipment!K63>10,Equipment!K63<=15),2800,IF(AND(Equipment!K63>15,Equipment!K63<=20),4000,IF(AND(Equipment!K63>20),4500,IF(AND(Equipment!K63>0,Equipment!K63<5),500,0))))),0)","v":0},null,{"$f":"IF(AND($C$6=\"Yes\",$C$7=\"Yes\",$C$8=\"Yes\",$C$9=\"Yes\",$C$10=\"Yes\",E67<>\"\"),0.539*INDEX(OpHours,MATCH(Equipment!$C$7,BuildingTypeList,0))*Equipment!$O63,0)","v":0}]
[53,null,{"$f":"IF(Equipment!W64=\"x\",Equipment!C64,\"\")","v":""},null,null,null,{"$f":"IF(AND($C$6=\"Yes\",$C$7=\"Yes\",$C$8=\"Yes\",$C$9=\"Yes\",$C$10=\"Yes\",E68<>\"\"),IF(AND(Equipment!K64>=5,Equipment!K64<=10),2000,IF(AND(Equipment!K64>10,Equipment!K64<=15),2800,IF(AND(Equipment!K64>15,Equipment!K64<=20),4000,IF(AND(Equipment!K64>20),4500,IF(AND(Equipment!K64>0,Equipment!K64<5),500,0))))),0)","v":0},null,{"$f":"IF(AND($C$6=\"Yes\",$C$7=\"Yes\",$C$8=\"Yes\",$C$9=\"Yes\",$C$10=\"Yes\",E68<>\"\"),0.539*INDEX(OpHours,MATCH(Equipment!$C$7,BuildingTypeList,0))*Equipment!$O64,0)","v":0}]
[54,null,{"$f":"IF(Equipment!W65=\"x\",Equipment!C65,\"\")","v":""},null,null,null,{"$f":"IF(AND($C$6=\"Yes\",$C$7=\"Yes\",$C$8=\"Yes\",$C$9=\"Yes\",$C$10=\"Yes\",E69<>\"\"),IF(AND(Equipment!K65>=5,Equipment!K65<=10),2000,IF(AND(Equipment!K65>10,Equipment!K65<=15),2800,IF(AND(Equipment!K65>15,Equipment!K65<=20),4000,IF(AND(Equipment!K65>20),4500,IF(AND(Equipment!K65>0,Equipment!K65<5),500,0))))),0)","v":0},null,{"$f":"IF(AND($C$6=\"Yes\",$C$7=\"Yes\",$C$8=\"Yes\",$C$9=\"Yes\",$C$10=\"Yes\",E69<>\"\"),0.539*INDEX(OpHours,MATCH(Equipment!$C$7,BuildingTypeList,0))*Equipment!$O65,0)","v":0}]
[55,null,{"$f":"IF(Equipment!W66=\"x\",Equipment!C66,\"\")","v":""},null,null,null,{"$f":"IF(AND($C$6=\"Yes\",$C$7=\"Yes\",$C$8=\"Yes\",$C$9=\"Yes\",$C$10=\"Yes\",E70<>\"\"),IF(AND(Equipment!K66>=5,Equipment!K66<=10),2000,IF(AND(Equipment!K66>10,Equipment!K66<=15),2800,IF(AND(Equipment!K66>15,Equipment!K66<=20),4000,IF(AND(Equipment!K66>20),4500,IF(AND(Equipment!K66>0,Equipment!K66<5),500,0))))),0)","v":0},null,{"$f":"IF(AND($C$6=\"Yes\",$C$7=\"Yes\",$C$8=\"Yes\",$C$9=\"Yes\",$C$10=\"Yes\",E70<>\"\"),0.539*INDEX(OpHours,MATCH(Equipment!$C$7,BuildingTypeList,0))*Equipment!$O66,0)","v":0}]
[56,null,{"$f":"IF(Equipment!W67=\"x\",Equipment!C67,\"\")","v":""},null,null,null,{"$f":"IF(AND($C$6=\"Yes\",$C$7=\"Yes\",$C$8=\"Yes\",$C$9=\"Yes\",$C$10=\"Yes\",E71<>\"\"),IF(AND(Equipment!K67>=5,Equipment!K67<=10),2000,IF(AND(Equipment!K67>10,Equipment!K67<=15),2800,IF(AND(Equipment!K67>15,Equipment!K67<=20),4000,IF(AND(Equipment!K67>20),4500,IF(AND(Equipment!K67>0,Equipment!K67<5),500,0))))),0)","v":0},null,{"$f":"IF(AND($C$6=\"Yes\",$C$7=\"Yes\",$C$8=\"Yes\",$C$9=\"Yes\",$C$10=\"Yes\",E71<>\"\"),0.539*INDEX(OpHours,MATCH(Equipment!$C$7,BuildingTypeList,0))*Equipment!$O67,0)","v":0}]
[57,null,{"$f":"IF(Equipment!W68=\"x\",Equipment!C68,\"\")","v":""},null,null,null,{"$f":"IF(AND($C$6=\"Yes\",$C$7=\"Yes\",$C$8=\"Yes\",$C$9=\"Yes\",$C$10=\"Yes\",E72<>\"\"),IF(AND(Equipment!K68>=5,Equipment!K68<=10),2000,IF(AND(Equipment!K68>10,Equipment!K68<=15),2800,IF(AND(Equipment!K68>15,Equipment!K68<=20),4000,IF(AND(Equipment!K68>20),4500,IF(AND(Equipment!K68>0,Equipment!K68<5),500,0))))),0)","v":0},null,{"$f":"IF(AND($C$6=\"Yes\",$C$7=\"Yes\",$C$8=\"Yes\",$C$9=\"Yes\",$C$10=\"Yes\",E72<>\"\"),0.539*INDEX(OpHours,MATCH(Equipment!$C$7,BuildingTypeList,0))*Equipment!$O68,0)","v":0}]
[58,null,{"$f":"IF(Equipment!W69=\"x\",Equipment!C69,\"\")","v":""},null,null,null,{"$f":"IF(AND($C$6=\"Yes\",$C$7=\"Yes\",$C$8=\"Yes\",$C$9=\"Yes\",$C$10=\"Yes\",E73<>\"\"),IF(AND(Equipment!K69>=5,Equipment!K69<=10),2000,IF(AND(Equipment!K69>10,Equipment!K69<=15),2800,IF(AND(Equipment!K69>15,Equipment!K69<=20),4000,IF(AND(Equipment!K69>20),4500,IF(AND(Equipment!K69>0,Equipment!K69<5),500,0))))),0)","v":0},null,{"$f":"IF(AND($C$6=\"Yes\",$C$7=\"Yes\",$C$8=\"Yes\",$C$9=\"Yes\",$C$10=\"Yes\",E73<>\"\"),0.539*INDEX(OpHours,MATCH(Equipment!$C$7,BuildingTypeList,0))*Equipment!$O69,0)","v":0}]
[59,null,{"$f":"IF(Equipment!W70=\"x\",Equipment!C70,\"\")","v":""},null,null,null,{"$f":"IF(AND($C$6=\"Yes\",$C$7=\"Yes\",$C$8=\"Yes\",$C$9=\"Yes\",$C$10=\"Yes\",E74<>\"\"),IF(AND(Equipment!K70>=5,Equipment!K70<=10),2000,IF(AND(Equipment!K70>10,Equipment!K70<=15),2800,IF(AND(Equipment!K70>15,Equipment!K70<=20),4000,IF(AND(Equipment!K70>20),4500,IF(AND(Equipment!K70>0,Equipment!K70<5),500,0))))),0)","v":0},null,{"$f":"IF(AND($C$6=\"Yes\",$C$7=\"Yes\",$C$8=\"Yes\",$C$9=\"Yes\",$C$10=\"Yes\",E74<>\"\"),0.539*INDEX(OpHours,MATCH(Equipment!$C$7,BuildingTypeList,0))*Equipment!$O70,0)","v":0}]
[60,null,{"$f":"IF(Equipment!W71=\"x\",Equipment!C71,\"\")","v":""},null,null,null,{"$f":"IF(AND($C$6=\"Yes\",$C$7=\"Yes\",$C$8=\"Yes\",$C$9=\"Yes\",$C$10=\"Yes\",E75<>\"\"),IF(AND(Equipment!K71>=5,Equipment!K71<=10),2000,IF(AND(Equipment!K71>10,Equipment!K71<=15),2800,IF(AND(Equipment!K71>15,Equipment!K71<=20),4000,IF(AND(Equipment!K71>20),4500,IF(AND(Equipment!K71>0,Equipment!K71<5),500,0))))),0)","v":0},null,{"$f":"IF(AND($C$6=\"Yes\",$C$7=\"Yes\",$C$8=\"Yes\",$C$9=\"Yes\",$C$10=\"Yes\",E75<>\"\"),0.539*INDEX(OpHours,MATCH(Equipment!$C$7,BuildingTypeList,0))*Equipment!$O71,0)","v":0}]
[61,null,{"$f":"IF(Equipment!W72=\"x\",Equipment!C72,\"\")","v":""},null,null,null,{"$f":"IF(AND($C$6=\"Yes\",$C$7=\"Yes\",$C$8=\"Yes\",$C$9=\"Yes\",$C$10=\"Yes\",E76<>\"\"),IF(AND(Equipment!K72>=5,Equipment!K72<=10),2000,IF(AND(Equipment!K72>10,Equipment!K72<=15),2800,IF(AND(Equipment!K72>15,Equipment!K72<=20),4000,IF(AND(Equipment!K72>20),4500,IF(AND(Equipment!K72>0,Equipment!K72<5),500,0))))),0)","v":0},null,{"$f":"IF(AND($C$6=\"Yes\",$C$7=\"Yes\",$C$8=\"Yes\",$C$9=\"Yes\",$C$10=\"Yes\",E76<>\"\"),0.539*INDEX(OpHours,MATCH(Equipment!$C$7,BuildingTypeList,0))*Equipment!$O72,0)","v":0}]
[62,null,{"$f":"IF(Equipment!W73=\"x\",Equipment!C73,\"\")","v":""},null,null,null,{"$f":"IF(AND($C$6=\"Yes\",$C$7=\"Yes\",$C$8=\"Yes\",$C$9=\"Yes\",$C$10=\"Yes\",E77<>\"\"),IF(AND(Equipment!K73>=5,Equipment!K73<=10),2000,IF(AND(Equipment!K73>10,Equipment!K73<=15),2800,IF(AND(Equipment!K73>15,Equipment!K73<=20),4000,IF(AND(Equipment!K73>20),4500,IF(AND(Equipment!K73>0,Equipment!K73<5),500,0))))),0)","v":0},null,{"$f":"IF(AND($C$6=\"Yes\",$C$7=\"Yes\",$C$8=\"Yes\",$C$9=\"Yes\",$C$10=\"Yes\",E77<>\"\"),0.539*INDEX(OpHours,MATCH(Equipment!$C$7,BuildingTypeList,0))*Equipment!$O73,0)","v":0}]
[63,null,{"$f":"IF(Equipment!W74=\"x\",Equipment!C74,\"\")","v":""},null,null,null,{"$f":"IF(AND($C$6=\"Yes\",$C$7=\"Yes\",$C$8=\"Yes\",$C$9=\"Yes\",$C$10=\"Yes\",E78<>\"\"),IF(AND(Equipment!K74>=5,Equipment!K74<=10),2000,IF(AND(Equipment!K74>10,Equipment!K74<=15),2800,IF(AND(Equipment!K74>15,Equipment!K74<=20),4000,IF(AND(Equipment!K74>20),4500,IF(AND(Equipment!K74>0,Equipment!K74<5),500,0))))),0)","v":0},null,{"$f":"IF(AND($C$6=\"Yes\",$C$7=\"Yes\",$C$8=\"Yes\",$C$9=\"Yes\",$C$10=\"Yes\",E78<>\"\"),0.539*INDEX(OpHours,MATCH(Equipment!$C$7,BuildingTypeList,0))*Equipment!$O74,0)","v":0}]
[64,null,{"$f":"IF(Equipment!W75=\"x\",Equipment!C75,\"\")","v":""},null,null,null,{"$f":"IF(AND($C$6=\"Yes\",$C$7=\"Yes\",$C$8=\"Yes\",$C$9=\"Yes\",$C$10=\"Yes\",E79<>\"\"),IF(AND(Equipment!K75>=5,Equipment!K75<=10),2000,IF(AND(Equipment!K75>10,Equipment!K75<=15),2800,IF(AND(Equipment!K75>15,Equipment!K75<=20),4000,IF(AND(Equipment!K75>20),4500,IF(AND(Equipment!K75>0,Equipment!K75<5),500,0))))),0)","v":0},null,{"$f":"IF(AND($C$6=\"Yes\",$C$7=\"Yes\",$C$8=\"Yes\",$C$9=\"Yes\",$C$10=\"Yes\",E79<>\"\"),0.539*INDEX(OpHours,MATCH(Equipment!$C$7,BuildingTypeList,0))*Equipment!$O75,0)","v":0}]
[65,null,{"$f":"IF(Equipment!W76=\"x\",Equipment!C76,\"\")","v":""},null,null,null,{"$f":"IF(AND($C$6=\"Yes\",$C$7=\"Yes\",$C$8=\"Yes\",$C$9=\"Yes\",$C$10=\"Yes\",E80<>\"\"),IF(AND(Equipment!K76>=5,Equipment!K76<=10),2000,IF(AND(Equipment!K76>10,Equipment!K76<=15),2800,IF(AND(Equipment!K76>15,Equipment!K76<=20),4000,IF(AND(Equipment!K76>20),4500,IF(AND(Equipment!K76>0,Equipment!K76<5),500,0))))),0)","v":0},null,{"$f":"IF(AND($C$6=\"Yes\",$C$7=\"Yes\",$C$8=\"Yes\",$C$9=\"Yes\",$C$10=\"Yes\",E80<>\"\"),0.539*INDEX(OpHours,MATCH(Equipment!$C$7,BuildingTypeList,0))*Equipment!$O76,0)","v":0}]
[66,null,{"$f":"IF(Equipment!W77=\"x\",Equipment!C77,\"\")","v":""},null,null,null,{"$f":"IF(AND($C$6=\"Yes\",$C$7=\"Yes\",$C$8=\"Yes\",$C$9=\"Yes\",$C$10=\"Yes\",E81<>\"\"),IF(AND(Equipment!K77>=5,Equipment!K77<=10),2000,IF(AND(Equipment!K77>10,Equipment!K77<=15),2800,IF(AND(Equipment!K77>15,Equipment!K77<=20),4000,IF(AND(Equipment!K77>20),4500,IF(AND(Equipment!K77>0,Equipment!K77<5),500,0))))),0)","v":0},null,{"$f":"IF(AND($C$6=\"Yes\",$C$7=\"Yes\",$C$8=\"Yes\",$C$9=\"Yes\",$C$10=\"Yes\",E81<>\"\"),0.539*INDEX(OpHours,MATCH(Equipment!$C$7,BuildingTypeList,0))*Equipment!$O77,0)","v":0}]
[67,null,{"$f":"IF(Equipment!W78=\"x\",Equipment!C78,\"\")","v":""},null,null,null,{"$f":"IF(AND($C$6=\"Yes\",$C$7=\"Yes\",$C$8=\"Yes\",$C$9=\"Yes\",$C$10=\"Yes\",E82<>\"\"),IF(AND(Equipment!K78>=5,Equipment!K78<=10),2000,IF(AND(Equipment!K78>10,Equipment!K78<=15),2800,IF(AND(Equipment!K78>15,Equipment!K78<=20),4000,IF(AND(Equipment!K78>20),4500,IF(AND(Equipment!K78>0,Equipment!K78<5),500,0))))),0)","v":0},null,{"$f":"IF(AND($C$6=\"Yes\",$C$7=\"Yes\",$C$8=\"Yes\",$C$9=\"Yes\",$C$10=\"Yes\",E82<>\"\"),0.539*INDEX(OpHours,MATCH(Equipment!$C$7,BuildingTypeList,0))*Equipment!$O78,0)","v":0}]
[68,null,{"$f":"IF(Equipment!W79=\"x\",Equipment!C79,\"\")","v":""},null,null,null,{"$f":"IF(AND($C$6=\"Yes\",$C$7=\"Yes\",$C$8=\"Yes\",$C$9=\"Yes\",$C$10=\"Yes\",E83<>\"\"),IF(AND(Equipment!K79>=5,Equipment!K79<=10),2000,IF(AND(Equipment!K79>10,Equipment!K79<=15),2800,IF(AND(Equipment!K79>15,Equipment!K79<=20),4000,IF(AND(Equipment!K79>20),4500,IF(AND(Equipment!K79>0,Equipment!K79<5),500,0))))),0)","v":0},null,{"$f":"IF(AND($C$6=\"Yes\",$C$7=\"Yes\",$C$8=\"Yes\",$C$9=\"Yes\",$C$10=\"Yes\",E83<>\"\"),0.539*INDEX(OpHours,MATCH(Equipment!$C$7,BuildingTypeList,0))*Equipment!$O79,0)","v":0}]
[69,null,{"$f":"IF(Equipment!W80=\"x\",Equipment!C80,\"\")","v":""},null,null,null,{"$f":"IF(AND($C$6=\"Yes\",$C$7=\"Yes\",$C$8=\"Yes\",$C$9=\"Yes\",$C$10=\"Yes\",E84<>\"\"),IF(AND(Equipment!K80>=5,Equipment!K80<=10),2000,IF(AND(Equipment!K80>10,Equipment!K80<=15),2800,IF(AND(Equipment!K80>15,Equipment!K80<=20),4000,IF(AND(Equipment!K80>20),4500,IF(AND(Equipment!K80>0,Equipment!K80<5),500,0))))),0)","v":0},null,{"$f":"IF(AND($C$6=\"Yes\",$C$7=\"Yes\",$C$8=\"Yes\",$C$9=\"Yes\",$C$10=\"Yes\",E84<>\"\"),0.539*INDEX(OpHours,MATCH(Equipment!$C$7,BuildingTypeList,0))*Equipment!$O80,0)","v":0}]
[70,null,{"$f":"IF(Equipment!W81=\"x\",Equipment!C81,\"\")","v":""},null,null,null,{"$f":"IF(AND($C$6=\"Yes\",$C$7=\"Yes\",$C$8=\"Yes\",$C$9=\"Yes\",$C$10=\"Yes\",E85<>\"\"),IF(AND(Equipment!K81>=5,Equipment!K81<=10),2000,IF(AND(Equipment!K81>10,Equipment!K81<=15),2800,IF(AND(Equipment!K81>15,Equipment!K81<=20),4000,IF(AND(Equipment!K81>20),4500,IF(AND(Equipment!K81>0,Equipment!K81<5),500,0))))),0)","v":0},null,{"$f":"IF(AND($C$6=\"Yes\",$C$7=\"Yes\",$C$8=\"Yes\",$C$9=\"Yes\",$C$10=\"Yes\",E85<>\"\"),0.539*INDEX(OpHours,MATCH(Equipment!$C$7,BuildingTypeList,0))*Equipment!$O81,0)","v":0}]
[71,null,{"$f":"IF(Equipment!W82=\"x\",Equipment!C82,\"\")","v":""},null,null,null,{"$f":"IF(AND($C$6=\"Yes\",$C$7=\"Yes\",$C$8=\"Yes\",$C$9=\"Yes\",$C$10=\"Yes\",E86<>\"\"),IF(AND(Equipment!K82>=5,Equipment!K82<=10),2000,IF(AND(Equipment!K82>10,Equipment!K82<=15),2800,IF(AND(Equipment!K82>15,Equipment!K82<=20),4000,IF(AND(Equipment!K82>20),4500,IF(AND(Equipment!K82>0,Equipment!K82<5),500,0))))),0)","v":0},null,{"$f":"IF(AND($C$6=\"Yes\",$C$7=\"Yes\",$C$8=\"Yes\",$C$9=\"Yes\",$C$10=\"Yes\",E86<>\"\"),0.539*INDEX(OpHours,MATCH(Equipment!$C$7,BuildingTypeList,0))*Equipment!$O82,0)","v":0}]
[72,null,{"$f":"IF(Equipment!W83=\"x\",Equipment!C83,\"\")","v":""},null,null,null,{"$f":"IF(AND($C$6=\"Yes\",$C$7=\"Yes\",$C$8=\"Yes\",$C$9=\"Yes\",$C$10=\"Yes\",E87<>\"\"),IF(AND(Equipment!K83>=5,Equipment!K83<=10),2000,IF(AND(Equipment!K83>10,Equipment!K83<=15),2800,IF(AND(Equipment!K83>15,Equipment!K83<=20),4000,IF(AND(Equipment!K83>20),4500,IF(AND(Equipment!K83>0,Equipment!K83<5),500,0))))),0)","v":0},null,{"$f":"IF(AND($C$6=\"Yes\",$C$7=\"Yes\",$C$8=\"Yes\",$C$9=\"Yes\",$C$10=\"Yes\",E87<>\"\"),0.539*INDEX(OpHours,MATCH(Equipment!$C$7,BuildingTypeList,0))*Equipment!$O83,0)","v":0}]
[73,null,{"$f":"IF(Equipment!W84=\"x\",Equipment!C84,\"\")","v":""},null,null,null,{"$f":"IF(AND($C$6=\"Yes\",$C$7=\"Yes\",$C$8=\"Yes\",$C$9=\"Yes\",$C$10=\"Yes\",E88<>\"\"),IF(AND(Equipment!K84>=5,Equipment!K84<=10),2000,IF(AND(Equipment!K84>10,Equipment!K84<=15),2800,IF(AND(Equipment!K84>15,Equipment!K84<=20),4000,IF(AND(Equipment!K84>20),4500,IF(AND(Equipment!K84>0,Equipment!K84<5),500,0))))),0)","v":0},null,{"$f":"IF(AND($C$6=\"Yes\",$C$7=\"Yes\",$C$8=\"Yes\",$C$9=\"Yes\",$C$10=\"Yes\",E88<>\"\"),0.539*INDEX(OpHours,MATCH(Equipment!$C$7,BuildingTypeList,0))*Equipment!$O84,0)","v":0}]
[74,null,{"$f":"IF(Equipment!W85=\"x\",Equipment!C85,\"\")","v":""},null,null,null,{"$f":"IF(AND($C$6=\"Yes\",$C$7=\"Yes\",$C$8=\"Yes\",$C$9=\"Yes\",$C$10=\"Yes\",E89<>\"\"),IF(AND(Equipment!K85>=5,Equipment!K85<=10),2000,IF(AND(Equipment!K85>10,Equipment!K85<=15),2800,IF(AND(Equipment!K85>15,Equipment!K85<=20),4000,IF(AND(Equipment!K85>20),4500,IF(AND(Equipment!K85>0,Equipment!K85<5),500,0))))),0)","v":0},null,{"$f":"IF(AND($C$6=\"Yes\",$C$7=\"Yes\",$C$8=\"Yes\",$C$9=\"Yes\",$C$10=\"Yes\",E89<>\"\"),0.539*INDEX(OpHours,MATCH(Equipment!$C$7,BuildingTypeList,0))*Equipment!$O85,0)","v":0}]
[75,null,{"$f":"IF(Equipment!W86=\"x\",Equipment!C86,\"\")","v":""},null,null,null,{"$f":"IF(AND($C$6=\"Yes\",$C$7=\"Yes\",$C$8=\"Yes\",$C$9=\"Yes\",$C$10=\"Yes\",E90<>\"\"),IF(AND(Equipment!K86>=5,Equipment!K86<=10),2000,IF(AND(Equipment!K86>10,Equipment!K86<=15),2800,IF(AND(Equipment!K86>15,Equipment!K86<=20),4000,IF(AND(Equipment!K86>20),4500,IF(AND(Equipment!K86>0,Equipment!K86<5),500,0))))),0)","v":0},null,{"$f":"IF(AND($C$6=\"Yes\",$C$7=\"Yes\",$C$8=\"Yes\",$C$9=\"Yes\",$C$10=\"Yes\",E90<>\"\"),0.539*INDEX(OpHours,MATCH(Equipment!$C$7,BuildingTypeList,0))*Equipment!$O86,0)","v":0}]
[76,null,{"$f":"IF(Equipment!W87=\"x\",Equipment!C87,\"\")","v":""},null,null,null,{"$f":"IF(AND($C$6=\"Yes\",$C$7=\"Yes\",$C$8=\"Yes\",$C$9=\"Yes\",$C$10=\"Yes\",E91<>\"\"),IF(AND(Equipment!K87>=5,Equipment!K87<=10),2000,IF(AND(Equipment!K87>10,Equipment!K87<=15),2800,IF(AND(Equipment!K87>15,Equipment!K87<=20),4000,IF(AND(Equipment!K87>20),4500,IF(AND(Equipment!K87>0,Equipment!K87<5),500,0))))),0)","v":0},null,{"$f":"IF(AND($C$6=\"Yes\",$C$7=\"Yes\",$C$8=\"Yes\",$C$9=\"Yes\",$C$10=\"Yes\",E91<>\"\"),0.539*INDEX(OpHours,MATCH(Equipment!$C$7,BuildingTypeList,0))*Equipment!$O87,0)","v":0}]
[77,null,{"$f":"IF(Equipment!W88=\"x\",Equipment!C88,\"\")","v":""},null,null,null,{"$f":"IF(AND($C$6=\"Yes\",$C$7=\"Yes\",$C$8=\"Yes\",$C$9=\"Yes\",$C$10=\"Yes\",E92<>\"\"),IF(AND(Equipment!K88>=5,Equipment!K88<=10),2000,IF(AND(Equipment!K88>10,Equipment!K88<=15),2800,IF(AND(Equipment!K88>15,Equipment!K88<=20),4000,IF(AND(Equipment!K88>20),4500,IF(AND(Equipment!K88>0,Equipment!K88<5),500,0))))),0)","v":0},null,{"$f":"IF(AND($C$6=\"Yes\",$C$7=\"Yes\",$C$8=\"Yes\",$C$9=\"Yes\",$C$10=\"Yes\",E92<>\"\"),0.539*INDEX(OpHours,MATCH(Equipment!$C$7,BuildingTypeList,0))*Equipment!$O88,0)","v":0}]
[78,null,{"$f":"IF(Equipment!W89=\"x\",Equipment!C89,\"\")","v":""},null,null,null,{"$f":"IF(AND($C$6=\"Yes\",$C$7=\"Yes\",$C$8=\"Yes\",$C$9=\"Yes\",$C$10=\"Yes\",E93<>\"\"),IF(AND(Equipment!K89>=5,Equipment!K89<=10),2000,IF(AND(Equipment!K89>10,Equipment!K89<=15),2800,IF(AND(Equipment!K89>15,Equipment!K89<=20),4000,IF(AND(Equipment!K89>20),4500,IF(AND(Equipment!K89>0,Equipment!K89<5),500,0))))),0)","v":0},null,{"$f":"IF(AND($C$6=\"Yes\",$C$7=\"Yes\",$C$8=\"Yes\",$C$9=\"Yes\",$C$10=\"Yes\",E93<>\"\"),0.539*INDEX(OpHours,MATCH(Equipment!$C$7,BuildingTypeList,0))*Equipment!$O89,0)","v":0}]
[79,null,{"$f":"IF(Equipment!W90=\"x\",Equipment!C90,\"\")","v":""},null,null,null,{"$f":"IF(AND($C$6=\"Yes\",$C$7=\"Yes\",$C$8=\"Yes\",$C$9=\"Yes\",$C$10=\"Yes\",E94<>\"\"),IF(AND(Equipment!K90>=5,Equipment!K90<=10),2000,IF(AND(Equipment!K90>10,Equipment!K90<=15),2800,IF(AND(Equipment!K90>15,Equipment!K90<=20),4000,IF(AND(Equipment!K90>20),4500,IF(AND(Equipment!K90>0,Equipment!K90<5),500,0))))),0)","v":0},null,{"$f":"IF(AND($C$6=\"Yes\",$C$7=\"Yes\",$C$8=\"Yes\",$C$9=\"Yes\",$C$10=\"Yes\",E94<>\"\"),0.539*INDEX(OpHours,MATCH(Equipment!$C$7,BuildingTypeList,0))*Equipment!$O90,0)","v":0}]
[80,null,{"$f":"IF(Equipment!W91=\"x\",Equipment!C91,\"\")","v":""},null,null,null,{"$f":"IF(AND($C$6=\"Yes\",$C$7=\"Yes\",$C$8=\"Yes\",$C$9=\"Yes\",$C$10=\"Yes\",E95<>\"\"),IF(AND(Equipment!K91>=5,Equipment!K91<=10),2000,IF(AND(Equipment!K91>10,Equipment!K91<=15),2800,IF(AND(Equipment!K91>15,Equipment!K91<=20),4000,IF(AND(Equipment!K91>20),4500,IF(AND(Equipment!K91>0,Equipment!K91<5),500,0))))),0)","v":0},null,{"$f":"IF(AND($C$6=\"Yes\",$C$7=\"Yes\",$C$8=\"Yes\",$C$9=\"Yes\",$C$10=\"Yes\",E95<>\"\"),0.539*INDEX(OpHours,MATCH(Equipment!$C$7,BuildingTypeList,0))*Equipment!$O91,0)","v":0}]
[81,null,{"$f":"IF(Equipment!W92=\"x\",Equipment!C92,\"\")","v":""},null,null,null,{"$f":"IF(AND($C$6=\"Yes\",$C$7=\"Yes\",$C$8=\"Yes\",$C$9=\"Yes\",$C$10=\"Yes\",E96<>\"\"),IF(AND(Equipment!K92>=5,Equipment!K92<=10),2000,IF(AND(Equipment!K92>10,Equipment!K92<=15),2800,IF(AND(Equipment!K92>15,Equipment!K92<=20),4000,IF(AND(Equipment!K92>20),4500,IF(AND(Equipment!K92>0,Equipment!K92<5),500,0))))),0)","v":0},null,{"$f":"IF(AND($C$6=\"Yes\",$C$7=\"Yes\",$C$8=\"Yes\",$C$9=\"Yes\",$C$10=\"Yes\",E96<>\"\"),0.539*INDEX(OpHours,MATCH(Equipment!$C$7,BuildingTypeList,0))*Equipment!$O92,0)","v":0}]
[82,null,{"$f":"IF(Equipment!W93=\"x\",Equipment!C93,\"\")","v":""},null,null,null,{"$f":"IF(AND($C$6=\"Yes\",$C$7=\"Yes\",$C$8=\"Yes\",$C$9=\"Yes\",$C$10=\"Yes\",E97<>\"\"),IF(AND(Equipment!K93>=5,Equipment!K93<=10),2000,IF(AND(Equipment!K93>10,Equipment!K93<=15),2800,IF(AND(Equipment!K93>15,Equipment!K93<=20),4000,IF(AND(Equipment!K93>20),4500,IF(AND(Equipment!K93>0,Equipment!K93<5),500,0))))),0)","v":0},null,{"$f":"IF(AND($C$6=\"Yes\",$C$7=\"Yes\",$C$8=\"Yes\",$C$9=\"Yes\",$C$10=\"Yes\",E97<>\"\"),0.539*INDEX(OpHours,MATCH(Equipment!$C$7,BuildingTypeList,0))*Equipment!$O93,0)","v":0}]
[83,null,{"$f":"IF(Equipment!W94=\"x\",Equipment!C94,\"\")","v":""},null,null,null,{"$f":"IF(AND($C$6=\"Yes\",$C$7=\"Yes\",$C$8=\"Yes\",$C$9=\"Yes\",$C$10=\"Yes\",E98<>\"\"),IF(AND(Equipment!K94>=5,Equipment!K94<=10),2000,IF(AND(Equipment!K94>10,Equipment!K94<=15),2800,IF(AND(Equipment!K94>15,Equipment!K94<=20),4000,IF(AND(Equipment!K94>20),4500,IF(AND(Equipment!K94>0,Equipment!K94<5),500,0))))),0)","v":0},null,{"$f":"IF(AND($C$6=\"Yes\",$C$7=\"Yes\",$C$8=\"Yes\",$C$9=\"Yes\",$C$10=\"Yes\",E98<>\"\"),0.539*INDEX(OpHours,MATCH(Equipment!$C$7,BuildingTypeList,0))*Equipment!$O94,0)","v":0}]
[84,null,{"$f":"IF(Equipment!W95=\"x\",Equipment!C95,\"\")","v":""},null,null,null,{"$f":"IF(AND($C$6=\"Yes\",$C$7=\"Yes\",$C$8=\"Yes\",$C$9=\"Yes\",$C$10=\"Yes\",E99<>\"\"),IF(AND(Equipment!K95>=5,Equipment!K95<=10),2000,IF(AND(Equipment!K95>10,Equipment!K95<=15),2800,IF(AND(Equipment!K95>15,Equipment!K95<=20),4000,IF(AND(Equipment!K95>20),4500,IF(AND(Equipment!K95>0,Equipment!K95<5),500,0))))),0)","v":0},null,{"$f":"IF(AND($C$6=\"Yes\",$C$7=\"Yes\",$C$8=\"Yes\",$C$9=\"Yes\",$C$10=\"Yes\",E99<>\"\"),0.539*INDEX(OpHours,MATCH(Equipment!$C$7,BuildingTypeList,0))*Equipment!$O95,0)","v":0}]
[85,null,{"$f":"IF(Equipment!W96=\"x\",Equipment!C96,\"\")","v":""},null,null,null,{"$f":"IF(AND($C$6=\"Yes\",$C$7=\"Yes\",$C$8=\"Yes\",$C$9=\"Yes\",$C$10=\"Yes\",E100<>\"\"),IF(AND(Equipment!K96>=5,Equipment!K96<=10),2000,IF(AND(Equipment!K96>10,Equipment!K96<=15),2800,IF(AND(Equipment!K96>15,Equipment!K96<=20),4000,IF(AND(Equipment!K96>20),4500,IF(AND(Equipment!K96>0,Equipment!K96<5),500,0))))),0)","v":0},null,{"$f":"IF(AND($C$6=\"Yes\",$C$7=\"Yes\",$C$8=\"Yes\",$C$9=\"Yes\",$C$10=\"Yes\",E100<>\"\"),0.539*INDEX(OpHours,MATCH(Equipment!$C$7,BuildingTypeList,0))*Equipment!$O96,0)","v":0}]
[86,null,{"$f":"IF(Equipment!W97=\"x\",Equipment!C97,\"\")","v":""},null,null,null,{"$f":"IF(AND($C$6=\"Yes\",$C$7=\"Yes\",$C$8=\"Yes\",$C$9=\"Yes\",$C$10=\"Yes\",E101<>\"\"),IF(AND(Equipment!K97>=5,Equipment!K97<=10),2000,IF(AND(Equipment!K97>10,Equipment!K97<=15),2800,IF(AND(Equipment!K97>15,Equipment!K97<=20),4000,IF(AND(Equipment!K97>20),4500,IF(AND(Equipment!K97>0,Equipment!K97<5),500,0))))),0)","v":0},null,{"$f":"IF(AND($C$6=\"Yes\",$C$7=\"Yes\",$C$8=\"Yes\",$C$9=\"Yes\",$C$10=\"Yes\",E101<>\"\"),0.539*INDEX(OpHours,MATCH(Equipment!$C$7,BuildingTypeList,0))*Equipment!$O97,0)","v":0}]
[87,null,{"$f":"IF(Equipment!W98=\"x\",Equipment!C98,\"\")","v":""},null,null,null,{"$f":"IF(AND($C$6=\"Yes\",$C$7=\"Yes\",$C$8=\"Yes\",$C$9=\"Yes\",$C$10=\"Yes\",E102<>\"\"),IF(AND(Equipment!K98>=5,Equipment!K98<=10),2000,IF(AND(Equipment!K98>10,Equipment!K98<=15),2800,IF(AND(Equipment!K98>15,Equipment!K98<=20),4000,IF(AND(Equipment!K98>20),4500,IF(AND(Equipment!K98>0,Equipment!K98<5),500,0))))),0)","v":0},null,{"$f":"IF(AND($C$6=\"Yes\",$C$7=\"Yes\",$C$8=\"Yes\",$C$9=\"Yes\",$C$10=\"Yes\",E102<>\"\"),0.539*INDEX(OpHours,MATCH(Equipment!$C$7,BuildingTypeList,0))*Equipment!$O98,0)","v":0}]
[88,null,{"$f":"IF(Equipment!W99=\"x\",Equipment!C99,\"\")","v":""},null,null,null,{"$f":"IF(AND($C$6=\"Yes\",$C$7=\"Yes\",$C$8=\"Yes\",$C$9=\"Yes\",$C$10=\"Yes\",E103<>\"\"),IF(AND(Equipment!K99>=5,Equipment!K99<=10),2000,IF(AND(Equipment!K99>10,Equipment!K99<=15),2800,IF(AND(Equipment!K99>15,Equipment!K99<=20),4000,IF(AND(Equipment!K99>20),4500,IF(AND(Equipment!K99>0,Equipment!K99<5),500,0))))),0)","v":0},null,{"$f":"IF(AND($C$6=\"Yes\",$C$7=\"Yes\",$C$8=\"Yes\",$C$9=\"Yes\",$C$10=\"Yes\",E103<>\"\"),0.539*INDEX(OpHours,MATCH(Equipment!$C$7,BuildingTypeList,0))*Equipment!$O99,0)","v":0}]
[89,null,{"$f":"IF(Equipment!W100=\"x\",Equipment!C100,\"\")","v":""},null,null,null,{"$f":"IF(AND($C$6=\"Yes\",$C$7=\"Yes\",$C$8=\"Yes\",$C$9=\"Yes\",$C$10=\"Yes\",E104<>\"\"),IF(AND(Equipment!K100>=5,Equipment!K100<=10),2000,IF(AND(Equipment!K100>10,Equipment!K100<=15),2800,IF(AND(Equipment!K100>15,Equipment!K100<=20),4000,IF(AND(Equipment!K100>20),4500,IF(AND(Equipment!K100>0,Equipment!K100<5),500,0))))),0)","v":0},null,{"$f":"IF(AND($C$6=\"Yes\",$C$7=\"Yes\",$C$8=\"Yes\",$C$9=\"Yes\",$C$10=\"Yes\",E104<>\"\"),0.539*INDEX(OpHours,MATCH(Equipment!$C$7,BuildingTypeList,0))*Equipment!$O100,0)","v":0}]
[90,null,{"$f":"IF(Equipment!W101=\"x\",Equipment!C101,\"\")","v":""},null,null,null,{"$f":"IF(AND($C$6=\"Yes\",$C$7=\"Yes\",$C$8=\"Yes\",$C$9=\"Yes\",$C$10=\"Yes\",E105<>\"\"),IF(AND(Equipment!K101>=5,Equipment!K101<=10),2000,IF(AND(Equipment!K101>10,Equipment!K101<=15),2800,IF(AND(Equipment!K101>15,Equipment!K101<=20),4000,IF(AND(Equipment!K101>20),4500,IF(AND(Equipment!K101>0,Equipment!K101<5),500,0))))),0)","v":0},null,{"$f":"IF(AND($C$6=\"Yes\",$C$7=\"Yes\",$C$8=\"Yes\",$C$9=\"Yes\",$C$10=\"Yes\",E105<>\"\"),0.539*INDEX(OpHours,MATCH(Equipment!$C$7,BuildingTypeList,0))*Equipment!$O101,0)","v":0}]
[91,null,{"$f":"IF(Equipment!W102=\"x\",Equipment!C102,\"\")","v":""},null,null,null,{"$f":"IF(AND($C$6=\"Yes\",$C$7=\"Yes\",$C$8=\"Yes\",$C$9=\"Yes\",$C$10=\"Yes\",E106<>\"\"),IF(AND(Equipment!K102>=5,Equipment!K102<=10),2000,IF(AND(Equipment!K102>10,Equipment!K102<=15),2800,IF(AND(Equipment!K102>15,Equipment!K102<=20),4000,IF(AND(Equipment!K102>20),4500,IF(AND(Equipment!K102>0,Equipment!K102<5),500,0))))),0)","v":0},null,{"$f":"IF(AND($C$6=\"Yes\",$C$7=\"Yes\",$C$8=\"Yes\",$C$9=\"Yes\",$C$10=\"Yes\",E106<>\"\"),0.539*INDEX(OpHours,MATCH(Equipment!$C$7,BuildingTypeList,0))*Equipment!$O102,0)","v":0}]
[92,null,{"$f":"IF(Equipment!W103=\"x\",Equipment!C103,\"\")","v":""},null,null,null,{"$f":"IF(AND($C$6=\"Yes\",$C$7=\"Yes\",$C$8=\"Yes\",$C$9=\"Yes\",$C$10=\"Yes\",E107<>\"\"),IF(AND(Equipment!K103>=5,Equipment!K103<=10),2000,IF(AND(Equipment!K103>10,Equipment!K103<=15),2800,IF(AND(Equipment!K103>15,Equipment!K103<=20),4000,IF(AND(Equipment!K103>20),4500,IF(AND(Equipment!K103>0,Equipment!K103<5),500,0))))),0)","v":0},null,{"$f":"IF(AND($C$6=\"Yes\",$C$7=\"Yes\",$C$8=\"Yes\",$C$9=\"Yes\",$C$10=\"Yes\",E107<>\"\"),0.539*INDEX(OpHours,MATCH(Equipment!$C$7,BuildingTypeList,0))*Equipment!$O103,0)","v":0}]
[93,null,{"$f":"IF(Equipment!W104=\"x\",Equipment!C104,\"\")","v":""},null,null,null,{"$f":"IF(AND($C$6=\"Yes\",$C$7=\"Yes\",$C$8=\"Yes\",$C$9=\"Yes\",$C$10=\"Yes\",E108<>\"\"),IF(AND(Equipment!K104>=5,Equipment!K104<=10),2000,IF(AND(Equipment!K104>10,Equipment!K104<=15),2800,IF(AND(Equipment!K104>15,Equipment!K104<=20),4000,IF(AND(Equipment!K104>20),4500,IF(AND(Equipment!K104>0,Equipment!K104<5),500,0))))),0)","v":0},null,{"$f":"IF(AND($C$6=\"Yes\",$C$7=\"Yes\",$C$8=\"Yes\",$C$9=\"Yes\",$C$10=\"Yes\",E108<>\"\"),0.539*INDEX(OpHours,MATCH(Equipment!$C$7,BuildingTypeList,0))*Equipment!$O104,0)","v":0}]
[94,null,{"$f":"IF(Equipment!W105=\"x\",Equipment!C105,\"\")","v":""},null,null,null,{"$f":"IF(AND($C$6=\"Yes\",$C$7=\"Yes\",$C$8=\"Yes\",$C$9=\"Yes\",$C$10=\"Yes\",E109<>\"\"),IF(AND(Equipment!K105>=5,Equipment!K105<=10),2000,IF(AND(Equipment!K105>10,Equipment!K105<=15),2800,IF(AND(Equipment!K105>15,Equipment!K105<=20),4000,IF(AND(Equipment!K105>20),4500,IF(AND(Equipment!K105>0,Equipment!K105<5),500,0))))),0)","v":0},null,{"$f":"IF(AND($C$6=\"Yes\",$C$7=\"Yes\",$C$8=\"Yes\",$C$9=\"Yes\",$C$10=\"Yes\",E109<>\"\"),0.539*INDEX(OpHours,MATCH(Equipment!$C$7,BuildingTypeList,0))*Equipment!$O105,0)","v":0}]
[95,null,{"$f":"IF(Equipment!W106=\"x\",Equipment!C106,\"\")","v":""},null,null,null,{"$f":"IF(AND($C$6=\"Yes\",$C$7=\"Yes\",$C$8=\"Yes\",$C$9=\"Yes\",$C$10=\"Yes\",E110<>\"\"),IF(AND(Equipment!K106>=5,Equipment!K106<=10),2000,IF(AND(Equipment!K106>10,Equipment!K106<=15),2800,IF(AND(Equipment!K106>15,Equipment!K106<=20),4000,IF(AND(Equipment!K106>20),4500,IF(AND(Equipment!K106>0,Equipment!K106<5),500,0))))),0)","v":0},null,{"$f":"IF(AND($C$6=\"Yes\",$C$7=\"Yes\",$C$8=\"Yes\",$C$9=\"Yes\",$C$10=\"Yes\",E110<>\"\"),0.539*INDEX(OpHours,MATCH(Equipment!$C$7,BuildingTypeList,0))*Equipment!$O106,0)","v":0}]

{"sheet":"ARC - New RTU","index":10,"n_rows":110,"n_cols":20,"rows_kept":110,"cut":false,"hidden":true,"merged":[[8,3,8,10],[9,2,10,2],[9,3,10,10],[12,2,12,5],[13,2,14,3],[13,4,14,5],[13,6,14,7],[4,19,5,22],[5,3,5,10],[6,19,8,22],[6,3,6,10],[7,3,7,10],[17,2,17,3],[17,4,17,5],[17,6,17,7],[18,2,18,3],[18,4,18,5],[18,6,18,7],[15,2,15,3],[15,4,15,5],[15,6,15,7],[16,2,16,3],[16,4,16,5],[16,6,16,7],[21,2,21,3],[21,4,21,5],[21,6,21,7],[22,2,22,3],[22,4,22,5],[22,6,22,7],[19,2,19,3],[19,4,19,5],[19,6,19,7],[20,2,20,3],[20,4,20,5],[20,6,20,7],[25,2,25,3],[25,4,25,5],[25,6,25,7],[26,2,26,3],[26,4,26,5],[26,6,26,7],[23,2,23,3],[23,4,23,5],[23,6,23,7],[24,2,24,3],[24,4,24,5],[24,6,24,7],[29,2,29,3],[29,4,29,5],[29,6,29,7],[30,2,30,3],[30,4,30,5],[30,6,30,7],[27,2,27,3],[27,4,27,5],[27,6,27,7],[28,2,28,3],[28,4,28,5],[28,6,28,7],[33,2,33,3],[33,4,33,5],[33,6,33,7],[34,2,34,3],[34,4,34,5],[34,6,34,7],[31,2,31,3],[31,4,31,5],[31,6,31,7],[32,2,32,3],[32,4,32,5],[32,6,32,7],[37,2,37,3],[37,4,37,5],[37,6,37,7],[38,2,38,3],[38,4,38,5],[38,6,38,7],[35,2,35,3],[35,4,35,5],[35,6,35,7],[36,2,36,3],[36,4,36,5],[36,6,36,7],[41,2,41,3],[41,4,41,5],[41,6,41,7],[42,2,42,3],[42,4,42,5],[42,6,42,7],[39,2,39,3],[39,4,39,5],[39,6,39,7],[40,2,40,3],[40,4,40,5],[40,6,40,7],[45,2,45,3],[45,4,45,5],[45,6,45,7],[46,2,46,3],[46,4,46,5],[46,6,46,7],[43,2,43,3],[43,4,43,5],[43,6,43,7],[44,2,44,3],[44,4,44,5],[44,6,44,7],[49,2,49,3],[49,4,49,5],[49,6,49,7],[50,2,50,3],[50,4,50,5],[50,6,50,7],[47,2,47,3],[47,4,47,5],[47,6,47,7],[48,2,48,3],[48,4,48,5],[48,6,48,7],[53,2,53,3],[53,4,53,5],[53,6,53,7],[54,2,54,3],[54,4,54,5],[54,6,54,7],[51,2,51,3],[51,4,51,5],[51,6,51,7],[52,2,52,3],[52,4,52,5],[52,6,52,7],[57,2,57,3],[57,4,57,5],[57,6,57,7],[58,2,58,3],[58,4,58,5],[58,6,58,7],[55,2,55,3],[55,4,55,5],[55,6,55,7],[56,2,56,3],[56,4,56,5],[56,6,56,7],[61,2,61,3],[61,4,61,5],[61,6,61,7],[62,2,62,3],[62,4,62,5],[62,6,62,7],[59,2,59,3],[59,4,59,5],[59,6,59,7],[60,2,60,3],[60,4,60,5],[60,6,60,7],[65,2,65,3],[65,4,65,5],[65,6,65,7],[66,2,66,3],[66,4,66,5],[66,6,66,7],[63,2,63,3],[63,4,63,5],[63,6,63,7],[64,2,64,3],[64,4,64,5],[64,6,64,7],[69,2,69,3],[69,4,69,5],[69,6,69,7],[70,2,70,3],[70,4,70,5],[70,6,70,7],[67,2,67,3],[67,4,67,5],[67,6,67,7],[68,2,68,3],[68,4,68,5],[68,6,68,7],[73,2,73,3],[73,4,73,5],[73,6,73,7],[74,2,74,3],[74,4,74,5],[74,6,74,7],[71,2,71,3],[71,4,71,5],[71,6,71,7],[72,2,72,3],[72,4,72,5],[72,6,72,7],[77,2,77,3],[77,4,77,5],[77,6,77,7],[78,2,78,3],[78,4,78,5],[78,6,78,7],[75,2,75,3],[75,4,75,5],[75,6,75,7],[76,2,76,3],[76,4,76,5],[76,6,76,7],[81,2,81,3],[81,4,81,5],[81,6,81,7],[82,2,82,3],[82,4,82,5],[82,6,82,7],[79,2,79,3],[79,4,79,5],[79,6,79,7],[80,2,80,3],[80,4,80,5],[80,6,80,7],[85,2,85,3],[85,4,85,5],[85,6,85,7],[86,2,86,3],[86,4,86,5],[86,6,86,7],[83,2,83,3],[83,4,83,5],[83,6,83,7],[84,2,84,3],[84,4,84,5],[84,6,84,7],[89,2,89,3],[89,4,89,5],[89,6,89,7],[90,2,90,3],[90,4,90,5],[90,6,90,7],[87,2,87,3],[87,4,87,5],[87,6,87,7],[88,2,88,3],[88,4,88,5],[88,6,88,7],[93,2,93,3],[93,4,93,5],[93,6,93,7],[94,2,94,3],[94,4,94,5],[94,6,94,7],[91,2,91,3],[91,4,91,5],[91,6,91,7],[92,2,92,3],[92,4,92,5],[92,6,92,7],[97,2,97,3],[97,4,97,5],[97,6,97,7],[98,2,98,3],[98,4,98,5],[98,6,98,7],[95,2,95,3],[95,4,95,5],[95,6,95,7],[96,2,96,3],[96,4,96,5],[96,6,96,7],[101,2,101,3],[101,4,101,5],[101,6,101,7],[102,2,102,3],[102,4,102,5],[102,6,102,7],[99,2,99,3],[99,4,99,5],[99,6,99,7],[100,2,100,3],[100,4,100,5],[100,6,100,7],[105,2,105,3],[105,4,105,5],[105,6,105,7],[106,2,106,3],[106,4,106,5],[106,6,106,7],[103,2,103,3],[103,4,103,5],[103,6,103,7],[104,2,104,3],[104,4,104,5],[104,6,104,7],[109,2,109,3],[109,4,109,5],[109,6,109,7],[107,2,107,3],[107,4,107,5],[107,6,107,7],[108,2,108,3],[108,4,108,5],[108,6,108,7]]}
[]
[null,"Advanced Rooftop Controls (New RTU)",null,null,null,null,null,null,null,null,null,"Total kWh/yr Savings",{"$f":"SUM(I16:I110)","v":0},null,"Incentive",{"$f":"SUM(G16:H110)","v":0}]
[null,null,null,null,null,null,null,null,"Customer Costs",{"$f":"SUM(E16:F110)","v":0},null,"Total kW Savings",0,null,"Electric Cost Savings/YR",{"$f":"IFERROR(M2*INDEX(kWhRates,MATCH(RateSchedule,RateSchedules,0))+M3*12*INDEX(kWRates,MATCH(RateSchedule,RateSchedules,0)),0)","v":0},null,null,null,"Instructions"]
[null,null,null,null,null,null,null,null,null,null,null,null,null,null,null,null,null,null,null,"1. Complete yellow cells."]
[null,null,"Confirm the following:",null,null,null,null,null,null,null,null,null,null,null,null,null,null,null,null,"Note"]
[null,null,null,"1. Control is installed on a unitary package rooftop unit (no split-systems)"]
[null,null,null,"2. Rooftop unit is less than 1 year old",null,null,null,null,null,null,null,null,null,null,null,null,null,null,null,"All fields must be completed to calculate the savings & incentives"]
[null,null,null,"3. Control includes CO2 or occupancy based sensor that determines ventillation and space conditioning needs"]
[null,null,null,"4. Control includes digital, integrated economizer controls"]
[null,null,null,"5. Equipment utilizes a constant speed fan motor with either a supply fan VFD or multi-speed fan motor with controller that meets ventilation and space conditioning needs"]
[]
[]
[null,null,"Equipment Details: "]
[null,null,"Rooftop Unit Label (from equipment tab)",null,"Customer Cost",null,"Estimated Incentive",null,"kWh"]
[]
[1,null,{"$f":"IF(Equipment!X12=\"x\",Equipment!C12,\"\")","v":""},null,null,null,{"$f":"IF(AND($C$6=\"Yes\",$C$7=\"Yes\",$C$8=\"Yes\",$C$9=\"Yes\",$C$10=\"Yes\",E16<>\"\"),IF(AND(Equipment!K12>=5,Equipment!K12<=10),1200,IF(AND(Equipment!K12>10,Equipment!K12<=15),1800,IF(AND(Equipment!K12>15,Equipment!K12<=20),2500,IF(AND(Equipment!K12>20),2800,IF(AND(Equipment!K12>0,Equipment!K12<5),400,0))))),0)","v":0},null,{"$f":"IF(AND($C$6=\"Yes\",$C$7=\"Yes\",$C$8=\"Yes\",$C$9=\"Yes\",$C$10=\"Yes\",E16<>\"\"),0.341*INDEX(OpHours,MATCH(Equipment!$C$7,BuildingTypeList,0))*Equipment!$O12,0)","v":0}]
[2,null,{"$f":"IF(Equipment!X13=\"x\",Equipment!C13,\"\")","v":""},null,null,null,{"$f":"IF(AND($C$6=\"Yes\",$C$7=\"Yes\",$C$8=\"Yes\",$C$9=\"Yes\",$C$10=\"Yes\",E17<>\"\"),IF(AND(Equipment!K13>=5,Equipment!K13<=10),1200,IF(AND(Equipment!K13>10,Equipment!K13<=15),1800,IF(AND(Equipment!K13>15,Equipment!K13<=20),2500,IF(AND(Equipment!K13>20),2800,IF(AND(Equipment!K13>0,Equipment!K13<5),400,0))))),0)","v":0},null,{"$f":"IF(AND($C$6=\"Yes\",$C$7=\"Yes\",$C$8=\"Yes\",$C$9=\"Yes\",$C$10=\"Yes\",E17<>\"\"),0.341*INDEX(OpHours,MATCH(Equipment!$C$7,BuildingTypeList,0))*Equipment!$O13,0)","v":0}]
[3,null,{"$f":"IF(Equipment!X14=\"x\",Equipment!C14,\"\")","v":""},null,null,null,{"$f":"IF(AND($C$6=\"Yes\",$C$7=\"Yes\",$C$8=\"Yes\",$C$9=\"Yes\",$C$10=\"Yes\",E18<>\"\"),IF(AND(Equipment!K14>=5,Equipment!K14<=10),1200,IF(AND(Equipment!K14>10,Equipment!K14<=15),1800,IF(AND(Equipment!K14>15,Equipment!K14<=20),2500,IF(AND(Equipment!K14>20),2800,IF(AND(Equipment!K14>0,Equipment!K14<5),400,0))))),0)","v":0},null,{"$f":"IF(AND($C$6=\"Yes\",$C$7=\"Yes\",$C$8=\"Yes\",$C$9=\"Yes\",$C$10=\"Yes\",E18<>\"\"),0.341*INDEX(OpHours,MATCH(Equipment!$C$7,BuildingTypeList,0))*Equipment!$O14,0)","v":0}]
[4,null,{"$f":"IF(Equipment!X15=\"x\",Equipment!C15,\"\")","v":""},null,null,null,{"$f":"IF(AND($C$6=\"Yes\",$C$7=\"Yes\",$C$8=\"Yes\",$C$9=\"Yes\",$C$10=\"Yes\",E19<>\"\"),IF(AND(Equipment!K15>=5,Equipment!K15<=10),1200,IF(AND(Equipment!K15>10,Equipment!K15<=15),1800,IF(AND(Equipment!K15>15,Equipment!K15<=20),2500,IF(AND(Equipment!K15>20),2800,IF(AND(Equipment!K15>0,Equipment!K15<5),400,0))))),0)","v":0},null,{"$f":"IF(AND($C$6=\"Yes\",$C$7=\"Yes\",$C$8=\"Yes\",$C$9=\"Yes\",$C$10=\"Yes\",E19<>\"\"),0.341*INDEX(OpHours,MATCH(Equipment!$C$7,BuildingTypeList,0))*Equipment!$O15,0)","v":0}]
[5,null,{"$f":"IF(Equipment!X16=\"x\",Equipment!C16,\"\")","v":""},null,null,null,{"$f":"IF(AND($C$6=\"Yes\",$C$7=\"Yes\",$C$8=\"Yes\",$C$9=\"Yes\",$C$10=\"Yes\",E20<>\"\"),IF(AND(Equipment!K16>=5,Equipment!K16<=10),1200,IF(AND(Equipment!K16>10,Equipment!K16<=15),1800,IF(AND(Equipment!K16>15,Equipment!K16<=20),2500,IF(AND(Equipment!K16>20),2800,IF(AND(Equipment!K16>0,Equipment!K16<5),400,0))))),0)","v":0},null,{"$f":"IF(AND($C$6=\"Yes\",$C$7=\"Yes\",$C$8=\"Yes\",$C$9=\"Yes\",$C$10=\"Yes\",E20<>\"\"),0.341*INDEX(OpHours,MATCH(Equipment!$C$7,BuildingTypeList,0))*Equipment!$O16,0)","v":0}]
[6,null,{"$f":"IF(Equipment!X17=\"x\",Equipment!C17,\"\")","v":""},null,null,null,{"$f":"IF(AND($C$6=\"Yes\",$C$7=\"Yes\",$C$8=\"Yes\",$C$9=\"Yes\",$C$10=\"Yes\",E21<>\"\"),IF(AND(Equipment!K17>=5,Equipment!K17<=10),1200,IF(AND(Equipment!K17>10,Equipment!K17<=15),1800,IF(AND(Equipment!K17>15,Equipment!K17<=20),2500,IF(AND(Equipment!K17>20),2800,IF(AND(Equipment!K17>0,Equipment!K17<5),400,0))))),0)","v":0},null,{"$f":"IF(AND($C$6=\"Yes\",$C$7=\"Yes\",$C$8=\"Yes\",$C$9=\"Yes\",$C$10=\"Yes\",E21<>\"\"),0.341*INDEX(OpHours,MATCH(Equipment!$C$7,BuildingTypeList,0))*Equipment!$O17,0)","v":0}]
[7,null,{"$f":"IF(Equipment!X18=\"x\",Equipment!C18,\"\")","v":""},null,null,null,{"$f":"IF(AND($C$6=\"Yes\",$C$7=\"Yes\",$C$8=\"Yes\",$C$9=\"Yes\",$C$10=\"Yes\",E22<>\"\"),IF(AND(Equipment!K18>=5,Equipment!K18<=10),1200,IF(AND(Equipment!K18>10,Equipment!K18<=15),1800,IF(AND(Equipment!K18>15,Equipment!K18<=20),2500,IF(AND(Equipment!K18>20),2800,IF(AND(Equipment!K18>0,Equipment!K18<5),400,0))))),0)","v":0},null,{"$f":"IF(AND($C$6=\"Yes\",$C$7=\"Yes\",$C$8=\"Yes\",$C$9=\"Yes\",$C$10=\"Yes\",E22<>\"\"),0.341*INDEX(OpHours,MATCH(Equipment!$C$7,BuildingTypeList,0))*Equipment!$O18,0)","v":0}]
[8,null,{"$f":"IF(Equipment!X19=\"x\",Equipment!C19,\"\")","v":""},null,null,null,{"$f":"IF(AND($C$6=\"Yes\",$C$7=\"Yes\",$C$8=\"Yes\",$C$9=\"Yes\",$C$10=\"Yes\",E23<>\"\"),IF(AND(Equipment!K19>=5,Equipment!K19<=10),1200,IF(AND(Equipment!K19>10,Equipment!K19<=15),1800,IF(AND(Equipment!K19>15,Equipment!K19<=20),2500,IF(AND(Equipment!K19>20),2800,IF(AND(Equipment!K19>0,Equipment!K19<5),400,0))))),0)","v":0},null,{"$f":"IF(AND($C$6=\"Yes\",$C$7=\"Yes\",$C$8=\"Yes\",$C$9=\"Yes\",$C$10=\"Yes\",E23<>\"\"),0.341*INDEX(OpHours,MATCH(Equipment!$C$7,BuildingTypeList,0))*Equipment!$O19,0)","v":0}]
[9,null,{"$f":"IF(Equipment!X20=\"x\",Equipment!C20,\"\")","v":""},null,null,null,{"$f":"IF(AND($C$6=\"Yes\",$C$7=\"Yes\",$C$8=\"Yes\",$C$9=\"Yes\",$C$10=\"Yes\",E24<>\"\"),IF(AND(Equipment!K20>=5,Equipment!K20<=10),1200,IF(AND(Equipment!K20>10,Equipment!K20<=15),1800,IF(AND(Equipment!K20>15,Equipment!K20<=20),2500,IF(AND(Equipment!K20>20),2800,IF(AND(Equipment!K20>0,Equipment!K20<5),400,0))))),0)","v":0},null,{"$f":"IF(AND($C$6=\"Yes\",$C$7=\"Yes\",$C$8=\"Yes\",$C$9=\"Yes\",$C$10=\"Yes\",E24<>\"\"),0.341*INDEX(OpHours,MATCH(Equipment!$C$7,BuildingTypeList,0))*Equipment!$O20,0)","v":0}]
[10,null,{"$f":"IF(Equipment!X21=\"x\",Equipment!C21,\"\")","v":""},null,null,null,{"$f":"IF(AND($C$6=\"Yes\",$C$7=\"Yes\",$C$8=\"Yes\",$C$9=\"Yes\",$C$10=\"Yes\",E25<>\"\"),IF(AND(Equipment!K21>=5,Equipment!K21<=10),1200,IF(AND(Equipment!K21>10,Equipment!K21<=15),1800,IF(AND(Equipment!K21>15,Equipment!K21<=20),2500,IF(AND(Equipment!K21>20),2800,IF(AND(Equipment!K21>0,Equipment!K21<5),400,0))))),0)","v":0},null,{"$f":"IF(AND($C$6=\"Yes\",$C$7=\"Yes\",$C$8=\"Yes\",$C$9=\"Yes\",$C$10=\"Yes\",E25<>\"\"),0.341*INDEX(OpHours,MATCH(Equipment!$C$7,BuildingTypeList,0))*Equipment!$O21,0)","v":0}]
[11,null,{"$f":"IF(Equipment!X22=\"x\",Equipment!C22,\"\")","v":""},null,null,null,{"$f":"IF(AND($C$6=\"Yes\",$C$7=\"Yes\",$C$8=\"Yes\",$C$9=\"Yes\",$C$10=\"Yes\",E26<>\"\"),IF(AND(Equipment!K22>=5,Equipment!K22<=10),1200,IF(AND(Equipment!K22>10,Equipment!K22<=15),1800,IF(AND(Equipment!K22>15,Equipment!K22<=20),2500,IF(AND(Equipment!K22>20),2800,IF(AND(Equipment!K22>0,Equipment!K22<5),400,0))))),0)","v":0},null,{"$f":"IF(AND($C$6=\"Yes\",$C$7=\"Yes\",$C$8=\"Yes\",$C$9=\"Yes\",$C$10=\"Yes\",E26<>\"\"),0.341*INDEX(OpHours,MATCH(Equipment!$C$7,BuildingTypeList,0))*Equipment!$O22,0)","v":0}]
[12,null,{"$f":"IF(Equipment!X23=\"x\",Equipment!C23,\"\")","v":""},null,null,null,{"$f":"IF(AND($C$6=\"Yes\",$C$7=\"Yes\",$C$8=\"Yes\",$C$9=\"Yes\",$C$10=\"Yes\",E27<>\"\"),IF(AND(Equipment!K23>=5,Equipment!K23<=10),1200,IF(AND(Equipment!K23>10,Equipment!K23<=15),1800,IF(AND(Equipment!K23>15,Equipment!K23<=20),2500,IF(AND(Equipment!K23>20),2800,IF(AND(Equipment!K23>0,Equipment!K23<5),400,0))))),0)","v":0},null,{"$f":"IF(AND($C$6=\"Yes\",$C$7=\"Yes\",$C$8=\"Yes\",$C$9=\"Yes\",$C$10=\"Yes\",E27<>\"\"),0.341*INDEX(OpHours,MATCH(Equipment!$C$7,BuildingTypeList,0))*Equipment!$O23,0)","v":0}]
[13,null,{"$f":"IF(Equipment!X24=\"x\",Equipment!C24,\"\")","v":""},null,null,null,{"$f":"IF(AND($C$6=\"Yes\",$C$7=\"Yes\",$C$8=\"Yes\",$C$9=\"Yes\",$C$10=\"Yes\",E28<>\"\"),IF(AND(Equipment!K24>=5,Equipment!K24<=10),1200,IF(AND(Equipment!K24>10,Equipment!K24<=15),1800,IF(AND(Equipment!K24>15,Equipment!K24<=20),2500,IF(AND(Equipment!K24>20),2800,IF(AND(Equipment!K24>0,Equipment!K24<5),400,0))))),0)","v":0},null,{"$f":"IF(AND($C$6=\"Yes\",$C$7=\"Yes\",$C$8=\"Yes\",$C$9=\"Yes\",$C$10=\"Yes\",E28<>\"\"),0.341*INDEX(OpHours,MATCH(Equipment!$C$7,BuildingTypeList,0))*Equipment!$O24,0)","v":0}]
[14,null,{"$f":"IF(Equipment!X25=\"x\",Equipment!C25,\"\")","v":""},null,null,null,{"$f":"IF(AND($C$6=\"Yes\",$C$7=\"Yes\",$C$8=\"Yes\",$C$9=\"Yes\",$C$10=\"Yes\",E29<>\"\"),IF(AND(Equipment!K25>=5,Equipment!K25<=10),1200,IF(AND(Equipment!K25>10,Equipment!K25<=15),1800,IF(AND(Equipment!K25>15,Equipment!K25<=20),2500,IF(AND(Equipment!K25>20),2800,IF(AND(Equipment!K25>0,Equipment!K25<5),400,0))))),0)","v":0},null,{"$f":"IF(AND($C$6=\"Yes\",$C$7=\"Yes\",$C$8=\"Yes\",$C$9=\"Yes\",$C$10=\"Yes\",E29<>\"\"),0.341*INDEX(OpHours,MATCH(Equipment!$C$7,BuildingTypeList,0))*Equipment!$O25,0)","v":0}]
[15,null,{"$f":"IF(Equipment!X26=\"x\",Equipment!C26,\"\")","v":""},null,null,null,{"$f":"IF(AND($C$6=\"Yes\",$C$7=\"Yes\",$C$8=\"Yes\",$C$9=\"Yes\",$C$10=\"Yes\",E30<>\"\"),IF(AND(Equipment!K26>=5,Equipment!K26<=10),1200,IF(AND(Equipment!K26>10,Equipment!K26<=15),1800,IF(AND(Equipment!K26>15,Equipment!K26<=20),2500,IF(AND(Equipment!K26>20),2800,IF(AND(Equipment!K26>0,Equipment!K26<5),400,0))))),0)","v":0},null,{"$f":"IF(AND($C$6=\"Yes\",$C$7=\"Yes\",$C$8=\"Yes\",$C$9=\"Yes\",$C$10=\"Yes\",E30<>\"\"),0.341*INDEX(OpHours,MATCH(Equipment!$C$7,BuildingTypeList,0))*Equipment!$O26,0)","v":0}]
[16,null,{"$f":"IF(Equipment!X27=\"x\",Equipment!C27,\"\")","v":""},null,null,null,{"$f":"IF(AND($C$6=\"Yes\",$C$7=\"Yes\",$C$8=\"Yes\",$C$9=\"Yes\",$C$10=\"Yes\",E31<>\"\"),IF(AND(Equipment!K27>=5,Equipment!K27<=10),1200,IF(AND(Equipment!K27>10,Equipment!K27<=15),1800,IF(AND(Equipment!K27>15,Equipment!K27<=20),2500,IF(AND(Equipment!K27>20),2800,IF(AND(Equipment!K27>0,Equipment!K27<5),400,0))))),0)","v":0},null,{"$f":"IF(AND($C$6=\"Yes\",$C$7=\"Yes\",$C$8=\"Yes\",$C$9=\"Yes\",$C$10=\"Yes\",E31<>\"\"),0.341*INDEX(OpHours,MATCH(Equipment!$C$7,BuildingTypeList,0))*Equipment!$O27,0)","v":0}]
[17,null,{"$f":"IF(Equipment!X28=\"x\",Equipment!C28,\"\")","v":""},null,null,null,{"$f":"IF(AND($C$6=\"Yes\",$C$7=\"Yes\",$C$8=\"Yes\",$C$9=\"Yes\",$C$10=\"Yes\",E32<>\"\"),IF(AND(Equipment!K28>=5,Equipment!K28<=10),1200,IF(AND(Equipment!K28>10,Equipment!K28<=15),1800,IF(AND(Equipment!K28>15,Equipment!K28<=20),2500,IF(AND(Equipment!K28>20),2800,IF(AND(Equipment!K28>0,Equipment!K28<5),400,0))))),0)","v":0},null,{"$f":"IF(AND($C$6=\"Yes\",$C$7=\"Yes\",$C$8=\"Yes\",$C$9=\"Yes\",$C$10=\"Yes\",E32<>\"\"),0.341*INDEX(OpHours,MATCH(Equipment!$C$7,BuildingTypeList,0))*Equipment!$O28,0)","v":0}]
[18,null,{"$f":"IF(Equipment!X29=\"x\",Equipment!C29,\"\")","v":""},null,null,null,{"$f":"IF(AND($C$6=\"Yes\",$C$7=\"Yes\",$C$8=\"Yes\",$C$9=\"Yes\",$C$10=\"Yes\",E33<>\"\"),IF(AND(Equipment!K29>=5,Equipment!K29<=10),1200,IF(AND(Equipment!K29>10,Equipment!K29<=15),1800,IF(AND(Equipment!K29>15,Equipment!K29<=20),2500,IF(AND(Equipment!K29>20),2800,IF(AND(Equipment!K29>0,Equipment!K29<5),400,0))))),0)","v":0},null,{"$f":"IF(AND($C$6=\"Yes\",$C$7=\"Yes\",$C$8=\"Yes\",$C$9=\"Yes\",$C$10=\"Yes\",E33<>\"\"),0.341*INDEX(OpHours,MATCH(Equipment!$C$7,BuildingTypeList,0))*Equipment!$O29,0)","v":0}]
[19,null,{"$f":"IF(Equipment!X30=\"x\",Equipment!C30,\"\")","v":""},null,null,null,{"$f":"IF(AND($C$6=\"Yes\",$C$7=\"Yes\",$C$8=\"Yes\",$C$9=\"Yes\",$C$10=\"Yes\",E34<>\"\"),IF(AND(Equipment!K30>=5,Equipment!K30<=10),1200,IF(AND(Equipment!K30>10,Equipment!K30<=15),1800,IF(AND(Equipment!K30>15,Equipment!K30<=20),2500,IF(AND(Equipment!K30>20),2800,IF(AND(Equipment!K30>0,Equipment!K30<5),400,0))))),0)","v":0},null,{"$f":"IF(AND($C$6=\"Yes\",$C$7=\"Yes\",$C$8=\"Yes\",$C$9=\"Yes\",$C$10=\"Yes\",E34<>\"\"),0.341*INDEX(OpHours,MATCH(Equipment!$C$7,BuildingTypeList,0))*Equipment!$O30,0)","v":0}]
[20,null,{"$f":"IF(Equipment!X31=\"x\",Equipment!C31,\"\")","v":""},null,null,null,{"$f":"IF(AND($C$6=\"Yes\",$C$7=\"Yes\",$C$8=\"Yes\",$C$9=\"Yes\",$C$10=\"Yes\",E35<>\"\"),IF(AND(Equipment!K31>=5,Equipment!K31<=10),1200,IF(AND(Equipment!K31>10,Equipment!K31<=15),1800,IF(AND(Equipment!K31>15,Equipment!K31<=20),2500,IF(AND(Equipment!K31>20),2800,IF(AND(Equipment!K31>0,Equipment!K31<5),400,0))))),0)","v":0},null,{"$f":"IF(AND($C$6=\"Yes\",$C$7=\"Yes\",$C$8=\"Yes\",$C$9=\"Yes\",$C$10=\"Yes\",E35<>\"\"),0.341*INDEX(OpHours,MATCH(Equipment!$C$7,BuildingTypeList,0))*Equipment!$O31,0)","v":0}]
[21,null,{"$f":"IF(Equipment!X32=\"x\",Equipment!C32,\"\")","v":""},null,null,null,{"$f":"IF(AND($C$6=\"Yes\",$C$7=\"Yes\",$C$8=\"Yes\",$C$9=\"Yes\",$C$10=\"Yes\",E36<>\"\"),IF(AND(Equipment!K32>=5,Equipment!K32<=10),1200,IF(AND(Equipment!K32>10,Equipment!K32<=15),1800,IF(AND(Equipment!K32>15,Equipment!K32<=20),2500,IF(AND(Equipment!K32>20),2800,IF(AND(Equipment!K32>0,Equipment!K32<5),400,0))))),0)","v":0},null,{"$f":"IF(AND($C$6=\"Yes\",$C$7=\"Yes\",$C$8=\"Yes\",$C$9=\"Yes\",$C$10=\"Yes\",E36<>\"\"),0.341*INDEX(OpHours,MATCH(Equipment!$C$7,BuildingTypeList,0))*Equipment!$O32,0)","v":0}]
[22,null,{"$f":"IF(Equipment!X33=\"x\",Equipment!C33,\"\")","v":""},null,null,null,{"$f":"IF(AND($C$6=\"Yes\",$C$7=\"Yes\",$C$8=\"Yes\",$C$9=\"Yes\",$C$10=\"Yes\",E37<>\"\"),IF(AND(Equipment!K33>=5,Equipment!K33<=10),1200,IF(AND(Equipment!K33>10,Equipment!K33<=15),1800,IF(AND(Equipment!K33>15,Equipment!K33<=20),2500,IF(AND(Equipment!K33>20),2800,IF(AND(Equipment!K33>0,Equipment!K33<5),400,0))))),0)","v":0},null,{"$f":"IF(AND($C$6=\"Yes\",$C$7=\"Yes\",$C$8=\"Yes\",$C$9=\"Yes\",$C$10=\"Yes\",E37<>\"\"),0.341*INDEX(OpHours,MATCH(Equipment!$C$7,BuildingTypeList,0))*Equipment!$O33,0)","v":0}]
[23,null,{"$f":"IF(Equipment!X34=\"x\",Equipment!C34,\"\")","v":""},null,null,null,{"$f":"IF(AND($C$6=\"Yes\",$C$7=\"Yes\",$C$8=\"Yes\",$C$9=\"Yes\",$C$10=\"Yes\",E38<>\"\"),IF(AND(Equipment!K34>=5,Equipment!K34<=10),1200,IF(AND(Equipment!K34>10,Equipment!K34<=15),1800,IF(AND(Equipment!K34>15,Equipment!K34<=20),2500,IF(AND(Equipment!K34>20),2800,IF(AND(Equipment!K34>0,Equipment!K34<5),400,0))))),0)","v":0},null,{"$f":"IF(AND($C$6=\"Yes\",$C$7=\"Yes\",$C$8=\"Yes\",$C$9=\"Yes\",$C$10=\"Yes\",E38<>\"\"),0.341*INDEX(OpHours,MATCH(Equipment!$C$7,BuildingTypeList,0))*Equipment!$O34,0)","v":0}]
[24,null,{"$f":"IF(Equipment!X35=\"x\",Equipment!C35,\"\")","v":""},null,null,null,{"$f":"IF(AND($C$6=\"Yes\",$C$7=\"Yes\",$C$8=\"Yes\",$C$9=\"Yes\",$C$10=\"Yes\",E39<>\"\"),IF(AND(Equipment!K35>=5,Equipment!K35<=10),1200,IF(AND(Equipment!K35>10,Equipment!K35<=15),1800,IF(AND(Equipment!K35>15,Equipment!K35<=20),2500,IF(AND(Equipment!K35>20),2800,IF(AND(Equipment!K35>0,Equipment!K35<5),400,0))))),0)","v":0},null,{"$f":"IF(AND($C$6=\"Yes\",$C$7=\"Yes\",$C$8=\"Yes\",$C$9=\"Yes\",$C$10=\"Yes\",E39<>\"\"),0.341*INDEX(OpHours,MATCH(Equipment!$C$7,BuildingTypeList,0))*Equipment!$O35,0)","v":0}]
[25,null,{"$f":"IF(Equipment!X36=\"x\",Equipment!C36,\"\")","v":""},null,null,null,{"$f":"IF(AND($C$6=\"Yes\",$C$7=\"Yes\",$C$8=\"Yes\",$C$9=\"Yes\",$C$10=\"Yes\",E40<>\"\"),IF(AND(Equipment!K36>=5,Equipment!K36<=10),1200,IF(AND(Equipment!K36>10,Equipment!K36<=15),1800,IF(AND(Equipment!K36>15,Equipment!K36<=20),2500,IF(AND(Equipment!K36>20),2800,IF(AND(Equipment!K36>0,Equipment!K36<5),400,0))))),0)","v":0},null,{"$f":"IF(AND($C$6=\"Yes\",$C$7=\"Yes\",$C$8=\"Yes\",$C$9=\"Yes\",$C$10=\"Yes\",E40<>\"\"),0.341*INDEX(OpHours,MATCH(Equipment!$C$7,BuildingTypeList,0))*Equipment!$O36,0)","v":0}]
[26,null,{"$f":"IF(Equipment!X37=\"x\",Equipment!C37,\"\")","v":""},null,null,null,{"$f":"IF(AND($C$6=\"Yes\",$C$7=\"Yes\",$C$8=\"Yes\",$C$9=\"Yes\",$C$10=\"Yes\",E41<>\"\"),IF(AND(Equipment!K37>=5,Equipment!K37<=10),1200,IF(AND(Equipment!K37>10,Equipment!K37<=15),1800,IF(AND(Equipment!K37>15,Equipment!K37<=20),2500,IF(AND(Equipment!K37>20),2800,IF(AND(Equipment!K37>0,Equipment!K37<5),400,0))))),0)","v":0},null,{"$f":"IF(AND($C$6=\"Yes\",$C$7=\"Yes\",$C$8=\"Yes\",$C$9=\"Yes\",$C$10=\"Yes\",E41<>\"\"),0.341*INDEX(OpHours,MATCH(Equipment!$C$7,BuildingTypeList,0))*Equipment!$O37,0)","v":0}]
[27,null,{"$f":"IF(Equipment!X38=\"x\",Equipment!C38,\"\")","v":""},null,null,null,{"$f":"IF(AND($C$6=\"Yes\",$C$7=\"Yes\",$C$8=\"Yes\",$C$9=\"Yes\",$C$10=\"Yes\",E42<>\"\"),IF(AND(Equipment!K38>=5,Equipment!K38<=10),1200,IF(AND(Equipment!K38>10,Equipment!K38<=15),1800,IF(AND(Equipment!K38>15,Equipment!K38<=20),2500,IF(AND(Equipment!K38>20),2800,IF(AND(Equipment!K38>0,Equipment!K38<5),400,0))))),0)","v":0},null,{"$f":"IF(AND($C$6=\"Yes\",$C$7=\"Yes\",$C$8=\"Yes\",$C$9=\"Yes\",$C$10=\"Yes\",E42<>\"\"),0.341*INDEX(OpHours,MATCH(Equipment!$C$7,BuildingTypeList,0))*Equipment!$O38,0)","v":0}]
[28,null,{"$f":"IF(Equipment!X39=\"x\",Equipment!C39,\"\")","v":""},null,null,null,{"$f":"IF(AND($C$6=\"Yes\",$C$7=\"Yes\",$C$8=\"Yes\",$C$9=\"Yes\",$C$10=\"Yes\",E43<>\"\"),IF(AND(Equipment!K39>=5,Equipment!K39<=10),1200,IF(AND(Equipment!K39>10,Equipment!K39<=15),1800,IF(AND(Equipment!K39>15,Equipment!K39<=20),2500,IF(AND(Equipment!K39>20),2800,IF(AND(Equipment!K39>0,Equipment!K39<5),400,0))))),0)","v":0},null,{"$f":"IF(AND($C$6=\"Yes\",$C$7=\"Yes\",$C$8=\"Yes\",$C$9=\"Yes\",$C$10=\"Yes\",E43<>\"\"),0.341*INDEX(OpHours,MATCH(Equipment!$C$7,BuildingTypeList,0))*Equipment!$O39,0)","v":0}]
[29,null,{"$f":"IF(Equipment!X40=\"x\",Equipment!C40,\"\")","v":""},null,null,null,{"$f":"IF(AND($C$6=\"Yes\",$C$7=\"Yes\",$C$8=\"Yes\",$C$9=\"Yes\",$C$10=\"Yes\",E44<>\"\"),IF(AND(Equipment!K40>=5,Equipment!K40<=10),1200,IF(AND(Equipment!K40>10,Equipment!K40<=15),1800,IF(AND(Equipment!K40>15,Equipment!K40<=20),2500,IF(AND(Equipment!K40>20),2800,IF(AND(Equipment!K40>0,Equipment!K40<5),400,0))))),0)","v":0},null,{"$f":"IF(AND($C$6=\"Yes\",$C$7=\"Yes\",$C$8=\"Yes\",$C$9=\"Yes\",$C$10=\"Yes\",E44<>\"\"),0.341*INDEX(OpHours,MATCH(Equipment!$C$7,BuildingTypeList,0))*Equipment!$O40,0)","v":0}]
[30,null,{"$f":"IF(Equipment!X41=\"x\",Equipment!C41,\"\")","v":""},null,null,null,{"$f":"IF(AND($C$6=\"Yes\",$C$7=\"Yes\",$C$8=\"Yes\",$C$9=\"Yes\",$C$10=\"Yes\",E45<>\"\"),IF(AND(Equipment!K41>=5,Equipment!K41<=10),1200,IF(AND(Equipment!K41>10,Equipment!K41<=15),1800,IF(AND(Equipment!K41>15,Equipment!K41<=20),2500,IF(AND(Equipment!K41>20),2800,IF(AND(Equipment!K41>0,Equipment!K41<5),400,0))))),0)","v":0},null,{"$f":"IF(AND($C$6=\"Yes\",$C$7=\"Yes\",$C$8=\"Yes\",$C$9=\"Yes\",$C$10=\"Yes\",E45<>\"\"),0.341*INDEX(OpHours,MATCH(Equipment!$C$7,BuildingTypeList,0))*Equipment!$O41,0)","v":0}]
[31,null,{"$f":"IF(Equipment!X42=\"x\",Equipment!C42,\"\")","v":""},null,null,null,{"$f":"IF(AND($C$6=\"Yes\",$C$7=\"Yes\",$C$8=\"Yes\",$C$9=\"Yes\",$C$10=\"Yes\",E46<>\"\"),IF(AND(Equipment!K42>=5,Equipment!K42<=10),1200,IF(AND(Equipment!K42>10,Equipment!K42<=15),1800,IF(AND(Equipment!K42>15,Equipment!K42<=20),2500,IF(AND(Equipment!K42>20),2800,IF(AND(Equipment!K42>0,Equipment!K42<5),400,0))))),0)","v":0},null,{"$f":"IF(AND($C$6=\"Yes\",$C$7=\"Yes\",$C$8=\"Yes\",$C$9=\"Yes\",$C$10=\"Yes\",E46<>\"\"),0.341*INDEX(OpHours,MATCH(Equipment!$C$7,BuildingTypeList,0))*Equipment!$O42,0)","v":0}]
[32,null,{"$f":"IF(Equipment!X43=\"x\",Equipment!C43,\"\")","v":""},null,null,null,{"$f":"IF(AND($C$6=\"Yes\",$C$7=\"Yes\",$C$8=\"Yes\",$C$9=\"Yes\",$C$10=\"Yes\",E47<>\"\"),IF(AND(Equipment!K43>=5,Equipment!K43<=10),1200,IF(AND(Equipment!K43>10,Equipment!K43<=15),1800,IF(AND(Equipment!K43>15,Equipment!K43<=20),2500,IF(AND(Equipment!K43>20),2800,IF(AND(Equipment!K43>0,Equipment!K43<5),400,0))))),0)","v":0},null,{"$f":"IF(AND($C$6=\"Yes\",$C$7=\"Yes\",$C$8=\"Yes\",$C$9=\"Yes\",$C$10=\"Yes\",E47<>\"\"),0.341*INDEX(OpHours,MATCH(Equipment!$C$7,BuildingTypeList,0))*Equipment!$O43,0)","v":0}]
[33,null,{"$f":"IF(Equipment!X44=\"x\",Equipment!C44,\"\")","v":""},null,null,null,{"$f":"IF(AND($C$6=\"Yes\",$C$7=\"Yes\",$C$8=\"Yes\",$C$9=\"Yes\",$C$10=\"Yes\",E48<>\"\"),IF(AND(Equipment!K44>=5,Equipment!K44<=10),1200,IF(AND(Equipment!K44>10,Equipment!K44<=15),1800,IF(AND(Equipment!K44>15,Equipment!K44<=20),2500,IF(AND(Equipment!K44>20),2800,IF(AND(Equipment!K44>0,Equipment!K44<5),400,0))))),0)","v":0},null,{"$f":"IF(AND($C$6=\"Yes\",$C$7=\"Yes\",$C$8=\"Yes\",$C$9=\"Yes\",$C$10=\"Yes\",E48<>\"\"),0.341*INDEX(OpHours,MATCH(Equipment!$C$7,BuildingTypeList,0))*Equipment!$O44,0)","v":0}]
[34,null,{"$f":"IF(Equipment!X45=\"x\",Equipment!C45,\"\")","v":""},null,null,null,{"$f":"IF(AND($C$6=\"Yes\",$C$7=\"Yes\",$C$8=\"Yes\",$C$9=\"Yes\",$C$10=\"Yes\",E49<>\"\"),IF(AND(Equipment!K45>=5,Equipment!K45<=10),1200,IF(AND(Equipment!K45>10,Equipment!K45<=15),1800,IF(AND(Equipment!K45>15,Equipment!K45<=20),2500,IF(AND(Equipment!K45>20),2800,IF(AND(Equipment!K45>0,Equipment!K45<5),400,0))))),0)","v":0},null,{"$f":"IF(AND($C$6=\"Yes\",$C$7=\"Yes\",$C$8=\"Yes\",$C$9=\"Yes\",$C$10=\"Yes\",E49<>\"\"),0.341*INDEX(OpHours,MATCH(Equipment!$C$7,BuildingTypeList,0))*Equipment!$O45,0)","v":0}]
[35,null,{"$f":"IF(Equipment!X46=\"x\",Equipment!C46,\"\")","v":""},null,null,null,{"$f":"IF(AND($C$6=\"Yes\",$C$7=\"Yes\",$C$8=\"Yes\",$C$9=\"Yes\",$C$10=\"Yes\",E50<>\"\"),IF(AND(Equipment!K46>=5,Equipment!K46<=10),1200,IF(AND(Equipment!K46>10,Equipment!K46<=15),1800,IF(AND(Equipment!K46>15,Equipment!K46<=20),2500,IF(AND(Equipment!K46>20),2800,IF(AND(Equipment!K46>0,Equipment!K46<5),400,0))))),0)","v":0},null,{"$f":"IF(AND($C$6=\"Yes\",$C$7=\"Yes\",$C$8=\"Yes\",$C$9=\"Yes\",$C$10=\"Yes\",E50<>\"\"),0.341*INDEX(OpHours,MATCH(Equipment!$C$7,BuildingTypeList,0))*Equipment!$O46,0)","v":0}]
[36,null,{"$f":"IF(Equipment!X47=\"x\",Equipment!C47,\"\")","v":""},null,null,null,{"$f":"IF(AND($C$6=\"Yes\",$C$7=\"Yes\",$C$8=\"Yes\",$C$9=\"Yes\",$C$10=\"Yes\",E51<>\"\"),IF(AND(Equipment!K47>=5,Equipment!K47<=10),1200,IF(AND(Equipment!K47>10,Equipment!K47<=15),1800,IF(AND(Equipment!K47>15,Equipment!K47<=20),2500,IF(AND(Equipment!K47>20),2800,IF(AND(Equipment!K47>0,Equipment!K47<5),400,0))))),0)","v":0},null,{"$f":"IF(AND($C$6=\"Yes\",$C$7=\"Yes\",$C$8=\"Yes\",$C$9=\"Yes\",$C$10=\"Yes\",E51<>\"\"),0.341*INDEX(OpHours,MATCH(Equipment!$C$7,BuildingTypeList,0))*Equipment!$O47,0)","v":0}]
[37,null,{"$f":"IF(Equipment!X48=\"x\",Equipment!C48,\"\")","v":""},null,null,null,{"$f":"IF(AND($C$6=\"Yes\",$C$7=\"Yes\",$C$8=\"Yes\",$C$9=\"Yes\",$C$10=\"Yes\",E52<>\"\"),IF(AND(Equipment!K48>=5,Equipment!K48<=10),1200,IF(AND(Equipment!K48>10,Equipment!K48<=15),1800,IF(AND(Equipment!K48>15,Equipment!K48<=20),2500,IF(AND(Equipment!K48>20),2800,IF(AND(Equipment!K48>0,Equipment!K48<5),400,0))))),0)","v":0},null,{"$f":"IF(AND($C$6=\"Yes\",$C$7=\"Yes\",$C$8=\"Yes\",$C$9=\"Yes\",$C$10=\"Yes\",E52<>\"\"),0.341*INDEX(OpHours,MATCH(Equipment!$C$7,BuildingTypeList,0))*Equipment!$O48,0)","v":0}]
[38,null,{"$f":"IF(Equipment!X49=\"x\",Equipment!C49,\"\")","v":""},null,null,null,{"$f":"IF(AND($C$6=\"Yes\",$C$7=\"Yes\",$C$8=\"Yes\",$C$9=\"Yes\",$C$10=\"Yes\",E53<>\"\"),IF(AND(Equipment!K49>=5,Equipment!K49<=10),1200,IF(AND(Equipment!K49>10,Equipment!K49<=15),1800,IF(AND(Equipment!K49>15,Equipment!K49<=20),2500,IF(AND(Equipment!K49>20),2800,IF(AND(Equipment!K49>0,Equipment!K49<5),400,0))))),0)","v":0},null,{"$f":"IF(AND($C$6=\"Yes\",$C$7=\"Yes\",$C$8=\"Yes\",$C$9=\"Yes\",$C$10=\"Yes\",E53<>\"\"),0.341*INDEX(OpHours,MATCH(Equipment!$C$7,BuildingTypeList,0))*Equipment!$O49,0)","v":0}]
[39,null,{"$f":"IF(Equipment!X50=\"x\",Equipment!C50,\"\")","v":""},null,null,null,{"$f":"IF(AND($C$6=\"Yes\",$C$7=\"Yes\",$C$8=\"Yes\",$C$9=\"Yes\",$C$10=\"Yes\",E54<>\"\"),IF(AND(Equipment!K50>=5,Equipment!K50<=10),1200,IF(AND(Equipment!K50>10,Equipment!K50<=15),1800,IF(AND(Equipment!K50>15,Equipment!K50<=20),2500,IF(AND(Equipment!K50>20),2800,IF(AND(Equipment!K50>0,Equipment!K50<5),400,0))))),0)","v":0},null,{"$f":"IF(AND($C$6=\"Yes\",$C$7=\"Yes\",$C$8=\"Yes\",$C$9=\"Yes\",$C$10=\"Yes\",E54<>\"\"),0.341*INDEX(OpHours,MATCH(Equipment!$C$7,BuildingTypeList,0))*Equipment!$O50,0)","v":0}]
[40,null,{"$f":"IF(Equipment!X51=\"x\",Equipment!C51,\"\")","v":""},null,null,null,{"$f":"IF(AND($C$6=\"Yes\",$C$7=\"Yes\",$C$8=\"Yes\",$C$9=\"Yes\",$C$10=\"Yes\",E55<>\"\"),IF(AND(Equipment!K51>=5,Equipment!K51<=10),1200,IF(AND(Equipment!K51>10,Equipment!K51<=15),1800,IF(AND(Equipment!K51>15,Equipment!K51<=20),2500,IF(AND(Equipment!K51>20),2800,IF(AND(Equipment!K51>0,Equipment!K51<5),400,0))))),0)","v":0},null,{"$f":"IF(AND($C$6=\"Yes\",$C$7=\"Yes\",$C$8=\"Yes\",$C$9=\"Yes\",$C$10=\"Yes\",E55<>\"\"),0.341*INDEX(OpHours,MATCH(Equipment!$C$7,BuildingTypeList,0))*Equipment!$O51,0)","v":0}]
[41,null,{"$f":"IF(Equipment!X52=\"x\",Equipment!C52,\"\")","v":""},null,null,null,{"$f":"IF(AND($C$6=\"Yes\",$C$7=\"Yes\",$C$8=\"Yes\",$C$9=\"Yes\",$C$10=\"Yes\",E56<>\"\"),IF(AND(Equipment!K52>=5,Equipment!K52<=10),1200,IF(AND(Equipment!K52>10,Equipment!K52<=15),1800,IF(AND(Equipment!K52>15,Equipment!K52<=20),2500,IF(AND(Equipment!K52>20),2800,IF(AND(Equipment!K52>0,Equipment!K52<5),400,0))))),0)","v":0},null,{"$f":"IF(AND($C$6=\"Yes\",$C$7=\"Yes\",$C$8=\"Yes\",$C$9=\"Yes\",$C$10=\"Yes\",E56<>\"\"),0.341*INDEX(OpHours,MATCH(Equipment!$C$7,BuildingTypeList,0))*Equipment!$O52,0)","v":0}]
[42,null,{"$f":"IF(Equipment!X53=\"x\",Equipment!C53,\"\")","v":""},null,null,null,{"$f":"IF(AND($C$6=\"Yes\",$C$7=\"Yes\",$C$8=\"Yes\",$C$9=\"Yes\",$C$10=\"Yes\",E57<>\"\"),IF(AND(Equipment!K53>=5,Equipment!K53<=10),1200,IF(AND(Equipment!K53>10,Equipment!K53<=15),1800,IF(AND(Equipment!K53>15,Equipment!K53<=20),2500,IF(AND(Equipment!K53>20),2800,IF(AND(Equipment!K53>0,Equipment!K53<5),400,0))))),0)","v":0},null,{"$f":"IF(AND($C$6=\"Yes\",$C$7=\"Yes\",$C$8=\"Yes\",$C$9=\"Yes\",$C$10=\"Yes\",E57<>\"\"),0.341*INDEX(OpHours,MATCH(Equipment!$C$7,BuildingTypeList,0))*Equipment!$O53,0)","v":0}]
[43,null,{"$f":"IF(Equipment!X54=\"x\",Equipment!C54,\"\")","v":""},null,null,null,{"$f":"IF(AND($C$6=\"Yes\",$C$7=\"Yes\",$C$8=\"Yes\",$C$9=\"Yes\",$C$10=\"Yes\",E58<>\"\"),IF(AND(Equipment!K54>=5,Equipment!K54<=10),1200,IF(AND(Equipment!K54>10,Equipment!K54<=15),1800,IF(AND(Equipment!K54>15,Equipment!K54<=20),2500,IF(AND(Equipment!K54>20),2800,IF(AND(Equipment!K54>0,Equipment!K54<5),400,0))))),0)","v":0},null,{"$f":"IF(AND($C$6=\"Yes\",$C$7=\"Yes\",$C$8=\"Yes\",$C$9=\"Yes\",$C$10=\"Yes\",E58<>\"\"),0.341*INDEX(OpHours,MATCH(Equipment!$C$7,BuildingTypeList,0))*Equipment!$O54,0)","v":0}]
[44,null,{"$f":"IF(Equipment!X55=\"x\",Equipment!C55,\"\")","v":""},null,null,null,{"$f":"IF(AND($C$6=\"Yes\",$C$7=\"Yes\",$C$8=\"Yes\",$C$9=\"Yes\",$C$10=\"Yes\",E59<>\"\"),IF(AND(Equipment!K55>=5,Equipment!K55<=10),1200,IF(AND(Equipment!K55>10,Equipment!K55<=15),1800,IF(AND(Equipment!K55>15,Equipment!K55<=20),2500,IF(AND(Equipment!K55>20),2800,IF(AND(Equipment!K55>0,Equipment!K55<5),400,0))))),0)","v":0},null,{"$f":"IF(AND($C$6=\"Yes\",$C$7=\"Yes\",$C$8=\"Yes\",$C$9=\"Yes\",$C$10=\"Yes\",E59<>\"\"),0.341*INDEX(OpHours,MATCH(Equipment!$C$7,BuildingTypeList,0))*Equipment!$O55,0)","v":0}]
[45,null,{"$f":"IF(Equipment!X56=\"x\",Equipment!C56,\"\")","v":""},null,null,null,{"$f":"IF(AND($C$6=\"Yes\",$C$7=\"Yes\",$C$8=\"Yes\",$C$9=\"Yes\",$C$10=\"Yes\",E60<>\"\"),IF(AND(Equipment!K56>=5,Equipment!K56<=10),1200,IF(AND(Equipment!K56>10,Equipment!K56<=15),1800,IF(AND(Equipment!K56>15,Equipment!K56<=20),2500,IF(AND(Equipment!K56>20),2800,IF(AND(Equipment!K56>0,Equipment!K56<5),400,0))))),0)","v":0},null,{"$f":"IF(AND($C$6=\"Yes\",$C$7=\"Yes\",$C$8=\"Yes\",$C$9=\"Yes\",$C$10=\"Yes\",E60<>\"\"),0.341*INDEX(OpHours,MATCH(Equipment!$C$7,BuildingTypeList,0))*Equipment!$O56,0)","v":0}]
[46,null,{"$f":"IF(Equipment!X57=\"x\",Equipment!C57,\"\")","v":""},null,null,null,{"$f":"IF(AND($C$6=\"Yes\",$C$7=\"Yes\",$C$8=\"Yes\",$C$9=\"Yes\",$C$10=\"Yes\",E61<>\"\"),IF(AND(Equipment!K57>=5,Equipment!K57<=10),1200,IF(AND(Equipment!K57>10,Equipment!K57<=15),1800,IF(AND(Equipment!K57>15,Equipment!K57<=20),2500,IF(AND(Equipment!K57>20),2800,IF(AND(Equipment!K57>0,Equipment!K57<5),400,0))))),0)","v":0},null,{"$f":"IF(AND($C$6=\"Yes\",$C$7=\"Yes\",$C$8=\"Yes\",$C$9=\"Yes\",$C$10=\"Yes\",E61<>\"\"),0.341*INDEX(OpHours,MATCH(Equipment!$C$7,BuildingTypeList,0))*Equipment!$O57,0)","v":0}]
[47,null,{"$f":"IF(Equipment!X58=\"x\",Equipment!C58,\"\")","v":""},null,null,null,{"$f":"IF(AND($C$6=\"Yes\",$C$7=\"Yes\",$C$8=\"Yes\",$C$9=\"Yes\",$C$10=\"Yes\",E62<>\"\"),IF(AND(Equipment!K58>=5,Equipment!K58<=10),1200,IF(AND(Equipment!K58>10,Equipment!K58<=15),1800,IF(AND(Equipment!K58>15,Equipment!K58<=20),2500,IF(AND(Equipment!K58>20),2800,IF(AND(Equipment!K58>0,Equipment!K58<5),400,0))))),0)","v":0},null,{"$f":"IF(AND($C$6=\"Yes\",$C$7=\"Yes\",$C$8=\"Yes\",$C$9=\"Yes\",$C$10=\"Yes\",E62<>\"\"),0.341*INDEX(OpHours,MATCH(Equipment!$C$7,BuildingTypeList,0))*Equipment!$O58,0)","v":0}]
[48,null,{"$f":"IF(Equipment!X59=\"x\",Equipment!C59,\"\")","v":""},null,null,null,{"$f":"IF(AND($C$6=\"Yes\",$C$7=\"Yes\",$C$8=\"Yes\",$C$9=\"Yes\",$C$10=\"Yes\",E63<>\"\"),IF(AND(Equipment!K59>=5,Equipment!K59<=10),1200,IF(AND(Equipment!K59>10,Equipment!K59<=15),1800,IF(AND(Equipment!K59>15,Equipment!K59<=20),2500,IF(AND(Equipment!K59>20),2800,IF(AND(Equipment!K59>0,Equipment!K59<5),400,0))))),0)","v":0},null,{"$f":"IF(AND($C$6=\"Yes\",$C$7=\"Yes\",$C$8=\"Yes\",$C$9=\"Yes\",$C$10=\"Yes\",E63<>\"\"),0.341*INDEX(OpHours,MATCH(Equipment!$C$7,BuildingTypeList,0))*Equipment!$O59,0)","v":0}]
[49,null,{"$f":"IF(Equipment!X60=\"x\",Equipment!C60,\"\")","v":""},null,null,null,{"$f":"IF(AND($C$6=\"Yes\",$C$7=\"Yes\",$C$8=\"Yes\",$C$9=\"Yes\",$C$10=\"Yes\",E64<>\"\"),IF(AND(Equipment!K60>=5,Equipment!K60<=10),1200,IF(AND(Equipment!K60>10,Equipment!K60<=15),1800,IF(AND(Equipment!K60>15,Equipment!K60<=20),2500,IF(AND(Equipment!K60>20),2800,IF(AND(Equipment!K60>0,Equipment!K60<5),400,0))))),0)","v":0},null,{"$f":"IF(AND($C$6=\"Yes\",$C$7=\"Yes\",$C$8=\"Yes\",$C$9=\"Yes\",$C$10=\"Yes\",E64<>\"\"),0.341*INDEX(OpHours,MATCH(Equipment!$C$7,BuildingTypeList,0))*Equipment!$O60,0)","v":0}]
[50,null,{"$f":"IF(Equipment!X61=\"x\",Equipment!C61,\"\")","v":""},null,null,null,{"$f":"IF(AND($C$6=\"Yes\",$C$7=\"Yes\",$C$8=\"Yes\",$C$9=\"Yes\",$C$10=\"Yes\",E65<>\"\"),IF(AND(Equipment!K61>=5,Equipment!K61<=10),1200,IF(AND(Equipment!K61>10,Equipment!K61<=15),1800,IF(AND(Equipment!K61>15,Equipment!K61<=20),2500,IF(AND(Equipment!K61>20),2800,IF(AND(Equipment!K61>0,Equipment!K61<5),400,0))))),0)","v":0},null,{"$f":"IF(AND($C$6=\"Yes\",$C$7=\"Yes\",$C$8=\"Yes\",$C$9=\"Yes\",$C$10=\"Yes\",E65<>\"\"),0.341*INDEX(OpHours,MATCH(Equipment!$C$7,BuildingTypeList,0))*Equipment!$O61,0)","v":0}]
[51,null,{"$f":"IF(Equipment!X62=\"x\",Equipment!C62,\"\")","v":""},null,null,null,{"$f":"IF(AND($C$6=\"Yes\",$C$7=\"Yes\",$C$8=\"Yes\",$C$9=\"Yes\",$C$10=\"Yes\",E66<>\"\"),IF(AND(Equipment!K62>=5,Equipment!K62<=10),1200,IF(AND(Equipment!K62>10,Equipment!K62<=15),1800,IF(AND(Equipment!K62>15,Equipment!K62<=20),2500,IF(AND(Equipment!K62>20),2800,IF(AND(Equipment!K62>0,Equipment!K62<5),400,0))))),0)","v":0},null,{"$f":"IF(AND($C$6=\"Yes\",$C$7=\"Yes\",$C$8=\"Yes\",$C$9=\"Yes\",$C$10=\"Yes\",E66<>\"\"),0.341*INDEX(OpHours,MATCH(Equipment!$C$7,BuildingTypeList,0))*Equipment!$O62,0)","v":0}]
[52,null,{"$f":"IF(Equipment!X63=\"x\",Equipment!C63,\"\")","v":""},null,null,null,{"$f":"IF(AND($C$6=\"Yes\",$C$7=\"Yes\",$C$8=\"Yes\",$C$9=\"Yes\",$C$10=\"Yes\",E67<>\"\"),IF(AND(Equipment!K63>=5,Equipment!K63<=10),1200,IF(AND(Equipment!K63>10,Equipment!K63<=15),1800,IF(AND(Equipment!K63>15,Equipment!K63<=20),2500,IF(AND(Equipment!K63>20),2800,IF(AND(Equipment!K63>0,Equipment!K63<5),400,0))))),0)","v":0},null,{"$f":"IF(AND($C$6=\"Yes\",$C$7=\"Yes\",$C$8=\"Yes\",$C$9=\"Yes\",$C$10=\"Yes\",E67<>\"\"),0.341*INDEX(OpHours,MATCH(Equipment!$C$7,BuildingTypeList,0))*Equipment!$O63,0)","v":0}]
[53,null,{"$f":"IF(Equipment!X64=\"x\",Equipment!C64,\"\")","v":""},null,null,null,{"$f":"IF(AND($C$6=\"Yes\",$C$7=\"Yes\",$C$8=\"Yes\",$C$9=\"Yes\",$C$10=\"Yes\",E68<>\"\"),IF(AND(Equipment!K64>=5,Equipment!K64<=10),1200,IF(AND(Equipment!K64>10,Equipment!K64<=15),1800,IF(AND(Equipment!K64>15,Equipment!K64<=20),2500,IF(AND(Equipment!K64>20),2800,IF(AND(Equipment!K64>0,Equipment!K64<5),400,0))))),0)","v":0},null,{"$f":"IF(AND($C$6=\"Yes\",$C$7=\"Yes\",$C$8=\"Yes\",$C$9=\"Yes\",$C$10=\"Yes\",E68<>\"\"),0.341*INDEX(OpHours,MATCH(Equipment!$C$7,BuildingTypeList,0))*Equipment!$O64,0)","v":0}]
[54,null,{"$f":"IF(Equipment!X65=\"x\",Equipment!C65,\"\")","v":""},null,null,null,{"$f":"IF(AND($C$6=\"Yes\",$C$7=\"Yes\",$C$8=\"Yes\",$C$9=\"Yes\",$C$10=\"Yes\",E69<>\"\"),IF(AND(Equipment!K65>=5,Equipment!K65<=10),1200,IF(AND(Equipment!K65>10,Equipment!K65<=15),1800,IF(AND(Equipment!K65>15,Equipment!K65<=20),2500,IF(AND(Equipment!K65>20),2800,IF(AND(Equipment!K65>0,Equipment!K65<5),400,0))))),0)","v":0},null,{"$f":"IF(AND($C$6=\"Yes\",$C$7=\"Yes\",$C$8=\"Yes\",$C$9=\"Yes\",$C$10=\"Yes\",E69<>\"\"),0.341*INDEX(OpHours,MATCH(Equipment!$C$7,BuildingTypeList,0))*Equipment!$O65,0)","v":0}]
[55,null,{"$f":"IF(Equipment!X66=\"x\",Equipment!C66,\"\")","v":""},null,null,null,{"$f":"IF(AND($C$6=\"Yes\",$C$7=\"Yes\",$C$8=\"Yes\",$C$9=\"Yes\",$C$10=\"Yes\",E70<>\"\"),IF(AND(Equipment!K66>=5,Equipment!K66<=10),1200,IF(AND(Equipment!K66>10,Equipment!K66<=15),1800,IF(AND(Equipment!K66>15,Equipment!K66<=20),2500,IF(AND(Equipment!K66>20),2800,IF(AND(Equipment!K66>0,Equipment!K66<5),400,0))))),0)","v":0},null,{"$f":"IF(AND($C$6=\"Yes\",$C$7=\"Yes\",$C$8=\"Yes\",$C$9=\"Yes\",$C$10=\"Yes\",E70<>\"\"),0.341*INDEX(OpHours,MATCH(Equipment!$C$7,BuildingTypeList,0))*Equipment!$O66,0)","v":0}]
[56,null,{"$f":"IF(Equipment!X67=\"x\",Equipment!C67,\"\")","v":""},null,null,null,{"$f":"IF(AND($C$6=\"Yes\",$C$7=\"Yes\",$C$8=\"Yes\",$C$9=\"Yes\",$C$10=\"Yes\",E71<>\"\"),IF(AND(Equipment!K67>=5,Equipment!K67<=10),1200,IF(AND(Equipment!K67>10,Equipment!K67<=15),1800,IF(AND(Equipment!K67>15,Equipment!K67<=20),2500,IF(AND(Equipment!K67>20),2800,IF(AND(Equipment!K67>0,Equipment!K67<5),400,0))))),0)","v":0},null,{"$f":"IF(AND($C$6=\"Yes\",$C$7=\"Yes\",$C$8=\"Yes\",$C$9=\"Yes\",$C$10=\"Yes\",E71<>\"\"),0.341*INDEX(OpHours,MATCH(Equipment!$C$7,BuildingTypeList,0))*Equipment!$O67,0)","v":0}]
[57,null,{"$f":"IF(Equipment!X68=\"x\",Equipment!C68,\"\")","v":""},null,null,null,{"$f":"IF(AND($C$6=\"Yes\",$C$7=\"Yes\",$C$8=\"Yes\",$C$9=\"Yes\",$C$10=\"Yes\",E72<>\"\"),IF(AND(Equipment!K68>=5,Equipment!K68<=10),1200,IF(AND(Equipment!K68>10,Equipment!K68<=15),1800,IF(AND(Equipment!K68>15,Equipment!K68<=20),2500,IF(AND(Equipment!K68>20),2800,IF(AND(Equipment!K68>0,Equipment!K68<5),400,0))))),0)","v":0},null,{"$f":"IF(AND($C$6=\"Yes\",$C$7=\"Yes\",$C$8=\"Yes\",$C$9=\"Yes\",$C$10=\"Yes\",E72<>\"\"),0.341*INDEX(OpHours,MATCH(Equipment!$C$7,BuildingTypeList,0))*Equipment!$O68,0)","v":0}]
[58,null,{"$f":"IF(Equipment!X69=\"x\",Equipment!C69,\"\")","v":""},null,null,null,{"$f":"IF(AND($C$6=\"Yes\",$C$7=\"Yes\",$C$8=\"Yes\",$C$9=\"Yes\",$C$10=\"Yes\",E73<>\"\"),IF(AND(Equipment!K69>=5,Equipment!K69<=10),1200,IF(AND(Equipment!K69>10,Equipment!K69<=15),1800,IF(AND(Equipment!K69>15,Equipment!K69<=20),2500,IF(AND(Equipment!K69>20),2800,IF(AND(Equipment!K69>0,Equipment!K69<5),400,0))))),0)","v":0},null,{"$f":"IF(AND($C$6=\"Yes\",$C$7=\"Yes\",$C$8=\"Yes\",$C$9=\"Yes\",$C$10=\"Yes\",E73<>\"\"),0.341*INDEX(OpHours,MATCH(Equipment!$C$7,BuildingTypeList,0))*Equipment!$O69,0)","v":0}]
[59,null,{"$f":"IF(Equipment!X70=\"x\",Equipment!C70,\"\")","v":""},null,null,null,{"$f":"IF(AND($C$6=\"Yes\",$C$7=\"Yes\",$C$8=\"Yes\",$C$9=\"Yes\",$C$10=\"Yes\",E74<>\"\"),IF(AND(Equipment!K70>=5,Equipment!K70<=10),1200,IF(AND(Equipment!K70>10,Equipment!K70<=15),1800,IF(AND(Equipment!K70>15,Equipment!K70<=20),2500,IF(AND(Equipment!K70>20),2800,IF(AND(Equipment!K70>0,Equipment!K70<5),400,0))))),0)","v":0},null,{"$f":"IF(AND($C$6=\"Yes\",$C$7=\"Yes\",$C$8=\"Yes\",$C$9=\"Yes\",$C$10=\"Yes\",E74<>\"\"),0.341*INDEX(OpHours,MATCH(Equipment!$C$7,BuildingTypeList,0))*Equipment!$O70,0)","v":0}]
[60,null,{"$f":"IF(Equipment!X71=\"x\",Equipment!C71,\"\")","v":""},null,null,null,{"$f":"IF(AND($C$6=\"Yes\",$C$7=\"Yes\",$C$8=\"Yes\",$C$9=\"Yes\",$C$10=\"Yes\",E75<>\"\"),IF(AND(Equipment!K71>=5,Equipment!K71<=10),1200,IF(AND(Equipment!K71>10,Equipment!K71<=15),1800,IF(AND(Equipment!K71>15,Equipment!K71<=20),2500,IF(AND(Equipment!K71>20),2800,IF(AND(Equipment!K71>0,Equipment!K71<5),400,0))))),0)","v":0},null,{"$f":"IF(AND($C$6=\"Yes\",$C$7=\"Yes\",$C$8=\"Yes\",$C$9=\"Yes\",$C$10=\"Yes\",E75<>\"\"),0.341*INDEX(OpHours,MATCH(Equipment!$C$7,BuildingTypeList,0))*Equipment!$O71,0)","v":0}]
[61,null,{"$f":"IF(Equipment!X72=\"x\",Equipment!C72,\"\")","v":""},null,null,null,{"$f":"IF(AND($C$6=\"Yes\",$C$7=\"Yes\",$C$8=\"Yes\",$C$9=\"Yes\",$C$10=\"Yes\",E76<>\"\"),IF(AND(Equipment!K72>=5,Equipment!K72<=10),1200,IF(AND(Equipment!K72>10,Equipment!K72<=15),1800,IF(AND(Equipment!K72>15,Equipment!K72<=20),2500,IF(AND(Equipment!K72>20),2800,IF(AND(Equipment!K72>0,Equipment!K72<5),400,0))))),0)","v":0},null,{"$f":"IF(AND($C$6=\"Yes\",$C$7=\"Yes\",$C$8=\"Yes\",$C$9=\"Yes\",$C$10=\"Yes\",E76<>\"\"),0.341*INDEX(OpHours,MATCH(Equipment!$C$7,BuildingTypeList,0))*Equipment!$O72,0)","v":0}]
[62,null,{"$f":"IF(Equipment!X73=\"x\",Equipment!C73,\"\")","v":""},null,null,null,{"$f":"IF(AND($C$6=\"Yes\",$C$7=\"Yes\",$C$8=\"Yes\",$C$9=\"Yes\",$C$10=\"Yes\",E77<>\"\"),IF(AND(Equipment!K73>=5,Equipment!K73<=10),1200,IF(AND(Equipment!K73>10,Equipment!K73<=15),1800,IF(AND(Equipment!K73>15,Equipment!K73<=20),2500,IF(AND(Equipment!K73>20),2800,IF(AND(Equipment!K73>0,Equipment!K73<5),400,0))))),0)","v":0},null,{"$f":"IF(AND($C$6=\"Yes\",$C$7=\"Yes\",$C$8=\"Yes\",$C$9=\"Yes\",$C$10=\"Yes\",E77<>\"\"),0.341*INDEX(OpHours,MATCH(Equipment!$C$7,BuildingTypeList,0))*Equipment!$O73,0)","v":0}]
[63,null,{"$f":"IF(Equipment!X74=\"x\",Equipment!C74,\"\")","v":""},null,null,null,{"$f":"IF(AND($C$6=\"Yes\",$C$7=\"Yes\",$C$8=\"Yes\",$C$9=\"Yes\",$C$10=\"Yes\",E78<>\"\"),IF(AND(Equipment!K74>=5,Equipment!K74<=10),1200,IF(AND(Equipment!K74>10,Equipment!K74<=15),1800,IF(AND(Equipment!K74>15,Equipment!K74<=20),2500,IF(AND(Equipment!K74>20),2800,IF(AND(Equipment!K74>0,Equipment!K74<5),400,0))))),0)","v":0},null,{"$f":"IF(AND($C$6=\"Yes\",$C$7=\"Yes\",$C$8=\"Yes\",$C$9=\"Yes\",$C$10=\"Yes\",E78<>\"\"),0.341*INDEX(OpHours,MATCH(Equipment!$C$7,BuildingTypeList,0))*Equipment!$O74,0)","v":0}]
[64,null,{"$f":"IF(Equipment!X75=\"x\",Equipment!C75,\"\")","v":""},null,null,null,{"$f":"IF(AND($C$6=\"Yes\",$C$7=\"Yes\",$C$8=\"Yes\",$C$9=\"Yes\",$C$10=\"Yes\",E79<>\"\"),IF(AND(Equipment!K75>=5,Equipment!K75<=10),1200,IF(AND(Equipment!K75>10,Equipment!K75<=15),1800,IF(AND(Equipment!K75>15,Equipment!K75<=20),2500,IF(AND(Equipment!K75>20),2800,IF(AND(Equipment!K75>0,Equipment!K75<5),400,0))))),0)","v":0},null,{"$f":"IF(AND($C$6=\"Yes\",$C$7=\"Yes\",$C$8=\"Yes\",$C$9=\"Yes\",$C$10=\"Yes\",E79<>\"\"),0.341*INDEX(OpHours,MATCH(Equipment!$C$7,BuildingTypeList,0))*Equipment!$O75,0)","v":0}]
[65,null,{"$f":"IF(Equipment!X76=\"x\",Equipment!C76,\"\")","v":""},null,null,null,{"$f":"IF(AND($C$6=\"Yes\",$C$7=\"Yes\",$C$8=\"Yes\",$C$9=\"Yes\",$C$10=\"Yes\",E80<>\"\"),IF(AND(Equipment!K76>=5,Equipment!K76<=10),1200,IF(AND(Equipment!K76>10,Equipment!K76<=15),1800,IF(AND(Equipment!K76>15,Equipment!K76<=20),2500,IF(AND(Equipment!K76>20),2800,IF(AND(Equipment!K76>0,Equipment!K76<5),400,0))))),0)","v":0},null,{"$f":"IF(AND($C$6=\"Yes\",$C$7=\"Yes\",$C$8=\"Yes\",$C$9=\"Yes\",$C$10=\"Yes\",E80<>\"\"),0.341*INDEX(OpHours,MATCH(Equipment!$C$7,BuildingTypeList,0))*Equipment!$O76,0)","v":0}]
[66,null,{"$f":"IF(Equipment!X77=\"x\",Equipment!C77,\"\")","v":""},null,null,null,{"$f":"IF(AND($C$6=\"Yes\",$C$7=\"Yes\",$C$8=\"Yes\",$C$9=\"Yes\",$C$10=\"Yes\",E81<>\"\"),IF(AND(Equipment!K77>=5,Equipment!K77<=10),1200,IF(AND(Equipment!K77>10,Equipment!K77<=15),1800,IF(AND(Equipment!K77>15,Equipment!K77<=20),2500,IF(AND(Equipment!K77>20),2800,IF(AND(Equipment!K77>0,Equipment!K77<5),400,0))))),0)","v":0},null,{"$f":"IF(AND($C$6=\"Yes\",$C$7=\"Yes\",$C$8=\"Yes\",$C$9=\"Yes\",$C$10=\"Yes\",E81<>\"\"),0.341*INDEX(OpHours,MATCH(Equipment!$C$7,BuildingTypeList,0))*Equipment!$O77,0)","v":0}]
[67,null,{"$f":"IF(Equipment!X78=\"x\",Equipment!C78,\"\")","v":""},null,null,null,{"$f":"IF(AND($C$6=\"Yes\",$C$7=\"Yes\",$C$8=\"Yes\",$C$9=\"Yes\",$C$10=\"Yes\",E82<>\"\"),IF(AND(Equipment!K78>=5,Equipment!K78<=10),1200,IF(AND(Equipment!K78>10,Equipment!K78<=15),1800,IF(AND(Equipment!K78>15,Equipment!K78<=20),2500,IF(AND(Equipment!K78>20),2800,IF(AND(Equipment!K78>0,Equipment!K78<5),400,0))))),0)","v":0},null,{"$f":"IF(AND($C$6=\"Yes\",$C$7=\"Yes\",$C$8=\"Yes\",$C$9=\"Yes\",$C$10=\"Yes\",E82<>\"\"),0.341*INDEX(OpHours,MATCH(Equipment!$C$7,BuildingTypeList,0))*Equipment!$O78,0)","v":0}]
[68,null,{"$f":"IF(Equipment!X79=\"x\",Equipment!C79,\"\")","v":""},null,null,null,{"$f":"IF(AND($C$6=\"Yes\",$C$7=\"Yes\",$C$8=\"Yes\",$C$9=\"Yes\",$C$10=\"Yes\",E83<>\"\"),IF(AND(Equipment!K79>=5,Equipment!K79<=10),1200,IF(AND(Equipment!K79>10,Equipment!K79<=15),1800,IF(AND(Equipment!K79>15,Equipment!K79<=20),2500,IF(AND(Equipment!K79>20),2800,IF(AND(Equipment!K79>0,Equipment!K79<5),400,0))))),0)","v":0},null,{"$f":"IF(AND($C$6=\"Yes\",$C$7=\"Yes\",$C$8=\"Yes\",$C$9=\"Yes\",$C$10=\"Yes\",E83<>\"\"),0.341*INDEX(OpHours,MATCH(Equipment!$C$7,BuildingTypeList,0))*Equipment!$O79,0)","v":0}]
[69,null,{"$f":"IF(Equipment!X80=\"x\",Equipment!C80,\"\")","v":""},null,null,null,{"$f":"IF(AND($C$6=\"Yes\",$C$7=\"Yes\",$C$8=\"Yes\",$C$9=\"Yes\",$C$10=\"Yes\",E84<>\"\"),IF(AND(Equipment!K80>=5,Equipment!K80<=10),1200,IF(AND(Equipment!K80>10,Equipment!K80<=15),1800,IF(AND(Equipment!K80>15,Equipment!K80<=20),2500,IF(AND(Equipment!K80>20),2800,IF(AND(Equipment!K80>0,Equipment!K80<5),400,0))))),0)","v":0},null,{"$f":"IF(AND($C$6=\"Yes\",$C$7=\"Yes\",$C$8=\"Yes\",$C$9=\"Yes\",$C$10=\"Yes\",E84<>\"\"),0.341*INDEX(OpHours,MATCH(Equipment!$C$7,BuildingTypeList,0))*Equipment!$O80,0)","v":0}]
[70,null,{"$f":"IF(Equipment!X81=\"x\",Equipment!C81,\"\")","v":""},null,null,null,{"$f":"IF(AND($C$6=\"Yes\",$C$7=\"Yes\",$C$8=\"Yes\",$C$9=\"Yes\",$C$10=\"Yes\",E85<>\"\"),IF(AND(Equipment!K81>=5,Equipment!K81<=10),1200,IF(AND(Equipment!K81>10,Equipment!K81<=15),1800,IF(AND(Equipment!K81>15,Equipment!K81<=20),2500,IF(AND(Equipment!K81>20),2800,IF(AND(Equipment!K81>0,Equipment!K81<5),400,0))))),0)","v":0},null,{"$f":"IF(AND($C$6=\"Yes\",$C$7=\"Yes\",$C$8=\"Yes\",$C$9=\"Yes\",$C$10=\"Yes\",E85<>\"\"),0.341*INDEX(OpHours,MATCH(Equipment!$C$7,BuildingTypeList,0))*Equipment!$O81,0)","v":0}]
[71,null,{"$f":"IF(Equipment!X82=\"x\",Equipment!C82,\"\")","v":""},null,null,null,{"$f":"IF(AND($C$6=\"Yes\",$C$7=\"Yes\",$C$8=\"Yes\",$C$9=\"Yes\",$C$10=\"Yes\",E86<>\"\"),IF(AND(Equipment!K82>=5,Equipment!K82<=10),1200,IF(AND(Equipment!K82>10,Equipment!K82<=15),1800,IF(AND(Equipment!K82>15,Equipment!K82<=20),2500,IF(AND(Equipment!K82>20),2800,IF(AND(Equipment!K82>0,Equipment!K82<5),400,0))))),0)","v":0},null,{"$f":"IF(AND($C$6=\"Yes\",$C$7=\"Yes\",$C$8=\"Yes\",$C$9=\"Yes\",$C$10=\"Yes\",E86<>\"\"),0.341*INDEX(OpHours,MATCH(Equipment!$C$7,BuildingTypeList,0))*Equipment!$O82,0)","v":0}]
[72,null,{"$f":"IF(Equipment!X83=\"x\",Equipment!C83,\"\")","v":""},null,null,null,{"$f":"IF(AND($C$6=\"Yes\",$C$7=\"Yes\",$C$8=\"Yes\",$C$9=\"Yes\",$C$10=\"Yes\",E87<>\"\"),IF(AND(Equipment!K83>=5,Equipment!K83<=10),1200,IF(AND(Equipment!K83>10,Equipment!K83<=15),1800,IF(AND(Equipment!K83>15,Equipment!K83<=20),2500,IF(AND(Equipment!K83>20),2800,IF(AND(Equipment!K83>0,Equipment!K83<5),400,0))))),0)","v":0},null,{"$f":"IF(AND($C$6=\"Yes\",$C$7=\"Yes\",$C$8=\"Yes\",$C$9=\"Yes\",$C$10=\"Yes\",E87<>\"\"),0.341*INDEX(OpHours,MATCH(Equipment!$C$7,BuildingTypeList,0))*Equipment!$O83,0)","v":0}]
[73,null,{"$f":"IF(Equipment!X84=\"x\",Equipment!C84,\"\")","v":""},null,null,null,{"$f":"IF(AND($C$6=\"Yes\",$C$7=\"Yes\",$C$8=\"Yes\",$C$9=\"Yes\",$C$10=\"Yes\",E88<>\"\"),IF(AND(Equipment!K84>=5,Equipment!K84<=10),1200,IF(AND(Equipment!K84>10,Equipment!K84<=15),1800,IF(AND(Equipment!K84>15,Equipment!K84<=20),2500,IF(AND(Equipment!K84>20),2800,IF(AND(Equipment!K84>0,Equipment!K84<5),400,0))))),0)","v":0},null,{"$f":"IF(AND($C$6=\"Yes\",$C$7=\"Yes\",$C$8=\"Yes\",$C$9=\"Yes\",$C$10=\"Yes\",E88<>\"\"),0.341*INDEX(OpHours,MATCH(Equipment!$C$7,BuildingTypeList,0))*Equipment!$O84,0)","v":0}]
[74,null,{"$f":"IF(Equipment!X85=\"x\",Equipment!C85,\"\")","v":""},null,null,null,{"$f":"IF(AND($C$6=\"Yes\",$C$7=\"Yes\",$C$8=\"Yes\",$C$9=\"Yes\",$C$10=\"Yes\",E89<>\"\"),IF(AND(Equipment!K85>=5,Equipment!K85<=10),1200,IF(AND(Equipment!K85>10,Equipment!K85<=15),1800,IF(AND(Equipment!K85>15,Equipment!K85<=20),2500,IF(AND(Equipment!K85>20),2800,IF(AND(Equipment!K85>0,Equipment!K85<5),400,0))))),0)","v":0},null,{"$f":"IF(AND($C$6=\"Yes\",$C$7=\"Yes\",$C$8=\"Yes\",$C$9=\"Yes\",$C$10=\"Yes\",E89<>\"\"),0.341*INDEX(OpHours,MATCH(Equipment!$C$7,BuildingTypeList,0))*Equipment!$O85,0)","v":0}]
[75,null,{"$f":"IF(Equipment!X86=\"x\",Equipment!C86,\"\")","v":""},null,null,null,{"$f":"IF(AND($C$6=\"Yes\",$C$7=\"Yes\",$C$8=\"Yes\",$C$9=\"Yes\",$C$10=\"Yes\",E90<>\"\"),IF(AND(Equipment!K86>=5,Equipment!K86<=10),1200,IF(AND(Equipment!K86>10,Equipment!K86<=15),1800,IF(AND(Equipment!K86>15,Equipment!K86<=20),2500,IF(AND(Equipment!K86>20),2800,IF(AND(Equipment!K86>0,Equipment!K86<5),400,0))))),0)","v":0},null,{"$f":"IF(AND($C$6=\"Yes\",$C$7=\"Yes\",$C$8=\"Yes\",$C$9=\"Yes\",$C$10=\"Yes\",E90<>\"\"),0.341*INDEX(OpHours,MATCH(Equipment!$C$7,BuildingTypeList,0))*Equipment!$O86,0)","v":0}]
[76,null,{"$f":"IF(Equipment!X87=\"x\",Equipment!C87,\"\")","v":""},null,null,null,{"$f":"IF(AND($C$6=\"Yes\",$C$7=\"Yes\",$C$8=\"Yes\",$C$9=\"Yes\",$C$10=\"Yes\",E91<>\"\"),IF(AND(Equipment!K87>=5,Equipment!K87<=10),1200,IF(AND(Equipment!K87>10,Equipment!K87<=15),1800,IF(AND(Equipment!K87>15,Equipment!K87<=20),2500,IF(AND(Equipment!K87>20),2800,IF(AND(Equipment!K87>0,Equipment!K87<5),400,0))))),0)","v":0},null,{"$f":"IF(AND($C$6=\"Yes\",$C$7=\"Yes\",$C$8=\"Yes\",$C$9=\"Yes\",$C$10=\"Yes\",E91<>\"\"),0.341*INDEX(OpHours,MATCH(Equipment!$C$7,BuildingTypeList,0))*Equipment!$O87,0)","v":0}]
[77,null,{"$f":"IF(Equipment!X88=\"x\",Equipment!C88,\"\")","v":""},null,null,null,{"$f":"IF(AND($C$6=\"Yes\",$C$7=\"Yes\",$C$8=\"Yes\",$C$9=\"Yes\",$C$10=\"Yes\",E92<>\"\"),IF(AND(Equipment!K88>=5,Equipment!K88<=10),1200,IF(AND(Equipment!K88>10,Equipment!K88<=15),1800,IF(AND(Equipment!K88>15,Equipment!K88<=20),2500,IF(AND(Equipment!K88>20),2800,IF(AND(Equipment!K88>0,Equipment!K88<5),400,0))))),0)","v":0},null,{"$f":"IF(AND($C$6=\"Yes\",$C$7=\"Yes\",$C$8=\"Yes\",$C$9=\"Yes\",$C$10=\"Yes\",E92<>\"\"),0.341*INDEX(OpHours,MATCH(Equipment!$C$7,BuildingTypeList,0))*Equipment!$O88,0)","v":0}]
[78,null,{"$f":"IF(Equipment!X89=\"x\",Equipment!C89,\"\")","v":""},null,null,null,{"$f":"IF(AND($C$6=\"Yes\",$C$7=\"Yes\",$C$8=\"Yes\",$C$9=\"Yes\",$C$10=\"Yes\",E93<>\"\"),IF(AND(Equipment!K89>=5,Equipment!K89<=10),1200,IF(AND(Equipment!K89>10,Equipment!K89<=15),1800,IF(AND(Equipment!K89>15,Equipment!K89<=20),2500,IF(AND(Equipment!K89>20),2800,IF(AND(Equipment!K89>0,Equipment!K89<5),400,0))))),0)","v":0},null,{"$f":"IF(AND($C$6=\"Yes\",$C$7=\"Yes\",$C$8=\"Yes\",$C$9=\"Yes\",$C$10=\"Yes\",E93<>\"\"),0.341*INDEX(OpHours,MATCH(Equipment!$C$7,BuildingTypeList,0))*Equipment!$O89,0)","v":0}]
[79,null,{"$f":"IF(Equipment!X90=\"x\",Equipment!C90,\"\")","v":""},null,null,null,{"$f":"IF(AND($C$6=\"Yes\",$C$7=\"Yes\",$C$8=\"Yes\",$C$9=\"Yes\",$C$10=\"Yes\",E94<>\"\"),IF(AND(Equipment!K90>=5,Equipment!K90<=10),1200,IF(AND(Equipment!K90>10,Equipment!K90<=15),1800,IF(AND(Equipment!K90>15,Equipment!K90<=20),2500,IF(AND(Equipment!K90>20),2800,IF(AND(Equipment!K90>0,Equipment!K90<5),400,0))))),0)","v":0},null,{"$f":"IF(AND($C$6=\"Yes\",$C$7=\"Yes\",$C$8=\"Yes\",$C$9=\"Yes\",$C$10=\"Yes\",E94<>\"\"),0.341*INDEX(OpHours,MATCH(Equipment!$C$7,BuildingTypeList,0))*Equipment!$O90,0)","v":0}]
[80,null,{"$f":"IF(Equipment!X91=\"x\",Equipment!C91,\"\")","v":""},null,null,null,{"$f":"IF(AND($C$6=\"Yes\",$C$7=\"Yes\",$C$8=\"Yes\",$C$9=\"Yes\",$C$10=\"Yes\",E95<>\"\"),IF(AND(Equipment!K91>=5,Equipment!K91<=10),1200,IF(AND(Equipment!K91>10,Equipment!K91<=15),1800,IF(AND(Equipment!K91>15,Equipment!K91<=20),2500,IF(AND(Equipment!K91>20),2800,IF(AND(Equipment!K91>0,Equipment!K91<5),400,0))))),0)","v":0},null,{"$f":"IF(AND($C$6=\"Yes\",$C$7=\"Yes\",$C$8=\"Yes\",$C$9=\"Yes\",$C$10=\"Yes\",E95<>\"\"),0.341*INDEX(OpHours,MATCH(Equipment!$C$7,BuildingTypeList,0))*Equipment!$O91,0)","v":0}]
[81,null,{"$f":"IF(Equipment!X92=\"x\",Equipment!C92,\"\")","v":""},null,null,null,{"$f":"IF(AND($C$6=\"Yes\",$C$7=\"Yes\",$C$8=\"Yes\",$C$9=\"Yes\",$C$10=\"Yes\",E96<>\"\"),IF(AND(Equipment!K92>=5,Equipment!K92<=10),1200,IF(AND(Equipment!K92>10,Equipment!K92<=15),1800,IF(AND(Equipment!K92>15,Equipment!K92<=20),2500,IF(AND(Equipment!K92>20),2800,IF(AND(Equipment!K92>0,Equipment!K92<5),400,0))))),0)","v":0},null,{"$f":"IF(AND($C$6=\"Yes\",$C$7=\"Yes\",$C$8=\"Yes\",$C$9=\"Yes\",$C$10=\"Yes\",E96<>\"\"),0.341*INDEX(OpHours,MATCH(Equipment!$C$7,BuildingTypeList,0))*Equipment!$O92,0)","v":0}]
[82,null,{"$f":"IF(Equipment!X93=\"x\",Equipment!C93,\"\")","v":""},null,null,null,{"$f":"IF(AND($C$6=\"Yes\",$C$7=\"Yes\",$C$8=\"Yes\",$C$9=\"Yes\",$C$10=\"Yes\",E97<>\"\"),IF(AND(Equipment!K93>=5,Equipment!K93<=10),1200,IF(AND(Equipment!K93>10,Equipment!K93<=15),1800,IF(AND(Equipment!K93>15,Equipment!K93<=20),2500,IF(AND(Equipment!K93>20),2800,IF(AND(Equipment!K93>0,Equipment!K93<5),400,0))))),0)","v":0},null,{"$f":"IF(AND($C$6=\"Yes\",$C$7=\"Yes\",$C$8=\"Yes\",$C$9=\"Yes\",$C$10=\"Yes\",E97<>\"\"),0.341*INDEX(OpHours,MATCH(Equipment!$C$7,BuildingTypeList,0))*Equipment!$O93,0)","v":0}]
[83,null,{"$f":"IF(Equipment!X94=\"x\",Equipment!C94,\"\")","v":""},null,null,null,{"$f":"IF(AND($C$6=\"Yes\",$C$7=\"Yes\",$C$8=\"Yes\",$C$9=\"Yes\",$C$10=\"Yes\",E98<>\"\"),IF(AND(Equipment!K94>=5,Equipment!K94<=10),1200,IF(AND(Equipment!K94>10,Equipment!K94<=15),1800,IF(AND(Equipment!K94>15,Equipment!K94<=20),2500,IF(AND(Equipment!K94>20),2800,IF(AND(Equipment!K94>0,Equipment!K94<5),400,0))))),0)","v":0},null,{"$f":"IF(AND($C$6=\"Yes\",$C$7=\"Yes\",$C$8=\"Yes\",$C$9=\"Yes\",$C$10=\"Yes\",E98<>\"\"),0.341*INDEX(OpHours,MATCH(Equipment!$C$7,BuildingTypeList,0))*Equipment!$O94,0)","v":0}]
[84,null,{"$f":"IF(Equipment!X95=\"x\",Equipment!C95,\"\")","v":""},null,null,null,{"$f":"IF(AND($C$6=\"Yes\",$C$7=\"Yes\",$C$8=\"Yes\",$C$9=\"Yes\",$C$10=\"Yes\",E99<>\"\"),IF(AND(Equipment!K95>=5,Equipment!K95<=10),1200,IF(AND(Equipment!K95>10,Equipment!K95<=15),1800,IF(AND(Equipment!K95>15,Equipment!K95<=20),2500,IF(AND(Equipment!K95>20),2800,IF(AND(Equipment!K95>0,Equipment!K95<5),400,0))))),0)","v":0},null,{"$f":"IF(AND($C$6=\"Yes\",$C$7=\"Yes\",$C$8=\"Yes\",$C$9=\"Yes\",$C$10=\"Yes\",E99<>\"\"),0.341*INDEX(OpHours,MATCH(Equipment!$C$7,BuildingTypeList,0))*Equipment!$O95,0)","v":0}]
[85,null,{"$f":"IF(Equipment!X96=\"x\",Equipment!C96,\"\")","v":""},null,null,null,{"$f":"IF(AND($C$6=\"Yes\",$C$7=\"Yes\",$C$8=\"Yes\",$C$9=\"Yes\",$C$10=\"Yes\",E100<>\"\"),IF(AND(Equipment!K96>=5,Equipment!K96<=10),1200,IF(AND(Equipment!K96>10,Equipment!K96<=15),1800,IF(AND(Equipment!K96>15,Equipment!K96<=20),2500,IF(AND(Equipment!K96>20),2800,IF(AND(Equipment!K96>0,Equipment!K96<5),400,0))))),0)","v":0},null,{"$f":"IF(AND($C$6=\"Yes\",$C$7=\"Yes\",$C$8=\"Yes\",$C$9=\"Yes\",$C$10=\"Yes\",E100<>\"\"),0.341*INDEX(OpHours,MATCH(Equipment!$C$7,BuildingTypeList,0))*Equipment!$O96,0)","v":0}]
[86,null,{"$f":"IF(Equipment!X97=\"x\",Equipment!C97,\"\")","v":""},null,null,null,{"$f":"IF(AND($C$6=\"Yes\",$C$7=\"Yes\",$C$8=\"Yes\",$C$9=\"Yes\",$C$10=\"Yes\",E101<>\"\"),IF(AND(Equipment!K97>=5,Equipment!K97<=10),1200,IF(AND(Equipment!K97>10,Equipment!K97<=15),1800,IF(AND(Equipment!K97>15,Equipment!K97<=20),2500,IF(AND(Equipment!K97>20),2800,IF(AND(Equipment!K97>0,Equipment!K97<5),400,0))))),0)","v":0},null,{"$f":"IF(AND($C$6=\"Yes\",$C$7=\"Yes\",$C$8=\"Yes\",$C$9=\"Yes\",$C$10=\"Yes\",E101<>\"\"),0.341*INDEX(OpHours,MATCH(Equipment!$C$7,BuildingTypeList,0))*Equipment!$O97,0)","v":0}]
[87,null,{"$f":"IF(Equipment!X98=\"x\",Equipment!C98,\"\")","v":""},null,null,null,{"$f":"IF(AND($C$6=\"Yes\",$C$7=\"Yes\",$C$8=\"Yes\",$C$9=\"Yes\",$C$10=\"Yes\",E102<>\"\"),IF(AND(Equipment!K98>=5,Equipment!K98<=10),1200,IF(AND(Equipment!K98>10,Equipment!K98<=15),1800,IF(AND(Equipment!K98>15,Equipment!K98<=20),2500,IF(AND(Equipment!K98>20),2800,IF(AND(Equipment!K98>0,Equipment!K98<5),400,0))))),0)","v":0},null,{"$f":"IF(AND($C$6=\"Yes\",$C$7=\"Yes\",$C$8=\"Yes\",$C$9=\"Yes\",$C$10=\"Yes\",E102<>\"\"),0.341*INDEX(OpHours,MATCH(Equipment!$C$7,BuildingTypeList,0))*Equipment!$O98,0)","v":0}]
[88,null,{"$f":"IF(Equipment!X99=\"x\",Equipment!C99,\"\")","v":""},null,null,null,{"$f":"IF(AND($C$6=\"Yes\",$C$7=\"Yes\",$C$8=\"Yes\",$C$9=\"Yes\",$C$10=\"Yes\",E103<>\"\"),IF(AND(Equipment!K99>=5,Equipment!K99<=10),1200,IF(AND(Equipment!K99>10,Equipment!K99<=15),1800,IF(AND(Equipment!K99>15,Equipment!K99<=20),2500,IF(AND(Equipment!K99>20),2800,IF(AND(Equipment!K99>0,Equipment!K99<5),400,0))))),0)","v":0},null,{"$f":"IF(AND($C$6=\"Yes\",$C$7=\"Yes\",$C$8=\"Yes\",$C$9=\"Yes\",$C$10=\"Yes\",E103<>\"\"),0.341*INDEX(OpHours,MATCH(Equipment!$C$7,BuildingTypeList,0))*Equipment!$O99,0)","v":0}]
[89,null,{"$f":"IF(Equipment!X100=\"x\",Equipment!C100,\"\")","v":""},null,null,null,{"$f":"IF(AND($C$6=\"Yes\",$C$7=\"Yes\",$C$8=\"Yes\",$C$9=\"Yes\",$C$10=\"Yes\",E104<>\"\"),IF(AND(Equipment!K100>=5,Equipment!K100<=10),1200,IF(AND(Equipment!K100>10,Equipment!K100<=15),1800,IF(AND(Equipment!K100>15,Equipment!K100<=20),2500,IF(AND(Equipment!K100>20),2800,IF(AND(Equipment!K100>0,Equipment!K100<5),400,0))))),0)","v":0},null,{"$f":"IF(AND($C$6=\"Yes\",$C$7=\"Yes\",$C$8=\"Yes\",$C$9=\"Yes\",$C$10=\"Yes\",E104<>\"\"),0.341*INDEX(OpHours,MATCH(Equipment!$C$7,BuildingTypeList,0))*Equipment!$O100,0)","v":0}]
[90,null,{"$f":"IF(Equipment!X101=\"x\",Equipment!C101,\"\")","v":""},null,null,null,{"$f":"IF(AND($C$6=\"Yes\",$C$7=\"Yes\",$C$8=\"Yes\",$C$9=\"Yes\",$C$10=\"Yes\",E105<>\"\"),IF(AND(Equipment!K101>=5,Equipment!K101<=10),1200,IF(AND(Equipment!K101>10,Equipment!K101<=15),1800,IF(AND(Equipment!K101>15,Equipment!K101<=20),2500,IF(AND(Equipment!K101>20),2800,IF(AND(Equipment!K101>0,Equipment!K101<5),400,0))))),0)","v":0},null,{"$f":"IF(AND($C$6=\"Yes\",$C$7=\"Yes\",$C$8=\"Yes\",$C$9=\"Yes\",$C$10=\"Yes\",E105<>\"\"),0.341*INDEX(OpHours,MATCH(Equipment!$C$7,BuildingTypeList,0))*Equipment!$O101,0)","v":0}]
[91,null,{"$f":"IF(Equipment!X102=\"x\",Equipment!C102,\"\")","v":""},null,null,null,{"$f":"IF(AND($C$6=\"Yes\",$C$7=\"Yes\",$C$8=\"Yes\",$C$9=\"Yes\",$C$10=\"Yes\",E106<>\"\"),IF(AND(Equipment!K102>=5,Equipment!K102<=10),1200,IF(AND(Equipment!K102>10,Equipment!K102<=15),1800,IF(AND(Equipment!K102>15,Equipment!K102<=20),2500,IF(AND(Equipment!K102>20),2800,IF(AND(Equipment!K102>0,Equipment!K102<5),400,0))))),0)","v":0},null,{"$f":"IF(AND($C$6=\"Yes\",$C$7=\"Yes\",$C$8=\"Yes\",$C$9=\"Yes\",$C$10=\"Yes\",E106<>\"\"),0.341*INDEX(OpHours,MATCH(Equipment!$C$7,BuildingTypeList,0))*Equipment!$O102,0)","v":0}]
[92,null,{"$f":"IF(Equipment!X103=\"x\",Equipment!C103,\"\")","v":""},null,null,null,{"$f":"IF(AND($C$6=\"Yes\",$C$7=\"Yes\",$C$8=\"Yes\",$C$9=\"Yes\",$C$10=\"Yes\",E107<>\"\"),IF(AND(Equipment!K103>=5,Equipment!K103<=10),1200,IF(AND(Equipment!K103>10,Equipment!K103<=15),1800,IF(AND(Equipment!K103>15,Equipment!K103<=20),2500,IF(AND(Equipment!K103>20),2800,IF(AND(Equipment!K103>0,Equipment!K103<5),400,0))))),0)","v":0},null,{"$f":"IF(AND($C$6=\"Yes\",$C$7=\"Yes\",$C$8=\"Yes\",$C$9=\"Yes\",$C$10=\"Yes\",E107<>\"\"),0.341*INDEX(OpHours,MATCH(Equipment!$C$7,BuildingTypeList,0))*Equipment!$O103,0)","v":0}]
[93,null,{"$f":"IF(Equipment!X104=\"x\",Equipment!C104,\"\")","v":""},null,null,null,{"$f":"IF(AND($C$6=\"Yes\",$C$7=\"Yes\",$C$8=\"Yes\",$C$9=\"Yes\",$C$10=\"Yes\",E108<>\"\"),IF(AND(Equipment!K104>=5,Equipment!K104<=10),1200,IF(AND(Equipment!K104>10,Equipment!K104<=15),1800,IF(AND(Equipment!K104>15,Equipment!K104<=20),2500,IF(AND(Equipment!K104>20),2800,IF(AND(Equipment!K104>0,Equipment!K104<5),400,0))))),0)","v":0},null,{"$f":"IF(AND($C$6=\"Yes\",$C$7=\"Yes\",$C$8=\"Yes\",$C$9=\"Yes\",$C$10=\"Yes\",E108<>\"\"),0.341*INDEX(OpHours,MATCH(Equipment!$C$7,BuildingTypeList,0))*Equipment!$O104,0)","v":0}]
[94,null,{"$f":"IF(Equipment!X105=\"x\",Equipment!C105,\"\")","v":""},null,null,null,{"$f":"IF(AND($C$6=\"Yes\",$C$7=\"Yes\",$C$8=\"Yes\",$C$9=\"Yes\",$C$10=\"Yes\",E109<>\"\"),IF(AND(Equipment!K105>=5,Equipment!K105<=10),1200,IF(AND(Equipment!K105>10,Equipment!K105<=15),1800,IF(AND(Equipment!K105>15,Equipment!K105<=20),2500,IF(AND(Equipment!K105>20),2800,IF(AND(Equipment!K105>0,Equipment!K105<5),400,0))))),0)","v":0},null,{"$f":"IF(AND($C$6=\"Yes\",$C$7=\"Yes\",$C$8=\"Yes\",$C$9=\"Yes\",$C$10=\"Yes\",E109<>\"\"),0.341*INDEX(OpHours,MATCH(Equipment!$C$7,BuildingTypeList,0))*Equipment!$O105,0)","v":0}]
[95,null,{"$f":"IF(Equipment!X106=\"x\",Equipment!C106,\"\")","v":""},null,null,null,{"$f":"IF(AND($C$6=\"Yes\",$C$7=\"Yes\",$C$8=\"Yes\",$C$9=\"Yes\",$C$10=\"Yes\",E110<>\"\"),IF(AND(Equipment!K106>=5,Equipment!K106<=10),1200,IF(AND(Equipment!K106>10,Equipment!K106<=15),1800,IF(AND(Equipment!K106>15,Equipment!K106<=20),2500,IF(AND(Equipment!K106>20),2800,IF(AND(Equipment!K106>0,Equipment!K106<5),400,0))))),0)","v":0},null,{"$f":"IF(AND($C$6=\"Yes\",$C$7=\"Yes\",$C$8=\"Yes\",$C$9=\"Yes\",$C$10=\"Yes\",E110<>\"\"),0.341*INDEX(OpHours,MATCH(Equipment!$C$7,BuildingTypeList,0))*Equipment!$O106,0)","v":0}]

{"sheet":"ARC - New HP RTU","index":11,"n_rows":110,"n_cols":20,"rows_kept":110,"cut":false,"hidden":true,"merged":[[109,2,109,3],[109,4,109,5],[109,6,109,7],[107,2,107,3],[107,4,107,5],[107,6,107,7],[108,2,108,3],[108,4,108,5],[108,6,108,7],[105,2,105,3],[105,4,105,5],[105,6,105,7],[106,2,106,3],[106,4,106,5],[106,6,106,7],[103,2,103,3],[103,4,103,5],[103,6,103,7],[104,2,104,3],[104,4,104,5],[104,6,104,7],[101,2,101,3],[101,4,101,5],[101,6,101,7],[102,2,102,3],[102,4,102,5],[102,6,102,7],[99,2,99,3],[99,4,99,5],[99,6,99,7],[100,2,100,3],[100,4,100,5],[100,6,100,7],[97,2,97,3],[97,4,97,5],[97,6,97,7],[98,2,98,3],[98,4,98,5],[98,6,98,7],[95,2,95,3],[95,4,95,5],[95,6,95,7],[96,2,96,3],[96,4,96,5],[96,6,96,7],[93,2,93,3],[93,4,93,5],[93,6,93,7],[94,2,94,3],[94,4,94,5],[94,6,94,7],[91,2,91,3],[91,4,91,5],[91,6,91,7],[92,2,92,3],[92,4,92,5],[92,6,92,7],[89,2,89,3],[89,4,89,5],[89,6,89,7],[90,2,90,3],[90,4,90,5],[90,6,90,7],[87,2,87,3],[87,4,87,5],[87,6,87,7],[88,2,88,3],[88,4,88,5],[88,6,88,7],[85,2,85,3],[85,4,85,5],[85,6,85,7],[86,2,86,3],[86,4,86,5],[86,6,86,7],[83,2,83,3],[83,4,83,5],[83,6,83,7],[84,2,84,3],[84,4,84,5],[84,6,84,7],[81,2,81,3],[81,4,81,5],[81,6,81,7],[82,2,82,3],[82,4,82,5],[82,6,82,7],[79,2,79,3],[79,4,79,5],[79,6,79,7],[80,2,80,3],[80,4,80,5],[80,6,80,7],[77,2,77,3],[77,4,77,5],[77,6,77,7],[78,2,78,3],[78,4,78,5],[78,6,78,7],[75,2,75,3],[75,4,75,5],[75,6,75,7],[76,2,76,3],[76,4,76,5],[76,6,76,7],[73,2,73,3],[73,4,73,5],[73,6,73,7],[74,2,74,3],[74,4,74,5],[74,6,74,7],[71,2,71,3],[71,4,71,5],[71,6,71,7],[72,2,72,3],[72,4,72,5],[72,6,72,7],[69,2,69,3],[69,4,69,5],[69,6,69,7],[70,2,70,3],[70,4,70,5],[70,6,70,7],[67,2,67,3],[67,4,67,5],[67,6,67,7],[68,2,68,3],[68,4,68,5],[68,6,68,7],[65,2,65,3],[65,4,65,5],[65,6,65,7],[66,2,66,3],[66,4,66,5],[66,6,66,7],[63,2,63,3],[63,4,63,5],[63,6,63,7],[64,2,64,3],[64,4,64,5],[64,6,64,7],[61,2,61,3],[61,4,61,5],[61,6,61,7],[62,2,62,3],[62,4,62,5],[62,6,62,7],[59,2,59,3],[59,4,59,5],[59,6,59,7],[60,2,60,3],[60,4,60,5],[60,6,60,7],[57,2,57,3],[57,4,57,5],[57,6,57,7],[58,2,58,3],[58,4,58,5],[58,6,58,7],[55,2,55,3],[55,4,55,5],[55,6,55,7],[56,2,56,3],[56,4,56,5],[56,6,56,7],[53,2,53,3],[53,4,53,5],[53,6,53,7],[54,2,54,3],[54,4,54,5],[54,6,54,7],[51,2,51,3],[51,4,51,5],[51,6,51,7],[52,2,52,3],[52,4,52,5],[52,6,52,7],[49,2,49,3],[49,4,49,5],[49,6,49,7],[50,2,50,3],[50,4,50,5],[50,6,50,7],[47,2,47,3],[47,4,47,5],[47,6,47,7],[48,2,48,3],[48,4,48,5],[48,6,48,7],[45,2,45,3],[45,4,45,5],[45,6,45,7],[46,2,46,3],[46,4,46,5],[46,6,46,7],[43,2,43,3],[43,4,43,5],[43,6,43,7],[44,2,44,3],[44,4,44,5],[44,6,44,7],[41,2,41,3],[41,4,41,5],[41,6,41,7],[42,2,42,3],[42,4,42,5],[42,6,42,7],[39,2,39,3],[39,4,39,5],[39,6,39,7],[40,2,40,3],[40,4,40,5],[40,6,40,7],[37,2,37,3],[37,4,37,5],[37,6,37,7],[38,2,38,3],[38,4,38,5],[38,6,38,7],[35,2,35,3],[35,4,35,5],[35,6,35,7],[36,2,36,3],[36,4,36,5],[36,6,36,7],[33,2,33,3],[33,4,33,5],[33,6,33,7],[34,2,34,3],[34,4,34,5],[34,6,34,7],[31,2,31,3],[31,4,31,5],[31,6,31,7],[32,2,32,3],[32,4,32,5],[32,6,32,7],[29,2,29,3],[29,4,29,5],[29,6,29,7],[30,2,30,3],[30,4,30,5],[30,6,30,7],[27,2,27,3],[27,4,27,5],[27,6,27,7],[28,2,28,3],[28,4,28,5],[28,6,28,7],[25,2,25,3],[25,4,25,5],[25,6,25,7],[26,2,26,3],[26,4,26,5],[26,6,26,7],[23,2,23,3],[23,4,23,5],[23,6,23,7],[24,2,24,3],[24,4,24,5],[24,6,24,7],[21,2,21,3],[21,4,21,5],[21,6,21,7],[22,2,22,3],[22,4,22,5],[22,6,22,7],[19,2,19,3],[19,4,19,5],[19,6,19,7],[20,2,20,3],[20,4,20,5],[20,6,20,7],[17,2,17,3],[17,4,17,5],[17,6,17,7],[18,2,18,3],[18,4,18,5],[18,6,18,7],[15,2,15,3],[15,4,15,5],[15,6,15,7],[16,2,16,3],[16,4,16,5],[16,6,16,7],[9,2,10,2],[9,3,10,10],[12,2,12,5],[13,2,14,3],[13,4,14,5],[13,6,14,7],[4,19,5,22],[5,3,5,10],[6,3,6,10],[6,19,8,22],[7,3,7,10],[8,3,8,10]]}
[]
[null,"Advanced Rooftop Controls (New Heat Pump RTU)",null,null,null,null,null,null,null,null,null,"Total kWh/yr Savings",{"$f":"SUM(I16:I110)","v":0},null,"Incentive",{"$f":"SUM(G16:H110)","v":0}]
[null,null,null,null,null,null,null,null,"Customer Costs",{"$f":"SUM(E16:F110)","v":0},null,"Total kW Savings",0,null,"Electric Cost Savings/YR",{"$f":"IFERROR(M2*INDEX(kWhRates,MATCH(RateSchedule,RateSchedules,0))+M3*12*INDEX(kWRates,MATCH(RateSchedule,RateSchedules,0)),0)","v":0},null,null,null,"Instructions"]
[null,null,null,null,null,null,null,null,null,null,null,null,null,null,null,null,null,null,null,"1. Complete yellow cells."]
[null,null,"Confirm the following:",null,null,null,null,null,null,null,null,null,null,null,null,null,null,null,null,"Note"]
[null,null,null,"1. Control is installed on a unitary package rooftop unit (no split-systems)"]
[null,null,null,"2. Rooftop unit is less than 1 year old",null,null,null,null,null,null,null,null,null,null,null,null,null,null,null,"All fields must be completed to calculate the savings & incentives"]
[null,null,null,"3. Control includes CO2 or occupancy based sensor that determines ventillation and space conditioning needs"]
[null,null,null,"4. Control includes digital, integrated economizer controls"]
[null,null,null,"5. Equipment utilizes a constant speed fan motor with either a supply fan VFD or multi-speed fan motor with controller that meets ventilation and space conditioning needs"]
[]
[]
[null,null,"Equipment Details: "]
[null,null,"Rooftop Unit Label (from equipment tab)",null,"Customer Cost",null,"Estimated Incentive",null,"kWh"]
[]
[1,null,{"$f":"IF(Equipment!X12=\"x\",Equipment!C12,\"\")","v":""},null,null,null,{"$f":"IF(AND($C$6=\"Yes\",$C$7=\"Yes\",$C$8=\"Yes\",$C$9=\"Yes\",$C$10=\"Yes\",E16<>\"\"),IF(AND(Equipment!K12>=5,Equipment!K12<=10),1200,IF(AND(Equipment!K12>10,Equipment!K12<=15),1800,IF(AND(Equipment!K12>15,Equipment!K12<=20),2500,IF(AND(Equipment!K12>20),2800,IF(AND(Equipment!K12>0,Equipment!K12<5),400,0))))),0)","v":0},null,{"$f":"IF(AND($C$6=\"Yes\",$C$7=\"Yes\",$C$8=\"Yes\",$C$9=\"Yes\",$C$10=\"Yes\",E16<>\"\"),0.341*INDEX(OpHours,MATCH(Equipment!$C$7,BuildingTypeList,0))*Equipment!$O12,0)","v":0}]
[2,null,{"$f":"IF(Equipment!X13=\"x\",Equipment!C13,\"\")","v":""},null,null,null,{"$f":"IF(AND($C$6=\"Yes\",$C$7=\"Yes\",$C$8=\"Yes\",$C$9=\"Yes\",$C$10=\"Yes\",E17<>\"\"),IF(AND(Equipment!K13>=5,Equipment!K13<=10),1200,IF(AND(Equipment!K13>10,Equipment!K13<=15),1800,IF(AND(Equipment!K13>15,Equipment!K13<=20),2500,IF(AND(Equipment!K13>20),2800,IF(AND(Equipment!K13>0,Equipment!K13<5),400,0))))),0)","v":0},null,{"$f":"IF(AND($C$6=\"Yes\",$C$7=\"Yes\",$C$8=\"Yes\",$C$9=\"Yes\",$C$10=\"Yes\",E17<>\"\"),0.341*INDEX(OpHours,MATCH(Equipment!$C$7,BuildingTypeList,0))*Equipment!$O13,0)","v":0}]
[3,null,{"$f":"IF(Equipment!X14=\"x\",Equipment!C14,\"\")","v":""},null,null,null,{"$f":"IF(AND($C$6=\"Yes\",$C$7=\"Yes\",$C$8=\"Yes\",$C$9=\"Yes\",$C$10=\"Yes\",E18<>\"\"),IF(AND(Equipment!K14>=5,Equipment!K14<=10),1200,IF(AND(Equipment!K14>10,Equipment!K14<=15),1800,IF(AND(Equipment!K14>15,Equipment!K14<=20),2500,IF(AND(Equipment!K14>20),2800,IF(AND(Equipment!K14>0,Equipment!K14<5),400,0))))),0)","v":0},null,{"$f":"IF(AND($C$6=\"Yes\",$C$7=\"Yes\",$C$8=\"Yes\",$C$9=\"Yes\",$C$10=\"Yes\",E18<>\"\"),0.341*INDEX(OpHours,MATCH(Equipment!$C$7,BuildingTypeList,0))*Equipment!$O14,0)","v":0}]
[4,null,{"$f":"IF(Equipment!X15=\"x\",Equipment!C15,\"\")","v":""},null,null,null,{"$f":"IF(AND($C$6=\"Yes\",$C$7=\"Yes\",$C$8=\"Yes\",$C$9=\"Yes\",$C$10=\"Yes\",E19<>\"\"),IF(AND(Equipment!K15>=5,Equipment!K15<=10),1200,IF(AND(Equipment!K15>10,Equipment!K15<=15),1800,IF(AND(Equipment!K15>15,Equipment!K15<=20),2500,IF(AND(Equipment!K15>20),2800,IF(AND(Equipment!K15>0,Equipment!K15<5),400,0))))),0)","v":0},null,{"$f":"IF(AND($C$6=\"Yes\",$C$7=\"Yes\",$C$8=\"Yes\",$C$9=\"Yes\",$C$10=\"Yes\",E19<>\"\"),0.341*INDEX(OpHours,MATCH(Equipment!$C$7,BuildingTypeList,0))*Equipment!$O15,0)","v":0}]
[5,null,{"$f":"IF(Equipment!X16=\"x\",Equipment!C16,\"\")","v":""},null,null,null,{"$f":"IF(AND($C$6=\"Yes\",$C$7=\"Yes\",$C$8=\"Yes\",$C$9=\"Yes\",$C$10=\"Yes\",E20<>\"\"),IF(AND(Equipment!K16>=5,Equipment!K16<=10),1200,IF(AND(Equipment!K16>10,Equipment!K16<=15),1800,IF(AND(Equipment!K16>15,Equipment!K16<=20),2500,IF(AND(Equipment!K16>20),2800,IF(AND(Equipment!K16>0,Equipment!K16<5),400,0))))),0)","v":0},null,{"$f":"IF(AND($C$6=\"Yes\",$C$7=\"Yes\",$C$8=\"Yes\",$C$9=\"Yes\",$C$10=\"Yes\",E20<>\"\"),0.341*INDEX(OpHours,MATCH(Equipment!$C$7,BuildingTypeList,0))*Equipment!$O16,0)","v":0}]
[6,null,{"$f":"IF(Equipment!X17=\"x\",Equipment!C17,\"\")","v":""},null,null,null,{"$f":"IF(AND($C$6=\"Yes\",$C$7=\"Yes\",$C$8=\"Yes\",$C$9=\"Yes\",$C$10=\"Yes\",E21<>\"\"),IF(AND(Equipment!K17>=5,Equipment!K17<=10),1200,IF(AND(Equipment!K17>10,Equipment!K17<=15),1800,IF(AND(Equipment!K17>15,Equipment!K17<=20),2500,IF(AND(Equipment!K17>20),2800,IF(AND(Equipment!K17>0,Equipment!K17<5),400,0))))),0)","v":0},null,{"$f":"IF(AND($C$6=\"Yes\",$C$7=\"Yes\",$C$8=\"Yes\",$C$9=\"Yes\",$C$10=\"Yes\",E21<>\"\"),0.341*INDEX(OpHours,MATCH(Equipment!$C$7,BuildingTypeList,0))*Equipment!$O17,0)","v":0}]
[7,null,{"$f":"IF(Equipment!X18=\"x\",Equipment!C18,\"\")","v":""},null,null,null,{"$f":"IF(AND($C$6=\"Yes\",$C$7=\"Yes\",$C$8=\"Yes\",$C$9=\"Yes\",$C$10=\"Yes\",E22<>\"\"),IF(AND(Equipment!K18>=5,Equipment!K18<=10),1200,IF(AND(Equipment!K18>10,Equipment!K18<=15),1800,IF(AND(Equipment!K18>15,Equipment!K18<=20),2500,IF(AND(Equipment!K18>20),2800,IF(AND(Equipment!K18>0,Equipment!K18<5),400,0))))),0)","v":0},null,{"$f":"IF(AND($C$6=\"Yes\",$C$7=\"Yes\",$C$8=\"Yes\",$C$9=\"Yes\",$C$10=\"Yes\",E22<>\"\"),0.341*INDEX(OpHours,MATCH(Equipment!$C$7,BuildingTypeList,0))*Equipment!$O18,0)","v":0}]
[8,null,{"$f":"IF(Equipment!X19=\"x\",Equipment!C19,\"\")","v":""},null,null,null,{"$f":"IF(AND($C$6=\"Yes\",$C$7=\"Yes\",$C$8=\"Yes\",$C$9=\"Yes\",$C$10=\"Yes\",E23<>\"\"),IF(AND(Equipment!K19>=5,Equipment!K19<=10),1200,IF(AND(Equipment!K19>10,Equipment!K19<=15),1800,IF(AND(Equipment!K19>15,Equipment!K19<=20),2500,IF(AND(Equipment!K19>20),2800,IF(AND(Equipment!K19>0,Equipment!K19<5),400,0))))),0)","v":0},null,{"$f":"IF(AND($C$6=\"Yes\",$C$7=\"Yes\",$C$8=\"Yes\",$C$9=\"Yes\",$C$10=\"Yes\",E23<>\"\"),0.341*INDEX(OpHours,MATCH(Equipment!$C$7,BuildingTypeList,0))*Equipment!$O19,0)","v":0}]
[9,null,{"$f":"IF(Equipment!X20=\"x\",Equipment!C20,\"\")","v":""},null,null,null,{"$f":"IF(AND($C$6=\"Yes\",$C$7=\"Yes\",$C$8=\"Yes\",$C$9=\"Yes\",$C$10=\"Yes\",E24<>\"\"),IF(AND(Equipment!K20>=5,Equipment!K20<=10),1200,IF(AND(Equipment!K20>10,Equipment!K20<=15),1800,IF(AND(Equipment!K20>15,Equipment!K20<=20),2500,IF(AND(Equipment!K20>20),2800,IF(AND(Equipment!K20>0,Equipment!K20<5),400,0))))),0)","v":0},null,{"$f":"IF(AND($C$6=\"Yes\",$C$7=\"Yes\",$C$8=\"Yes\",$C$9=\"Yes\",$C$10=\"Yes\",E24<>\"\"),0.341*INDEX(OpHours,MATCH(Equipment!$C$7,BuildingTypeList,0))*Equipment!$O20,0)","v":0}]
[10,null,{"$f":"IF(Equipment!X21=\"x\",Equipment!C21,\"\")","v":""},null,null,null,{"$f":"IF(AND($C$6=\"Yes\",$C$7=\"Yes\",$C$8=\"Yes\",$C$9=\"Yes\",$C$10=\"Yes\",E25<>\"\"),IF(AND(Equipment!K21>=5,Equipment!K21<=10),1200,IF(AND(Equipment!K21>10,Equipment!K21<=15),1800,IF(AND(Equipment!K21>15,Equipment!K21<=20),2500,IF(AND(Equipment!K21>20),2800,IF(AND(Equipment!K21>0,Equipment!K21<5),400,0))))),0)","v":0},null,{"$f":"IF(AND($C$6=\"Yes\",$C$7=\"Yes\",$C$8=\"Yes\",$C$9=\"Yes\",$C$10=\"Yes\",E25<>\"\"),0.341*INDEX(OpHours,MATCH(Equipment!$C$7,BuildingTypeList,0))*Equipment!$O21,0)","v":0}]
[11,null,{"$f":"IF(Equipment!X22=\"x\",Equipment!C22,\"\")","v":""},null,null,null,{"$f":"IF(AND($C$6=\"Yes\",$C$7=\"Yes\",$C$8=\"Yes\",$C$9=\"Yes\",$C$10=\"Yes\",E26<>\"\"),IF(AND(Equipment!K22>=5,Equipment!K22<=10),1200,IF(AND(Equipment!K22>10,Equipment!K22<=15),1800,IF(AND(Equipment!K22>15,Equipment!K22<=20),2500,IF(AND(Equipment!K22>20),2800,IF(AND(Equipment!K22>0,Equipment!K22<5),400,0))))),0)","v":0},null,{"$f":"IF(AND($C$6=\"Yes\",$C$7=\"Yes\",$C$8=\"Yes\",$C$9=\"Yes\",$C$10=\"Yes\",E26<>\"\"),0.341*INDEX(OpHours,MATCH(Equipment!$C$7,BuildingTypeList,0))*Equipment!$O22,0)","v":0}]
[12,null,{"$f":"IF(Equipment!X23=\"x\",Equipment!C23,\"\")","v":""},null,null,null,{"$f":"IF(AND($C$6=\"Yes\",$C$7=\"Yes\",$C$8=\"Yes\",$C$9=\"Yes\",$C$10=\"Yes\",E27<>\"\"),IF(AND(Equipment!K23>=5,Equipment!K23<=10),1200,IF(AND(Equipment!K23>10,Equipment!K23<=15),1800,IF(AND(Equipment!K23>15,Equipment!K23<=20),2500,IF(AND(Equipment!K23>20),2800,IF(AND(Equipment!K23>0,Equipment!K23<5),400,0))))),0)","v":0},null,{"$f":"IF(AND($C$6=\"Yes\",$C$7=\"Yes\",$C$8=\"Yes\",$C$9=\"Yes\",$C$10=\"Yes\",E27<>\"\"),0.341*INDEX(OpHours,MATCH(Equipment!$C$7,BuildingTypeList,0))*Equipment!$O23,0)","v":0}]
[13,null,{"$f":"IF(Equipment!X24=\"x\",Equipment!C24,\"\")","v":""},null,null,null,{"$f":"IF(AND($C$6=\"Yes\",$C$7=\"Yes\",$C$8=\"Yes\",$C$9=\"Yes\",$C$10=\"Yes\",E28<>\"\"),IF(AND(Equipment!K24>=5,Equipment!K24<=10),1200,IF(AND(Equipment!K24>10,Equipment!K24<=15),1800,IF(AND(Equipment!K24>15,Equipment!K24<=20),2500,IF(AND(Equipment!K24>20),2800,IF(AND(Equipment!K24>0,Equipment!K24<5),400,0))))),0)","v":0},null,{"$f":"IF(AND($C$6=\"Yes\",$C$7=\"Yes\",$C$8=\"Yes\",$C$9=\"Yes\",$C$10=\"Yes\",E28<>\"\"),0.341*INDEX(OpHours,MATCH(Equipment!$C$7,BuildingTypeList,0))*Equipment!$O24,0)","v":0}]
[14,null,{"$f":"IF(Equipment!X25=\"x\",Equipment!C25,\"\")","v":""},null,null,null,{"$f":"IF(AND($C$6=\"Yes\",$C$7=\"Yes\",$C$8=\"Yes\",$C$9=\"Yes\",$C$10=\"Yes\",E29<>\"\"),IF(AND(Equipment!K25>=5,Equipment!K25<=10),1200,IF(AND(Equipment!K25>10,Equipment!K25<=15),1800,IF(AND(Equipment!K25>15,Equipment!K25<=20),2500,IF(AND(Equipment!K25>20),2800,IF(AND(Equipment!K25>0,Equipment!K25<5),400,0))))),0)","v":0},null,{"$f":"IF(AND($C$6=\"Yes\",$C$7=\"Yes\",$C$8=\"Yes\",$C$9=\"Yes\",$C$10=\"Yes\",E29<>\"\"),0.341*INDEX(OpHours,MATCH(Equipment!$C$7,BuildingTypeList,0))*Equipment!$O25,0)","v":0}]
[15,null,{"$f":"IF(Equipment!X26=\"x\",Equipment!C26,\"\")","v":""},null,null,null,{"$f":"IF(AND($C$6=\"Yes\",$C$7=\"Yes\",$C$8=\"Yes\",$C$9=\"Yes\",$C$10=\"Yes\",E30<>\"\"),IF(AND(Equipment!K26>=5,Equipment!K26<=10),1200,IF(AND(Equipment!K26>10,Equipment!K26<=15),1800,IF(AND(Equipment!K26>15,Equipment!K26<=20),2500,IF(AND(Equipment!K26>20),2800,IF(AND(Equipment!K26>0,Equipment!K26<5),400,0))))),0)","v":0},null,{"$f":"IF(AND($C$6=\"Yes\",$C$7=\"Yes\",$C$8=\"Yes\",$C$9=\"Yes\",$C$10=\"Yes\",E30<>\"\"),0.341*INDEX(OpHours,MATCH(Equipment!$C$7,BuildingTypeList,0))*Equipment!$O26,0)","v":0}]
[16,null,{"$f":"IF(Equipment!X27=\"x\",Equipment!C27,\"\")","v":""},null,null,null,{"$f":"IF(AND($C$6=\"Yes\",$C$7=\"Yes\",$C$8=\"Yes\",$C$9=\"Yes\",$C$10=\"Yes\",E31<>\"\"),IF(AND(Equipment!K27>=5,Equipment!K27<=10),1200,IF(AND(Equipment!K27>10,Equipment!K27<=15),1800,IF(AND(Equipment!K27>15,Equipment!K27<=20),2500,IF(AND(Equipment!K27>20),2800,IF(AND(Equipment!K27>0,Equipment!K27<5),400,0))))),0)","v":0},null,{"$f":"IF(AND($C$6=\"Yes\",$C$7=\"Yes\",$C$8=\"Yes\",$C$9=\"Yes\",$C$10=\"Yes\",E31<>\"\"),0.341*INDEX(OpHours,MATCH(Equipment!$C$7,BuildingTypeList,0))*Equipment!$O27,0)","v":0}]
[17,null,{"$f":"IF(Equipment!X28=\"x\",Equipment!C28,\"\")","v":""},null,null,null,{"$f":"IF(AND($C$6=\"Yes\",$C$7=\"Yes\",$C$8=\"Yes\",$C$9=\"Yes\",$C$10=\"Yes\",E32<>\"\"),IF(AND(Equipment!K28>=5,Equipment!K28<=10),1200,IF(AND(Equipment!K28>10,Equipment!K28<=15),1800,IF(AND(Equipment!K28>15,Equipment!K28<=20),2500,IF(AND(Equipment!K28>20),2800,IF(AND(Equipment!K28>0,Equipment!K28<5),400,0))))),0)","v":0},null,{"$f":"IF(AND($C$6=\"Yes\",$C$7=\"Yes\",$C$8=\"Yes\",$C$9=\"Yes\",$C$10=\"Yes\",E32<>\"\"),0.341*INDEX(OpHours,MATCH(Equipment!$C$7,BuildingTypeList,0))*Equipment!$O28,0)","v":0}]
[18,null,{"$f":"IF(Equipment!X29=\"x\",Equipment!C29,\"\")","v":""},null,null,null,{"$f":"IF(AND($C$6=\"Yes\",$C$7=\"Yes\",$C$8=\"Yes\",$C$9=\"Yes\",$C$10=\"Yes\",E33<>\"\"),IF(AND(Equipment!K29>=5,Equipment!K29<=10),1200,IF(AND(Equipment!K29>10,Equipment!K29<=15),1800,IF(AND(Equipment!K29>15,Equipment!K29<=20),2500,IF(AND(Equipment!K29>20),2800,IF(AND(Equipment!K29>0,Equipment!K29<5),400,0))))),0)","v":0},null,{"$f":"IF(AND($C$6=\"Yes\",$C$7=\"Yes\",$C$8=\"Yes\",$C$9=\"Yes\",$C$10=\"Yes\",E33<>\"\"),0.341*INDEX(OpHours,MATCH(Equipment!$C$7,BuildingTypeList,0))*Equipment!$O29,0)","v":0}]
[19,null,{"$f":"IF(Equipment!X30=\"x\",Equipment!C30,\"\")","v":""},null,null,null,{"$f":"IF(AND($C$6=\"Yes\",$C$7=\"Yes\",$C$8=\"Yes\",$C$9=\"Yes\",$C$10=\"Yes\",E34<>\"\"),IF(AND(Equipment!K30>=5,Equipment!K30<=10),1200,IF(AND(Equipment!K30>10,Equipment!K30<=15),1800,IF(AND(Equipment!K30>15,Equipment!K30<=20),2500,IF(AND(Equipment!K30>20),2800,IF(AND(Equipment!K30>0,Equipment!K30<5),400,0))))),0)","v":0},null,{"$f":"IF(AND($C$6=\"Yes\",$C$7=\"Yes\",$C$8=\"Yes\",$C$9=\"Yes\",$C$10=\"Yes\",E34<>\"\"),0.341*INDEX(OpHours,MATCH(Equipment!$C$7,BuildingTypeList,0))*Equipment!$O30,0)","v":0}]
[20,null,{"$f":"IF(Equipment!X31=\"x\",Equipment!C31,\"\")","v":""},null,null,null,{"$f":"IF(AND($C$6=\"Yes\",$C$7=\"Yes\",$C$8=\"Yes\",$C$9=\"Yes\",$C$10=\"Yes\",E35<>\"\"),IF(AND(Equipment!K31>=5,Equipment!K31<=10),1200,IF(AND(Equipment!K31>10,Equipment!K31<=15),1800,IF(AND(Equipment!K31>15,Equipment!K31<=20),2500,IF(AND(Equipment!K31>20),2800,IF(AND(Equipment!K31>0,Equipment!K31<5),400,0))))),0)","v":0},null,{"$f":"IF(AND($C$6=\"Yes\",$C$7=\"Yes\",$C$8=\"Yes\",$C$9=\"Yes\",$C$10=\"Yes\",E35<>\"\"),0.341*INDEX(OpHours,MATCH(Equipment!$C$7,BuildingTypeList,0))*Equipment!$O31,0)","v":0}]
[21,null,{"$f":"IF(Equipment!X32=\"x\",Equipment!C32,\"\")","v":""},null,null,null,{"$f":"IF(AND($C$6=\"Yes\",$C$7=\"Yes\",$C$8=\"Yes\",$C$9=\"Yes\",$C$10=\"Yes\",E36<>\"\"),IF(AND(Equipment!K32>=5,Equipment!K32<=10),1200,IF(AND(Equipment!K32>10,Equipment!K32<=15),1800,IF(AND(Equipment!K32>15,Equipment!K32<=20),2500,IF(AND(Equipment!K32>20),2800,IF(AND(Equipment!K32>0,Equipment!K32<5),400,0))))),0)","v":0},null,{"$f":"IF(AND($C$6=\"Yes\",$C$7=\"Yes\",$C$8=\"Yes\",$C$9=\"Yes\",$C$10=\"Yes\",E36<>\"\"),0.341*INDEX(OpHours,MATCH(Equipment!$C$7,BuildingTypeList,0))*Equipment!$O32,0)","v":0}]
[22,null,{"$f":"IF(Equipment!X33=\"x\",Equipment!C33,\"\")","v":""},null,null,null,{"$f":"IF(AND($C$6=\"Yes\",$C$7=\"Yes\",$C$8=\"Yes\",$C$9=\"Yes\",$C$10=\"Yes\",E37<>\"\"),IF(AND(Equipment!K33>=5,Equipment!K33<=10),1200,IF(AND(Equipment!K33>10,Equipment!K33<=15),1800,IF(AND(Equipment!K33>15,Equipment!K33<=20),2500,IF(AND(Equipment!K33>20),2800,IF(AND(Equipment!K33>0,Equipment!K33<5),400,0))))),0)","v":0},null,{"$f":"IF(AND($C$6=\"Yes\",$C$7=\"Yes\",$C$8=\"Yes\",$C$9=\"Yes\",$C$10=\"Yes\",E37<>\"\"),0.341*INDEX(OpHours,MATCH(Equipment!$C$7,BuildingTypeList,0))*Equipment!$O33,0)","v":0}]
[23,null,{"$f":"IF(Equipment!X34=\"x\",Equipment!C34,\"\")","v":""},null,null,null,{"$f":"IF(AND($C$6=\"Yes\",$C$7=\"Yes\",$C$8=\"Yes\",$C$9=\"Yes\",$C$10=\"Yes\",E38<>\"\"),IF(AND(Equipment!K34>=5,Equipment!K34<=10),1200,IF(AND(Equipment!K34>10,Equipment!K34<=15),1800,IF(AND(Equipment!K34>15,Equipment!K34<=20),2500,IF(AND(Equipment!K34>20),2800,IF(AND(Equipment!K34>0,Equipment!K34<5),400,0))))),0)","v":0},null,{"$f":"IF(AND($C$6=\"Yes\",$C$7=\"Yes\",$C$8=\"Yes\",$C$9=\"Yes\",$C$10=\"Yes\",E38<>\"\"),0.341*INDEX(OpHours,MATCH(Equipment!$C$7,BuildingTypeList,0))*Equipment!$O34,0)","v":0}]
[24,null,{"$f":"IF(Equipment!X35=\"x\",Equipment!C35,\"\")","v":""},null,null,null,{"$f":"IF(AND($C$6=\"Yes\",$C$7=\"Yes\",$C$8=\"Yes\",$C$9=\"Yes\",$C$10=\"Yes\",E39<>\"\"),IF(AND(Equipment!K35>=5,Equipment!K35<=10),1200,IF(AND(Equipment!K35>10,Equipment!K35<=15),1800,IF(AND(Equipment!K35>15,Equipment!K35<=20),2500,IF(AND(Equipment!K35>20),2800,IF(AND(Equipment!K35>0,Equipment!K35<5),400,0))))),0)","v":0},null,{"$f":"IF(AND($C$6=\"Yes\",$C$7=\"Yes\",$C$8=\"Yes\",$C$9=\"Yes\",$C$10=\"Yes\",E39<>\"\"),0.341*INDEX(OpHours,MATCH(Equipment!$C$7,BuildingTypeList,0))*Equipment!$O35,0)","v":0}]
[25,null,{"$f":"IF(Equipment!X36=\"x\",Equipment!C36,\"\")","v":""},null,null,null,{"$f":"IF(AND($C$6=\"Yes\",$C$7=\"Yes\",$C$8=\"Yes\",$C$9=\"Yes\",$C$10=\"Yes\",E40<>\"\"),IF(AND(Equipment!K36>=5,Equipment!K36<=10),1200,IF(AND(Equipment!K36>10,Equipment!K36<=15),1800,IF(AND(Equipment!K36>15,Equipment!K36<=20),2500,IF(AND(Equipment!K36>20),2800,IF(AND(Equipment!K36>0,Equipment!K36<5),400,0))))),0)","v":0},null,{"$f":"IF(AND($C$6=\"Yes\",$C$7=\"Yes\",$C$8=\"Yes\",$C$9=\"Yes\",$C$10=\"Yes\",E40<>\"\"),0.341*INDEX(OpHours,MATCH(Equipment!$C$7,BuildingTypeList,0))*Equipment!$O36,0)","v":0}]
[26,null,{"$f":"IF(Equipment!X37=\"x\",Equipment!C37,\"\")","v":""},null,null,null,{"$f":"IF(AND($C$6=\"Yes\",$C$7=\"Yes\",$C$8=\"Yes\",$C$9=\"Yes\",$C$10=\"Yes\",E41<>\"\"),IF(AND(Equipment!K37>=5,Equipment!K37<=10),1200,IF(AND(Equipment!K37>10,Equipment!K37<=15),1800,IF(AND(Equipment!K37>15,Equipment!K37<=20),2500,IF(AND(Equipment!K37>20),2800,IF(AND(Equipment!K37>0,Equipment!K37<5),400,0))))),0)","v":0},null,{"$f":"IF(AND($C$6=\"Yes\",$C$7=\"Yes\",$C$8=\"Yes\",$C$9=\"Yes\",$C$10=\"Yes\",E41<>\"\"),0.341*INDEX(OpHours,MATCH(Equipment!$C$7,BuildingTypeList,0))*Equipment!$O37,0)","v":0}]
[27,null,{"$f":"IF(Equipment!X38=\"x\",Equipment!C38,\"\")","v":""},null,null,null,{"$f":"IF(AND($C$6=\"Yes\",$C$7=\"Yes\",$C$8=\"Yes\",$C$9=\"Yes\",$C$10=\"Yes\",E42<>\"\"),IF(AND(Equipment!K38>=5,Equipment!K38<=10),1200,IF(AND(Equipment!K38>10,Equipment!K38<=15),1800,IF(AND(Equipment!K38>15,Equipment!K38<=20),2500,IF(AND(Equipment!K38>20),2800,IF(AND(Equipment!K38>0,Equipment!K38<5),400,0))))),0)","v":0},null,{"$f":"IF(AND($C$6=\"Yes\",$C$7=\"Yes\",$C$8=\"Yes\",$C$9=\"Yes\",$C$10=\"Yes\",E42<>\"\"),0.341*INDEX(OpHours,MATCH(Equipment!$C$7,BuildingTypeList,0))*Equipment!$O38,0)","v":0}]
[28,null,{"$f":"IF(Equipment!X39=\"x\",Equipment!C39,\"\")","v":""},null,null,null,{"$f":"IF(AND($C$6=\"Yes\",$C$7=\"Yes\",$C$8=\"Yes\",$C$9=\"Yes\",$C$10=\"Yes\",E43<>\"\"),IF(AND(Equipment!K39>=5,Equipment!K39<=10),1200,IF(AND(Equipment!K39>10,Equipment!K39<=15),1800,IF(AND(Equipment!K39>15,Equipment!K39<=20),2500,IF(AND(Equipment!K39>20),2800,IF(AND(Equipment!K39>0,Equipment!K39<5),400,0))))),0)","v":0},null,{"$f":"IF(AND($C$6=\"Yes\",$C$7=\"Yes\",$C$8=\"Yes\",$C$9=\"Yes\",$C$10=\"Yes\",E43<>\"\"),0.341*INDEX(OpHours,MATCH(Equipment!$C$7,BuildingTypeList,0))*Equipment!$O39,0)","v":0}]
[29,null,{"$f":"IF(Equipment!X40=\"x\",Equipment!C40,\"\")","v":""},null,null,null,{"$f":"IF(AND($C$6=\"Yes\",$C$7=\"Yes\",$C$8=\"Yes\",$C$9=\"Yes\",$C$10=\"Yes\",E44<>\"\"),IF(AND(Equipment!K40>=5,Equipment!K40<=10),1200,IF(AND(Equipment!K40>10,Equipment!K40<=15),1800,IF(AND(Equipment!K40>15,Equipment!K40<=20),2500,IF(AND(Equipment!K40>20),2800,IF(AND(Equipment!K40>0,Equipment!K40<5),400,0))))),0)","v":0},null,{"$f":"IF(AND($C$6=\"Yes\",$C$7=\"Yes\",$C$8=\"Yes\",$C$9=\"Yes\",$C$10=\"Yes\",E44<>\"\"),0.341*INDEX(OpHours,MATCH(Equipment!$C$7,BuildingTypeList,0))*Equipment!$O40,0)","v":0}]
[30,null,{"$f":"IF(Equipment!X41=\"x\",Equipment!C41,\"\")","v":""},null,null,null,{"$f":"IF(AND($C$6=\"Yes\",$C$7=\"Yes\",$C$8=\"Yes\",$C$9=\"Yes\",$C$10=\"Yes\",E45<>\"\"),IF(AND(Equipment!K41>=5,Equipment!K41<=10),1200,IF(AND(Equipment!K41>10,Equipment!K41<=15),1800,IF(AND(Equipment!K41>15,Equipment!K41<=20),2500,IF(AND(Equipment!K41>20),2800,IF(AND(Equipment!K41>0,Equipment!K41<5),400,0))))),0)","v":0},null,{"$f":"IF(AND($C$6=\"Yes\",$C$7=\"Yes\",$C$8=\"Yes\",$C$9=\"Yes\",$C$10=\"Yes\",E45<>\"\"),0.341*INDEX(OpHours,MATCH(Equipment!$C$7,BuildingTypeList,0))*Equipment!$O41,0)","v":0}]
[31,null,{"$f":"IF(Equipment!X42=\"x\",Equipment!C42,\"\")","v":""},null,null,null,{"$f":"IF(AND($C$6=\"Yes\",$C$7=\"Yes\",$C$8=\"Yes\",$C$9=\"Yes\",$C$10=\"Yes\",E46<>\"\"),IF(AND(Equipment!K42>=5,Equipment!K42<=10),1200,IF(AND(Equipment!K42>10,Equipment!K42<=15),1800,IF(AND(Equipment!K42>15,Equipment!K42<=20),2500,IF(AND(Equipment!K42>20),2800,IF(AND(Equipment!K42>0,Equipment!K42<5),400,0))))),0)","v":0},null,{"$f":"IF(AND($C$6=\"Yes\",$C$7=\"Yes\",$C$8=\"Yes\",$C$9=\"Yes\",$C$10=\"Yes\",E46<>\"\"),0.341*INDEX(OpHours,MATCH(Equipment!$C$7,BuildingTypeList,0))*Equipment!$O42,0)","v":0}]
[32,null,{"$f":"IF(Equipment!X43=\"x\",Equipment!C43,\"\")","v":""},null,null,null,{"$f":"IF(AND($C$6=\"Yes\",$C$7=\"Yes\",$C$8=\"Yes\",$C$9=\"Yes\",$C$10=\"Yes\",E47<>\"\"),IF(AND(Equipment!K43>=5,Equipment!K43<=10),1200,IF(AND(Equipment!K43>10,Equipment!K43<=15),1800,IF(AND(Equipment!K43>15,Equipment!K43<=20),2500,IF(AND(Equipment!K43>20),2800,IF(AND(Equipment!K43>0,Equipment!K43<5),400,0))))),0)","v":0},null,{"$f":"IF(AND($C$6=\"Yes\",$C$7=\"Yes\",$C$8=\"Yes\",$C$9=\"Yes\",$C$10=\"Yes\",E47<>\"\"),0.341*INDEX(OpHours,MATCH(Equipment!$C$7,BuildingTypeList,0))*Equipment!$O43,0)","v":0}]
[33,null,{"$f":"IF(Equipment!X44=\"x\",Equipment!C44,\"\")","v":""},null,null,null,{"$f":"IF(AND($C$6=\"Yes\",$C$7=\"Yes\",$C$8=\"Yes\",$C$9=\"Yes\",$C$10=\"Yes\",E48<>\"\"),IF(AND(Equipment!K44>=5,Equipment!K44<=10),1200,IF(AND(Equipment!K44>10,Equipment!K44<=15),1800,IF(AND(Equipment!K44>15,Equipment!K44<=20),2500,IF(AND(Equipment!K44>20),2800,IF(AND(Equipment!K44>0,Equipment!K44<5),400,0))))),0)","v":0},null,{"$f":"IF(AND($C$6=\"Yes\",$C$7=\"Yes\",$C$8=\"Yes\",$C$9=\"Yes\",$C$10=\"Yes\",E48<>\"\"),0.341*INDEX(OpHours,MATCH(Equipment!$C$7,BuildingTypeList,0))*Equipment!$O44,0)","v":0}]
[34,null,{"$f":"IF(Equipment!X45=\"x\",Equipment!C45,\"\")","v":""},null,null,null,{"$f":"IF(AND($C$6=\"Yes\",$C$7=\"Yes\",$C$8=\"Yes\",$C$9=\"Yes\",$C$10=\"Yes\",E49<>\"\"),IF(AND(Equipment!K45>=5,Equipment!K45<=10),1200,IF(AND(Equipment!K45>10,Equipment!K45<=15),1800,IF(AND(Equipment!K45>15,Equipment!K45<=20),2500,IF(AND(Equipment!K45>20),2800,IF(AND(Equipment!K45>0,Equipment!K45<5),400,0))))),0)","v":0},null,{"$f":"IF(AND($C$6=\"Yes\",$C$7=\"Yes\",$C$8=\"Yes\",$C$9=\"Yes\",$C$10=\"Yes\",E49<>\"\"),0.341*INDEX(OpHours,MATCH(Equipment!$C$7,BuildingTypeList,0))*Equipment!$O45,0)","v":0}]
[35,null,{"$f":"IF(Equipment!X46=\"x\",Equipment!C46,\"\")","v":""},null,null,null,{"$f":"IF(AND($C$6=\"Yes\",$C$7=\"Yes\",$C$8=\"Yes\",$C$9=\"Yes\",$C$10=\"Yes\",E50<>\"\"),IF(AND(Equipment!K46>=5,Equipment!K46<=10),1200,IF(AND(Equipment!K46>10,Equipment!K46<=15),1800,IF(AND(Equipment!K46>15,Equipment!K46<=20),2500,IF(AND(Equipment!K46>20),2800,IF(AND(Equipment!K46>0,Equipment!K46<5),400,0))))),0)","v":0},null,{"$f":"IF(AND($C$6=\"Yes\",$C$7=\"Yes\",$C$8=\"Yes\",$C$9=\"Yes\",$C$10=\"Yes\",E50<>\"\"),0.341*INDEX(OpHours,MATCH(Equipment!$C$7,BuildingTypeList,0))*Equipment!$O46,0)","v":0}]
[36,null,{"$f":"IF(Equipment!X47=\"x\",Equipment!C47,\"\")","v":""},null,null,null,{"$f":"IF(AND($C$6=\"Yes\",$C$7=\"Yes\",$C$8=\"Yes\",$C$9=\"Yes\",$C$10=\"Yes\",E51<>\"\"),IF(AND(Equipment!K47>=5,Equipment!K47<=10),1200,IF(AND(Equipment!K47>10,Equipment!K47<=15),1800,IF(AND(Equipment!K47>15,Equipment!K47<=20),2500,IF(AND(Equipment!K47>20),2800,IF(AND(Equipment!K47>0,Equipment!K47<5),400,0))))),0)","v":0},null,{"$f":"IF(AND($C$6=\"Yes\",$C$7=\"Yes\",$C$8=\"Yes\",$C$9=\"Yes\",$C$10=\"Yes\",E51<>\"\"),0.341*INDEX(OpHours,MATCH(Equipment!$C$7,BuildingTypeList,0))*Equipment!$O47,0)","v":0}]
[37,null,{"$f":"IF(Equipment!X48=\"x\",Equipment!C48,\"\")","v":""},null,null,null,{"$f":"IF(AND($C$6=\"Yes\",$C$7=\"Yes\",$C$8=\"Yes\",$C$9=\"Yes\",$C$10=\"Yes\",E52<>\"\"),IF(AND(Equipment!K48>=5,Equipment!K48<=10),1200,IF(AND(Equipment!K48>10,Equipment!K48<=15),1800,IF(AND(Equipment!K48>15,Equipment!K48<=20),2500,IF(AND(Equipment!K48>20),2800,IF(AND(Equipment!K48>0,Equipment!K48<5),400,0))))),0)","v":0},null,{"$f":"IF(AND($C$6=\"Yes\",$C$7=\"Yes\",$C$8=\"Yes\",$C$9=\"Yes\",$C$10=\"Yes\",E52<>\"\"),0.341*INDEX(OpHours,MATCH(Equipment!$C$7,BuildingTypeList,0))*Equipment!$O48,0)","v":0}]
[38,null,{"$f":"IF(Equipment!X49=\"x\",Equipment!C49,\"\")","v":""},null,null,null,{"$f":"IF(AND($C$6=\"Yes\",$C$7=\"Yes\",$C$8=\"Yes\",$C$9=\"Yes\",$C$10=\"Yes\",E53<>\"\"),IF(AND(Equipment!K49>=5,Equipment!K49<=10),1200,IF(AND(Equipment!K49>10,Equipment!K49<=15),1800,IF(AND(Equipment!K49>15,Equipment!K49<=20),2500,IF(AND(Equipment!K49>20),2800,IF(AND(Equipment!K49>0,Equipment!K49<5),400,0))))),0)","v":0},null,{"$f":"IF(AND($C$6=\"Yes\",$C$7=\"Yes\",$C$8=\"Yes\",$C$9=\"Yes\",$C$10=\"Yes\",E53<>\"\"),0.341*INDEX(OpHours,MATCH(Equipment!$C$7,BuildingTypeList,0))*Equipment!$O49,0)","v":0}]
[39,null,{"$f":"IF(Equipment!X50=\"x\",Equipment!C50,\"\")","v":""},null,null,null,{"$f":"IF(AND($C$6=\"Yes\",$C$7=\"Yes\",$C$8=\"Yes\",$C$9=\"Yes\",$C$10=\"Yes\",E54<>\"\"),IF(AND(Equipment!K50>=5,Equipment!K50<=10),1200,IF(AND(Equipment!K50>10,Equipment!K50<=15),1800,IF(AND(Equipment!K50>15,Equipment!K50<=20),2500,IF(AND(Equipment!K50>20),2800,IF(AND(Equipment!K50>0,Equipment!K50<5),400,0))))),0)","v":0},null,{"$f":"IF(AND($C$6=\"Yes\",$C$7=\"Yes\",$C$8=\"Yes\",$C$9=\"Yes\",$C$10=\"Yes\",E54<>\"\"),0.341*INDEX(OpHours,MATCH(Equipment!$C$7,BuildingTypeList,0))*Equipment!$O50,0)","v":0}]
[40,null,{"$f":"IF(Equipment!X51=\"x\",Equipment!C51,\"\")","v":""},null,null,null,{"$f":"IF(AND($C$6=\"Yes\",$C$7=\"Yes\",$C$8=\"Yes\",$C$9=\"Yes\",$C$10=\"Yes\",E55<>\"\"),IF(AND(Equipment!K51>=5,Equipment!K51<=10),1200,IF(AND(Equipment!K51>10,Equipment!K51<=15),1800,IF(AND(Equipment!K51>15,Equipment!K51<=20),2500,IF(AND(Equipment!K51>20),2800,IF(AND(Equipment!K51>0,Equipment!K51<5),400,0))))),0)","v":0},null,{"$f":"IF(AND($C$6=\"Yes\",$C$7=\"Yes\",$C$8=\"Yes\",$C$9=\"Yes\",$C$10=\"Yes\",E55<>\"\"),0.341*INDEX(OpHours,MATCH(Equipment!$C$7,BuildingTypeList,0))*Equipment!$O51,0)","v":0}]
[41,null,{"$f":"IF(Equipment!X52=\"x\",Equipment!C52,\"\")","v":""},null,null,null,{"$f":"IF(AND($C$6=\"Yes\",$C$7=\"Yes\",$C$8=\"Yes\",$C$9=\"Yes\",$C$10=\"Yes\",E56<>\"\"),IF(AND(Equipment!K52>=5,Equipment!K52<=10),1200,IF(AND(Equipment!K52>10,Equipment!K52<=15),1800,IF(AND(Equipment!K52>15,Equipment!K52<=20),2500,IF(AND(Equipment!K52>20),2800,IF(AND(Equipment!K52>0,Equipment!K52<5),400,0))))),0)","v":0},null,{"$f":"IF(AND($C$6=\"Yes\",$C$7=\"Yes\",$C$8=\"Yes\",$C$9=\"Yes\",$C$10=\"Yes\",E56<>\"\"),0.341*INDEX(OpHours,MATCH(Equipment!$C$7,BuildingTypeList,0))*Equipment!$O52,0)","v":0}]
[42,null,{"$f":"IF(Equipment!X53=\"x\",Equipment!C53,\"\")","v":""},null,null,null,{"$f":"IF(AND($C$6=\"Yes\",$C$7=\"Yes\",$C$8=\"Yes\",$C$9=\"Yes\",$C$10=\"Yes\",E57<>\"\"),IF(AND(Equipment!K53>=5,Equipment!K53<=10),1200,IF(AND(Equipment!K53>10,Equipment!K53<=15),1800,IF(AND(Equipment!K53>15,Equipment!K53<=20),2500,IF(AND(Equipment!K53>20),2800,IF(AND(Equipment!K53>0,Equipment!K53<5),400,0))))),0)","v":0},null,{"$f":"IF(AND($C$6=\"Yes\",$C$7=\"Yes\",$C$8=\"Yes\",$C$9=\"Yes\",$C$10=\"Yes\",E57<>\"\"),0.341*INDEX(OpHours,MATCH(Equipment!$C$7,BuildingTypeList,0))*Equipment!$O53,0)","v":0}]
[43,null,{"$f":"IF(Equipment!X54=\"x\",Equipment!C54,\"\")","v":""},null,null,null,{"$f":"IF(AND($C$6=\"Yes\",$C$7=\"Yes\",$C$8=\"Yes\",$C$9=\"Yes\",$C$10=\"Yes\",E58<>\"\"),IF(AND(Equipment!K54>=5,Equipment!K54<=10),1200,IF(AND(Equipment!K54>10,Equipment!K54<=15),1800,IF(AND(Equipment!K54>15,Equipment!K54<=20),2500,IF(AND(Equipment!K54>20),2800,IF(AND(Equipment!K54>0,Equipment!K54<5),400,0))))),0)","v":0},null,{"$f":"IF(AND($C$6=\"Yes\",$C$7=\"Yes\",$C$8=\"Yes\",$C$9=\"Yes\",$C$10=\"Yes\",E58<>\"\"),0.341*INDEX(OpHours,MATCH(Equipment!$C$7,BuildingTypeList,0))*Equipment!$O54,0)","v":0}]
[44,null,{"$f":"IF(Equipment!X55=\"x\",Equipment!C55,\"\")","v":""},null,null,null,{"$f":"IF(AND($C$6=\"Yes\",$C$7=\"Yes\",$C$8=\"Yes\",$C$9=\"Yes\",$C$10=\"Yes\",E59<>\"\"),IF(AND(Equipment!K55>=5,Equipment!K55<=10),1200,IF(AND(Equipment!K55>10,Equipment!K55<=15),1800,IF(AND(Equipment!K55>15,Equipment!K55<=20),2500,IF(AND(Equipment!K55>20),2800,IF(AND(Equipment!K55>0,Equipment!K55<5),400,0))))),0)","v":0},null,{"$f":"IF(AND($C$6=\"Yes\",$C$7=\"Yes\",$C$8=\"Yes\",$C$9=\"Yes\",$C$10=\"Yes\",E59<>\"\"),0.341*INDEX(OpHours,MATCH(Equipment!$C$7,BuildingTypeList,0))*Equipment!$O55,0)","v":0}]
[45,null,{"$f":"IF(Equipment!X56=\"x\",Equipment!C56,\"\")","v":""},null,null,null,{"$f":"IF(AND($C$6=\"Yes\",$C$7=\"Yes\",$C$8=\"Yes\",$C$9=\"Yes\",$C$10=\"Yes\",E60<>\"\"),IF(AND(Equipment!K56>=5,Equipment!K56<=10),1200,IF(AND(Equipment!K56>10,Equipment!K56<=15),1800,IF(AND(Equipment!K56>15,Equipment!K56<=20),2500,IF(AND(Equipment!K56>20),2800,IF(AND(Equipment!K56>0,Equipment!K56<5),400,0))))),0)","v":0},null,{"$f":"IF(AND($C$6=\"Yes\",$C$7=\"Yes\",$C$8=\"Yes\",$C$9=\"Yes\",$C$10=\"Yes\",E60<>\"\"),0.341*INDEX(OpHours,MATCH(Equipment!$C$7,BuildingTypeList,0))*Equipment!$O56,0)","v":0}]
[46,null,{"$f":"IF(Equipment!X57=\"x\",Equipment!C57,\"\")","v":""},null,null,null,{"$f":"IF(AND($C$6=\"Yes\",$C$7=\"Yes\",$C$8=\"Yes\",$C$9=\"Yes\",$C$10=\"Yes\",E61<>\"\"),IF(AND(Equipment!K57>=5,Equipment!K57<=10),1200,IF(AND(Equipment!K57>10,Equipment!K57<=15),1800,IF(AND(Equipment!K57>15,Equipment!K57<=20),2500,IF(AND(Equipment!K57>20),2800,IF(AND(Equipment!K57>0,Equipment!K57<5),400,0))))),0)","v":0},null,{"$f":"IF(AND($C$6=\"Yes\",$C$7=\"Yes\",$C$8=\"Yes\",$C$9=\"Yes\",$C$10=\"Yes\",E61<>\"\"),0.341*INDEX(OpHours,MATCH(Equipment!$C$7,BuildingTypeList,0))*Equipment!$O57,0)","v":0}]
[47,null,{"$f":"IF(Equipment!X58=\"x\",Equipment!C58,\"\")","v":""},null,null,null,{"$f":"IF(AND($C$6=\"Yes\",$C$7=\"Yes\",$C$8=\"Yes\",$C$9=\"Yes\",$C$10=\"Yes\",E62<>\"\"),IF(AND(Equipment!K58>=5,Equipment!K58<=10),1200,IF(AND(Equipment!K58>10,Equipment!K58<=15),1800,IF(AND(Equipment!K58>15,Equipment!K58<=20),2500,IF(AND(Equipment!K58>20),2800,IF(AND(Equipment!K58>0,Equipment!K58<5),400,0))))),0)","v":0},null,{"$f":"IF(AND($C$6=\"Yes\",$C$7=\"Yes\",$C$8=\"Yes\",$C$9=\"Yes\",$C$10=\"Yes\",E62<>\"\"),0.341*INDEX(OpHours,MATCH(Equipment!$C$7,BuildingTypeList,0))*Equipment!$O58,0)","v":0}]
[48,null,{"$f":"IF(Equipment!X59=\"x\",Equipment!C59,\"\")","v":""},null,null,null,{"$f":"IF(AND($C$6=\"Yes\",$C$7=\"Yes\",$C$8=\"Yes\",$C$9=\"Yes\",$C$10=\"Yes\",E63<>\"\"),IF(AND(Equipment!K59>=5,Equipment!K59<=10),1200,IF(AND(Equipment!K59>10,Equipment!K59<=15),1800,IF(AND(Equipment!K59>15,Equipment!K59<=20),2500,IF(AND(Equipment!K59>20),2800,IF(AND(Equipment!K59>0,Equipment!K59<5),400,0))))),0)","v":0},null,{"$f":"IF(AND($C$6=\"Yes\",$C$7=\"Yes\",$C$8=\"Yes\",$C$9=\"Yes\",$C$10=\"Yes\",E63<>\"\"),0.341*INDEX(OpHours,MATCH(Equipment!$C$7,BuildingTypeList,0))*Equipment!$O59,0)","v":0}]
[49,null,{"$f":"IF(Equipment!X60=\"x\",Equipment!C60,\"\")","v":""},null,null,null,{"$f":"IF(AND($C$6=\"Yes\",$C$7=\"Yes\",$C$8=\"Yes\",$C$9=\"Yes\",$C$10=\"Yes\",E64<>\"\"),IF(AND(Equipment!K60>=5,Equipment!K60<=10),1200,IF(AND(Equipment!K60>10,Equipment!K60<=15),1800,IF(AND(Equipment!K60>15,Equipment!K60<=20),2500,IF(AND(Equipment!K60>20),2800,IF(AND(Equipment!K60>0,Equipment!K60<5),400,0))))),0)","v":0},null,{"$f":"IF(AND($C$6=\"Yes\",$C$7=\"Yes\",$C$8=\"Yes\",$C$9=\"Yes\",$C$10=\"Yes\",E64<>\"\"),0.341*INDEX(OpHours,MATCH(Equipment!$C$7,BuildingTypeList,0))*Equipment!$O60,0)","v":0}]
[50,null,{"$f":"IF(Equipment!X61=\"x\",Equipment!C61,\"\")","v":""},null,null,null,{"$f":"IF(AND($C$6=\"Yes\",$C$7=\"Yes\",$C$8=\"Yes\",$C$9=\"Yes\",$C$10=\"Yes\",E65<>\"\"),IF(AND(Equipment!K61>=5,Equipment!K61<=10),1200,IF(AND(Equipment!K61>10,Equipment!K61<=15),1800,IF(AND(Equipment!K61>15,Equipment!K61<=20),2500,IF(AND(Equipment!K61>20),2800,IF(AND(Equipment!K61>0,Equipment!K61<5),400,0))))),0)","v":0},null,{"$f":"IF(AND($C$6=\"Yes\",$C$7=\"Yes\",$C$8=\"Yes\",$C$9=\"Yes\",$C$10=\"Yes\",E65<>\"\"),0.341*INDEX(OpHours,MATCH(Equipment!$C$7,BuildingTypeList,0))*Equipment!$O61,0)","v":0}]
[51,null,{"$f":"IF(Equipment!X62=\"x\",Equipment!C62,\"\")","v":""},null,null,null,{"$f":"IF(AND($C$6=\"Yes\",$C$7=\"Yes\",$C$8=\"Yes\",$C$9=\"Yes\",$C$10=\"Yes\",E66<>\"\"),IF(AND(Equipment!K62>=5,Equipment!K62<=10),1200,IF(AND(Equipment!K62>10,Equipment!K62<=15),1800,IF(AND(Equipment!K62>15,Equipment!K62<=20),2500,IF(AND(Equipment!K62>20),2800,IF(AND(Equipment!K62>0,Equipment!K62<5),400,0))))),0)","v":0},null,{"$f":"IF(AND($C$6=\"Yes\",$C$7=\"Yes\",$C$8=\"Yes\",$C$9=\"Yes\",$C$10=\"Yes\",E66<>\"\"),0.341*INDEX(OpHours,MATCH(Equipment!$C$7,BuildingTypeList,0))*Equipment!$O62,0)","v":0}]
[52,null,{"$f":"IF(Equipment!X63=\"x\",Equipment!C63,\"\")","v":""},null,null,null,{"$f":"IF(AND($C$6=\"Yes\",$C$7=\"Yes\",$C$8=\"Yes\",$C$9=\"Yes\",$C$10=\"Yes\",E67<>\"\"),IF(AND(Equipment!K63>=5,Equipment!K63<=10),1200,IF(AND(Equipment!K63>10,Equipment!K63<=15),1800,IF(AND(Equipment!K63>15,Equipment!K63<=20),2500,IF(AND(Equipment!K63>20),2800,IF(AND(Equipment!K63>0,Equipment!K63<5),400,0))))),0)","v":0},null,{"$f":"IF(AND($C$6=\"Yes\",$C$7=\"Yes\",$C$8=\"Yes\",$C$9=\"Yes\",$C$10=\"Yes\",E67<>\"\"),0.341*INDEX(OpHours,MATCH(Equipment!$C$7,BuildingTypeList,0))*Equipment!$O63,0)","v":0}]
[53,null,{"$f":"IF(Equipment!X64=\"x\",Equipment!C64,\"\")","v":""},null,null,null,{"$f":"IF(AND($C$6=\"Yes\",$C$7=\"Yes\",$C$8=\"Yes\",$C$9=\"Yes\",$C$10=\"Yes\",E68<>\"\"),IF(AND(Equipment!K64>=5,Equipment!K64<=10),1200,IF(AND(Equipment!K64>10,Equipment!K64<=15),1800,IF(AND(Equipment!K64>15,Equipment!K64<=20),2500,IF(AND(Equipment!K64>20),2800,IF(AND(Equipment!K64>0,Equipment!K64<5),400,0))))),0)","v":0},null,{"$f":"IF(AND($C$6=\"Yes\",$C$7=\"Yes\",$C$8=\"Yes\",$C$9=\"Yes\",$C$10=\"Yes\",E68<>\"\"),0.341*INDEX(OpHours,MATCH(Equipment!$C$7,BuildingTypeList,0))*Equipment!$O64,0)","v":0}]
[54,null,{"$f":"IF(Equipment!X65=\"x\",Equipment!C65,\"\")","v":""},null,null,null,{"$f":"IF(AND($C$6=\"Yes\",$C$7=\"Yes\",$C$8=\"Yes\",$C$9=\"Yes\",$C$10=\"Yes\",E69<>\"\"),IF(AND(Equipment!K65>=5,Equipment!K65<=10),1200,IF(AND(Equipment!K65>10,Equipment!K65<=15),1800,IF(AND(Equipment!K65>15,Equipment!K65<=20),2500,IF(AND(Equipment!K65>20),2800,IF(AND(Equipment!K65>0,Equipment!K65<5),400,0))))),0)","v":0},null,{"$f":"IF(AND($C$6=\"Yes\",$C$7=\"Yes\",$C$8=\"Yes\",$C$9=\"Yes\",$C$10=\"Yes\",E69<>\"\"),0.341*INDEX(OpHours,MATCH(Equipment!$C$7,BuildingTypeList,0))*Equipment!$O65,0)","v":0}]
[55,null,{"$f":"IF(Equipment!X66=\"x\",Equipment!C66,\"\")","v":""},null,null,null,{"$f":"IF(AND($C$6=\"Yes\",$C$7=\"Yes\",$C$8=\"Yes\",$C$9=\"Yes\",$C$10=\"Yes\",E70<>\"\"),IF(AND(Equipment!K66>=5,Equipment!K66<=10),1200,IF(AND(Equipment!K66>10,Equipment!K66<=15),1800,IF(AND(Equipment!K66>15,Equipment!K66<=20),2500,IF(AND(Equipment!K66>20),2800,IF(AND(Equipment!K66>0,Equipment!K66<5),400,0))))),0)","v":0},null,{"$f":"IF(AND($C$6=\"Yes\",$C$7=\"Yes\",$C$8=\"Yes\",$C$9=\"Yes\",$C$10=\"Yes\",E70<>\"\"),0.341*INDEX(OpHours,MATCH(Equipment!$C$7,BuildingTypeList,0))*Equipment!$O66,0)","v":0}]
[56,null,{"$f":"IF(Equipment!X67=\"x\",Equipment!C67,\"\")","v":""},null,null,null,{"$f":"IF(AND($C$6=\"Yes\",$C$7=\"Yes\",$C$8=\"Yes\",$C$9=\"Yes\",$C$10=\"Yes\",E71<>\"\"),IF(AND(Equipment!K67>=5,Equipment!K67<=10),1200,IF(AND(Equipment!K67>10,Equipment!K67<=15),1800,IF(AND(Equipment!K67>15,Equipment!K67<=20),2500,IF(AND(Equipment!K67>20),2800,IF(AND(Equipment!K67>0,Equipment!K67<5),400,0))))),0)","v":0},null,{"$f":"IF(AND($C$6=\"Yes\",$C$7=\"Yes\",$C$8=\"Yes\",$C$9=\"Yes\",$C$10=\"Yes\",E71<>\"\"),0.341*INDEX(OpHours,MATCH(Equipment!$C$7,BuildingTypeList,0))*Equipment!$O67,0)","v":0}]
[57,null,{"$f":"IF(Equipment!X68=\"x\",Equipment!C68,\"\")","v":""},null,null,null,{"$f":"IF(AND($C$6=\"Yes\",$C$7=\"Yes\",$C$8=\"Yes\",$C$9=\"Yes\",$C$10=\"Yes\",E72<>\"\"),IF(AND(Equipment!K68>=5,Equipment!K68<=10),1200,IF(AND(Equipment!K68>10,Equipment!K68<=15),1800,IF(AND(Equipment!K68>15,Equipment!K68<=20),2500,IF(AND(Equipment!K68>20),2800,IF(AND(Equipment!K68>0,Equipment!K68<5),400,0))))),0)","v":0},null,{"$f":"IF(AND($C$6=\"Yes\",$C$7=\"Yes\",$C$8=\"Yes\",$C$9=\"Yes\",$C$10=\"Yes\",E72<>\"\"),0.341*INDEX(OpHours,MATCH(Equipment!$C$7,BuildingTypeList,0))*Equipment!$O68,0)","v":0}]
[58,null,{"$f":"IF(Equipment!X69=\"x\",Equipment!C69,\"\")","v":""},null,null,null,{"$f":"IF(AND($C$6=\"Yes\",$C$7=\"Yes\",$C$8=\"Yes\",$C$9=\"Yes\",$C$10=\"Yes\",E73<>\"\"),IF(AND(Equipment!K69>=5,Equipment!K69<=10),1200,IF(AND(Equipment!K69>10,Equipment!K69<=15),1800,IF(AND(Equipment!K69>15,Equipment!K69<=20),2500,IF(AND(Equipment!K69>20),2800,IF(AND(Equipment!K69>0,Equipment!K69<5),400,0))))),0)","v":0},null,{"$f":"IF(AND($C$6=\"Yes\",$C$7=\"Yes\",$C$8=\"Yes\",$C$9=\"Yes\",$C$10=\"Yes\",E73<>\"\"),0.341*INDEX(OpHours,MATCH(Equipment!$C$7,BuildingTypeList,0))*Equipment!$O69,0)","v":0}]
[59,null,{"$f":"IF(Equipment!X70=\"x\",Equipment!C70,\"\")","v":""},null,null,null,{"$f":"IF(AND($C$6=\"Yes\",$C$7=\"Yes\",$C$8=\"Yes\",$C$9=\"Yes\",$C$10=\"Yes\",E74<>\"\"),IF(AND(Equipment!K70>=5,Equipment!K70<=10),1200,IF(AND(Equipment!K70>10,Equipment!K70<=15),1800,IF(AND(Equipment!K70>15,Equipment!K70<=20),2500,IF(AND(Equipment!K70>20),2800,IF(AND(Equipment!K70>0,Equipment!K70<5),400,0))))),0)","v":0},null,{"$f":"IF(AND($C$6=\"Yes\",$C$7=\"Yes\",$C$8=\"Yes\",$C$9=\"Yes\",$C$10=\"Yes\",E74<>\"\"),0.341*INDEX(OpHours,MATCH(Equipment!$C$7,BuildingTypeList,0))*Equipment!$O70,0)","v":0}]
[60,null,{"$f":"IF(Equipment!X71=\"x\",Equipment!C71,\"\")","v":""},null,null,null,{"$f":"IF(AND($C$6=\"Yes\",$C$7=\"Yes\",$C$8=\"Yes\",$C$9=\"Yes\",$C$10=\"Yes\",E75<>\"\"),IF(AND(Equipment!K71>=5,Equipment!K71<=10),1200,IF(AND(Equipment!K71>10,Equipment!K71<=15),1800,IF(AND(Equipment!K71>15,Equipment!K71<=20),2500,IF(AND(Equipment!K71>20),2800,IF(AND(Equipment!K71>0,Equipment!K71<5),400,0))))),0)","v":0},null,{"$f":"IF(AND($C$6=\"Yes\",$C$7=\"Yes\",$C$8=\"Yes\",$C$9=\"Yes\",$C$10=\"Yes\",E75<>\"\"),0.341*INDEX(OpHours,MATCH(Equipment!$C$7,BuildingTypeList,0))*Equipment!$O71,0)","v":0}]
[61,null,{"$f":"IF(Equipment!X72=\"x\",Equipment!C72,\"\")","v":""},null,null,null,{"$f":"IF(AND($C$6=\"Yes\",$C$7=\"Yes\",$C$8=\"Yes\",$C$9=\"Yes\",$C$10=\"Yes\",E76<>\"\"),IF(AND(Equipment!K72>=5,Equipment!K72<=10),1200,IF(AND(Equipment!K72>10,Equipment!K72<=15),1800,IF(AND(Equipment!K72>15,Equipment!K72<=20),2500,IF(AND(Equipment!K72>20),2800,IF(AND(Equipment!K72>0,Equipment!K72<5),400,0))))),0)","v":0},null,{"$f":"IF(AND($C$6=\"Yes\",$C$7=\"Yes\",$C$8=\"Yes\",$C$9=\"Yes\",$C$10=\"Yes\",E76<>\"\"),0.341*INDEX(OpHours,MATCH(Equipment!$C$7,BuildingTypeList,0))*Equipment!$O72,0)","v":0}]
[62,null,{"$f":"IF(Equipment!X73=\"x\",Equipment!C73,\"\")","v":""},null,null,null,{"$f":"IF(AND($C$6=\"Yes\",$C$7=\"Yes\",$C$8=\"Yes\",$C$9=\"Yes\",$C$10=\"Yes\",E77<>\"\"),IF(AND(Equipment!K73>=5,Equipment!K73<=10),1200,IF(AND(Equipment!K73>10,Equipment!K73<=15),1800,IF(AND(Equipment!K73>15,Equipment!K73<=20),2500,IF(AND(Equipment!K73>20),2800,IF(AND(Equipment!K73>0,Equipment!K73<5),400,0))))),0)","v":0},null,{"$f":"IF(AND($C$6=\"Yes\",$C$7=\"Yes\",$C$8=\"Yes\",$C$9=\"Yes\",$C$10=\"Yes\",E77<>\"\"),0.341*INDEX(OpHours,MATCH(Equipment!$C$7,BuildingTypeList,0))*Equipment!$O73,0)","v":0}]
[63,null,{"$f":"IF(Equipment!X74=\"x\",Equipment!C74,\"\")","v":""},null,null,null,{"$f":"IF(AND($C$6=\"Yes\",$C$7=\"Yes\",$C$8=\"Yes\",$C$9=\"Yes\",$C$10=\"Yes\",E78<>\"\"),IF(AND(Equipment!K74>=5,Equipment!K74<=10),1200,IF(AND(Equipment!K74>10,Equipment!K74<=15),1800,IF(AND(Equipment!K74>15,Equipment!K74<=20),2500,IF(AND(Equipment!K74>20),2800,IF(AND(Equipment!K74>0,Equipment!K74<5),400,0))))),0)","v":0},null,{"$f":"IF(AND($C$6=\"Yes\",$C$7=\"Yes\",$C$8=\"Yes\",$C$9=\"Yes\",$C$10=\"Yes\",E78<>\"\"),0.341*INDEX(OpHours,MATCH(Equipment!$C$7,BuildingTypeList,0))*Equipment!$O74,0)","v":0}]
[64,null,{"$f":"IF(Equipment!X75=\"x\",Equipment!C75,\"\")","v":""},null,null,null,{"$f":"IF(AND($C$6=\"Yes\",$C$7=\"Yes\",$C$8=\"Yes\",$C$9=\"Yes\",$C$10=\"Yes\",E79<>\"\"),IF(AND(Equipment!K75>=5,Equipment!K75<=10),1200,IF(AND(Equipment!K75>10,Equipment!K75<=15),1800,IF(AND(Equipment!K75>15,Equipment!K75<=20),2500,IF(AND(Equipment!K75>20),2800,IF(AND(Equipment!K75>0,Equipment!K75<5),400,0))))),0)","v":0},null,{"$f":"IF(AND($C$6=\"Yes\",$C$7=\"Yes\",$C$8=\"Yes\",$C$9=\"Yes\",$C$10=\"Yes\",E79<>\"\"),0.341*INDEX(OpHours,MATCH(Equipment!$C$7,BuildingTypeList,0))*Equipment!$O75,0)","v":0}]
[65,null,{"$f":"IF(Equipment!X76=\"x\",Equipment!C76,\"\")","v":""},null,null,null,{"$f":"IF(AND($C$6=\"Yes\",$C$7=\"Yes\",$C$8=\"Yes\",$C$9=\"Yes\",$C$10=\"Yes\",E80<>\"\"),IF(AND(Equipment!K76>=5,Equipment!K76<=10),1200,IF(AND(Equipment!K76>10,Equipment!K76<=15),1800,IF(AND(Equipment!K76>15,Equipment!K76<=20),2500,IF(AND(Equipment!K76>20),2800,IF(AND(Equipment!K76>0,Equipment!K76<5),400,0))))),0)","v":0},null,{"$f":"IF(AND($C$6=\"Yes\",$C$7=\"Yes\",$C$8=\"Yes\",$C$9=\"Yes\",$C$10=\"Yes\",E80<>\"\"),0.341*INDEX(OpHours,MATCH(Equipment!$C$7,BuildingTypeList,0))*Equipment!$O76,0)","v":0}]
[66,null,{"$f":"IF(Equipment!X77=\"x\",Equipment!C77,\"\")","v":""},null,null,null,{"$f":"IF(AND($C$6=\"Yes\",$C$7=\"Yes\",$C$8=\"Yes\",$C$9=\"Yes\",$C$10=\"Yes\",E81<>\"\"),IF(AND(Equipment!K77>=5,Equipment!K77<=10),1200,IF(AND(Equipment!K77>10,Equipment!K77<=15),1800,IF(AND(Equipment!K77>15,Equipment!K77<=20),2500,IF(AND(Equipment!K77>20),2800,IF(AND(Equipment!K77>0,Equipment!K77<5),400,0))))),0)","v":0},null,{"$f":"IF(AND($C$6=\"Yes\",$C$7=\"Yes\",$C$8=\"Yes\",$C$9=\"Yes\",$C$10=\"Yes\",E81<>\"\"),0.341*INDEX(OpHours,MATCH(Equipment!$C$7,BuildingTypeList,0))*Equipment!$O77,0)","v":0}]
[67,null,{"$f":"IF(Equipment!X78=\"x\",Equipment!C78,\"\")","v":""},null,null,null,{"$f":"IF(AND($C$6=\"Yes\",$C$7=\"Yes\",$C$8=\"Yes\",$C$9=\"Yes\",$C$10=\"Yes\",E82<>\"\"),IF(AND(Equipment!K78>=5,Equipment!K78<=10),1200,IF(AND(Equipment!K78>10,Equipment!K78<=15),1800,IF(AND(Equipment!K78>15,Equipment!K78<=20),2500,IF(AND(Equipment!K78>20),2800,IF(AND(Equipment!K78>0,Equipment!K78<5),400,0))))),0)","v":0},null,{"$f":"IF(AND($C$6=\"Yes\",$C$7=\"Yes\",$C$8=\"Yes\",$C$9=\"Yes\",$C$10=\"Yes\",E82<>\"\"),0.341*INDEX(OpHours,MATCH(Equipment!$C$7,BuildingTypeList,0))*Equipment!$O78,0)","v":0}]
[68,null,{"$f":"IF(Equipment!X79=\"x\",Equipment!C79,\"\")","v":""},null,null,null,{"$f":"IF(AND($C$6=\"Yes\",$C$7=\"Yes\",$C$8=\"Yes\",$C$9=\"Yes\",$C$10=\"Yes\",E83<>\"\"),IF(AND(Equipment!K79>=5,Equipment!K79<=10),1200,IF(AND(Equipment!K79>10,Equipment!K79<=15),1800,IF(AND(Equipment!K79>15,Equipment!K79<=20),2500,IF(AND(Equipment!K79>20),2800,IF(AND(Equipment!K79>0,Equipment!K79<5),400,0))))),0)","v":0},null,{"$f":"IF(AND($C$6=\"Yes\",$C$7=\"Yes\",$C$8=\"Yes\",$C$9=\"Yes\",$C$10=\"Yes\",E83<>\"\"),0.341*INDEX(OpHours,MATCH(Equipment!$C$7,BuildingTypeList,0))*Equipment!$O79,0)","v":0}]
[69,null,{"$f":"IF(Equipment!X80=\"x\",Equipment!C80,\"\")","v":""},null,null,null,{"$f":"IF(AND($C$6=\"Yes\",$C$7=\"Yes\",$C$8=\"Yes\",$C$9=\"Yes\",$C$10=\"Yes\",E84<>\"\"),IF(AND(Equipment!K80>=5,Equipment!K80<=10),1200,IF(AND(Equipment!K80>10,Equipment!K80<=15),1800,IF(AND(Equipment!K80>15,Equipment!K80<=20),2500,IF(AND(Equipment!K80>20),2800,IF(AND(Equipment!K80>0,Equipment!K80<5),400,0))))),0)","v":0},null,{"$f":"IF(AND($C$6=\"Yes\",$C$7=\"Yes\",$C$8=\"Yes\",$C$9=\"Yes\",$C$10=\"Yes\",E84<>\"\"),0.341*INDEX(OpHours,MATCH(Equipment!$C$7,BuildingTypeList,0))*Equipment!$O80,0)","v":0}]
[70,null,{"$f":"IF(Equipment!X81=\"x\",Equipment!C81,\"\")","v":""},null,null,null,{"$f":"IF(AND($C$6=\"Yes\",$C$7=\"Yes\",$C$8=\"Yes\",$C$9=\"Yes\",$C$10=\"Yes\",E85<>\"\"),IF(AND(Equipment!K81>=5,Equipment!K81<=10),1200,IF(AND(Equipment!K81>10,Equipment!K81<=15),1800,IF(AND(Equipment!K81>15,Equipment!K81<=20),2500,IF(AND(Equipment!K81>20),2800,IF(AND(Equipment!K81>0,Equipment!K81<5),400,0))))),0)","v":0},null,{"$f":"IF(AND($C$6=\"Yes\",$C$7=\"Yes\",$C$8=\"Yes\",$C$9=\"Yes\",$C$10=\"Yes\",E85<>\"\"),0.341*INDEX(OpHours,MATCH(Equipment!$C$7,BuildingTypeList,0))*Equipment!$O81,0)","v":0}]
[71,null,{"$f":"IF(Equipment!X82=\"x\",Equipment!C82,\"\")","v":""},null,null,null,{"$f":"IF(AND($C$6=\"Yes\",$C$7=\"Yes\",$C$8=\"Yes\",$C$9=\"Yes\",$C$10=\"Yes\",E86<>\"\"),IF(AND(Equipment!K82>=5,Equipment!K82<=10),1200,IF(AND(Equipment!K82>10,Equipment!K82<=15),1800,IF(AND(Equipment!K82>15,Equipment!K82<=20),2500,IF(AND(Equipment!K82>20),2800,IF(AND(Equipment!K82>0,Equipment!K82<5),400,0))))),0)","v":0},null,{"$f":"IF(AND($C$6=\"Yes\",$C$7=\"Yes\",$C$8=\"Yes\",$C$9=\"Yes\",$C$10=\"Yes\",E86<>\"\"),0.341*INDEX(OpHours,MATCH(Equipment!$C$7,BuildingTypeList,0))*Equipment!$O82,0)","v":0}]
[72,null,{"$f":"IF(Equipment!X83=\"x\",Equipment!C83,\"\")","v":""},null,null,null,{"$f":"IF(AND($C$6=\"Yes\",$C$7=\"Yes\",$C$8=\"Yes\",$C$9=\"Yes\",$C$10=\"Yes\",E87<>\"\"),IF(AND(Equipment!K83>=5,Equipment!K83<=10),1200,IF(AND(Equipment!K83>10,Equipment!K83<=15),1800,IF(AND(Equipment!K83>15,Equipment!K83<=20),2500,IF(AND(Equipment!K83>20),2800,IF(AND(Equipment!K83>0,Equipment!K83<5),400,0))))),0)","v":0},null,{"$f":"IF(AND($C$6=\"Yes\",$C$7=\"Yes\",$C$8=\"Yes\",$C$9=\"Yes\",$C$10=\"Yes\",E87<>\"\"),0.341*INDEX(OpHours,MATCH(Equipment!$C$7,BuildingTypeList,0))*Equipment!$O83,0)","v":0}]
[73,null,{"$f":"IF(Equipment!X84=\"x\",Equipment!C84,\"\")","v":""},null,null,null,{"$f":"IF(AND($C$6=\"Yes\",$C$7=\"Yes\",$C$8=\"Yes\",$C$9=\"Yes\",$C$10=\"Yes\",E88<>\"\"),IF(AND(Equipment!K84>=5,Equipment!K84<=10),1200,IF(AND(Equipment!K84>10,Equipment!K84<=15),1800,IF(AND(Equipment!K84>15,Equipment!K84<=20),2500,IF(AND(Equipment!K84>20),2800,IF(AND(Equipment!K84>0,Equipment!K84<5),400,0))))),0)","v":0},null,{"$f":"IF(AND($C$6=\"Yes\",$C$7=\"Yes\",$C$8=\"Yes\",$C$9=\"Yes\",$C$10=\"Yes\",E88<>\"\"),0.341*INDEX(OpHours,MATCH(Equipment!$C$7,BuildingTypeList,0))*Equipment!$O84,0)","v":0}]
[74,null,{"$f":"IF(Equipment!X85=\"x\",Equipment!C85,\"\")","v":""},null,null,null,{"$f":"IF(AND($C$6=\"Yes\",$C$7=\"Yes\",$C$8=\"Yes\",$C$9=\"Yes\",$C$10=\"Yes\",E89<>\"\"),IF(AND(Equipment!K85>=5,Equipment!K85<=10),1200,IF(AND(Equipment!K85>10,Equipment!K85<=15),1800,IF(AND(Equipment!K85>15,Equipment!K85<=20),2500,IF(AND(Equipment!K85>20),2800,IF(AND(Equipment!K85>0,Equipment!K85<5),400,0))))),0)","v":0},null,{"$f":"IF(AND($C$6=\"Yes\",$C$7=\"Yes\",$C$8=\"Yes\",$C$9=\"Yes\",$C$10=\"Yes\",E89<>\"\"),0.341*INDEX(OpHours,MATCH(Equipment!$C$7,BuildingTypeList,0))*Equipment!$O85,0)","v":0}]
[75,null,{"$f":"IF(Equipment!X86=\"x\",Equipment!C86,\"\")","v":""},null,null,null,{"$f":"IF(AND($C$6=\"Yes\",$C$7=\"Yes\",$C$8=\"Yes\",$C$9=\"Yes\",$C$10=\"Yes\",E90<>\"\"),IF(AND(Equipment!K86>=5,Equipment!K86<=10),1200,IF(AND(Equipment!K86>10,Equipment!K86<=15),1800,IF(AND(Equipment!K86>15,Equipment!K86<=20),2500,IF(AND(Equipment!K86>20),2800,IF(AND(Equipment!K86>0,Equipment!K86<5),400,0))))),0)","v":0},null,{"$f":"IF(AND($C$6=\"Yes\",$C$7=\"Yes\",$C$8=\"Yes\",$C$9=\"Yes\",$C$10=\"Yes\",E90<>\"\"),0.341*INDEX(OpHours,MATCH(Equipment!$C$7,BuildingTypeList,0))*Equipment!$O86,0)","v":0}]
[76,null,{"$f":"IF(Equipment!X87=\"x\",Equipment!C87,\"\")","v":""},null,null,null,{"$f":"IF(AND($C$6=\"Yes\",$C$7=\"Yes\",$C$8=\"Yes\",$C$9=\"Yes\",$C$10=\"Yes\",E91<>\"\"),IF(AND(Equipment!K87>=5,Equipment!K87<=10),1200,IF(AND(Equipment!K87>10,Equipment!K87<=15),1800,IF(AND(Equipment!K87>15,Equipment!K87<=20),2500,IF(AND(Equipment!K87>20),2800,IF(AND(Equipment!K87>0,Equipment!K87<5),400,0))))),0)","v":0},null,{"$f":"IF(AND($C$6=\"Yes\",$C$7=\"Yes\",$C$8=\"Yes\",$C$9=\"Yes\",$C$10=\"Yes\",E91<>\"\"),0.341*INDEX(OpHours,MATCH(Equipment!$C$7,BuildingTypeList,0))*Equipment!$O87,0)","v":0}]
[77,null,{"$f":"IF(Equipment!X88=\"x\",Equipment!C88,\"\")","v":""},null,null,null,{"$f":"IF(AND($C$6=\"Yes\",$C$7=\"Yes\",$C$8=\"Yes\",$C$9=\"Yes\",$C$10=\"Yes\",E92<>\"\"),IF(AND(Equipment!K88>=5,Equipment!K88<=10),1200,IF(AND(Equipment!K88>10,Equipment!K88<=15),1800,IF(AND(Equipment!K88>15,Equipment!K88<=20),2500,IF(AND(Equipment!K88>20),2800,IF(AND(Equipment!K88>0,Equipment!K88<5),400,0))))),0)","v":0},null,{"$f":"IF(AND($C$6=\"Yes\",$C$7=\"Yes\",$C$8=\"Yes\",$C$9=\"Yes\",$C$10=\"Yes\",E92<>\"\"),0.341*INDEX(OpHours,MATCH(Equipment!$C$7,BuildingTypeList,0))*Equipment!$O88,0)","v":0}]
[78,null,{"$f":"IF(Equipment!X89=\"x\",Equipment!C89,\"\")","v":""},null,null,null,{"$f":"IF(AND($C$6=\"Yes\",$C$7=\"Yes\",$C$8=\"Yes\",$C$9=\"Yes\",$C$10=\"Yes\",E93<>\"\"),IF(AND(Equipment!K89>=5,Equipment!K89<=10),1200,IF(AND(Equipment!K89>10,Equipment!K89<=15),1800,IF(AND(Equipment!K89>15,Equipment!K89<=20),2500,IF(AND(Equipment!K89>20),2800,IF(AND(Equipment!K89>0,Equipment!K89<5),400,0))))),0)","v":0},null,{"$f":"IF(AND($C$6=\"Yes\",$C$7=\"Yes\",$C$8=\"Yes\",$C$9=\"Yes\",$C$10=\"Yes\",E93<>\"\"),0.341*INDEX(OpHours,MATCH(Equipment!$C$7,BuildingTypeList,0))*Equipment!$O89,0)","v":0}]
[79,null,{"$f":"IF(Equipment!X90=\"x\",Equipment!C90,\"\")","v":""},null,null,null,{"$f":"IF(AND($C$6=\"Yes\",$C$7=\"Yes\",$C$8=\"Yes\",$C$9=\"Yes\",$C$10=\"Yes\",E94<>\"\"),IF(AND(Equipment!K90>=5,Equipment!K90<=10),1200,IF(AND(Equipment!K90>10,Equipment!K90<=15),1800,IF(AND(Equipment!K90>15,Equipment!K90<=20),2500,IF(AND(Equipment!K90>20),2800,IF(AND(Equipment!K90>0,Equipment!K90<5),400,0))))),0)","v":0},null,{"$f":"IF(AND($C$6=\"Yes\",$C$7=\"Yes\",$C$8=\"Yes\",$C$9=\"Yes\",$C$10=\"Yes\",E94<>\"\"),0.341*INDEX(OpHours,MATCH(Equipment!$C$7,BuildingTypeList,0))*Equipment!$O90,0)","v":0}]
[80,null,{"$f":"IF(Equipment!X91=\"x\",Equipment!C91,\"\")","v":""},null,null,null,{"$f":"IF(AND($C$6=\"Yes\",$C$7=\"Yes\",$C$8=\"Yes\",$C$9=\"Yes\",$C$10=\"Yes\",E95<>\"\"),IF(AND(Equipment!K91>=5,Equipment!K91<=10),1200,IF(AND(Equipment!K91>10,Equipment!K91<=15),1800,IF(AND(Equipment!K91>15,Equipment!K91<=20),2500,IF(AND(Equipment!K91>20),2800,IF(AND(Equipment!K91>0,Equipment!K91<5),400,0))))),0)","v":0},null,{"$f":"IF(AND($C$6=\"Yes\",$C$7=\"Yes\",$C$8=\"Yes\",$C$9=\"Yes\",$C$10=\"Yes\",E95<>\"\"),0.341*INDEX(OpHours,MATCH(Equipment!$C$7,BuildingTypeList,0))*Equipment!$O91,0)","v":0}]
[81,null,{"$f":"IF(Equipment!X92=\"x\",Equipment!C92,\"\")","v":""},null,null,null,{"$f":"IF(AND($C$6=\"Yes\",$C$7=\"Yes\",$C$8=\"Yes\",$C$9=\"Yes\",$C$10=\"Yes\",E96<>\"\"),IF(AND(Equipment!K92>=5,Equipment!K92<=10),1200,IF(AND(Equipment!K92>10,Equipment!K92<=15),1800,IF(AND(Equipment!K92>15,Equipment!K92<=20),2500,IF(AND(Equipment!K92>20),2800,IF(AND(Equipment!K92>0,Equipment!K92<5),400,0))))),0)","v":0},null,{"$f":"IF(AND($C$6=\"Yes\",$C$7=\"Yes\",$C$8=\"Yes\",$C$9=\"Yes\",$C$10=\"Yes\",E96<>\"\"),0.341*INDEX(OpHours,MATCH(Equipment!$C$7,BuildingTypeList,0))*Equipment!$O92,0)","v":0}]
[82,null,{"$f":"IF(Equipment!X93=\"x\",Equipment!C93,\"\")","v":""},null,null,null,{"$f":"IF(AND($C$6=\"Yes\",$C$7=\"Yes\",$C$8=\"Yes\",$C$9=\"Yes\",$C$10=\"Yes\",E97<>\"\"),IF(AND(Equipment!K93>=5,Equipment!K93<=10),1200,IF(AND(Equipment!K93>10,Equipment!K93<=15),1800,IF(AND(Equipment!K93>15,Equipment!K93<=20),2500,IF(AND(Equipment!K93>20),2800,IF(AND(Equipment!K93>0,Equipment!K93<5),400,0))))),0)","v":0},null,{"$f":"IF(AND($C$6=\"Yes\",$C$7=\"Yes\",$C$8=\"Yes\",$C$9=\"Yes\",$C$10=\"Yes\",E97<>\"\"),0.341*INDEX(OpHours,MATCH(Equipment!$C$7,BuildingTypeList,0))*Equipment!$O93,0)","v":0}]
[83,null,{"$f":"IF(Equipment!X94=\"x\",Equipment!C94,\"\")","v":""},null,null,null,{"$f":"IF(AND($C$6=\"Yes\",$C$7=\"Yes\",$C$8=\"Yes\",$C$9=\"Yes\",$C$10=\"Yes\",E98<>\"\"),IF(AND(Equipment!K94>=5,Equipment!K94<=10),1200,IF(AND(Equipment!K94>10,Equipment!K94<=15),1800,IF(AND(Equipment!K94>15,Equipment!K94<=20),2500,IF(AND(Equipment!K94>20),2800,IF(AND(Equipment!K94>0,Equipment!K94<5),400,0))))),0)","v":0},null,{"$f":"IF(AND($C$6=\"Yes\",$C$7=\"Yes\",$C$8=\"Yes\",$C$9=\"Yes\",$C$10=\"Yes\",E98<>\"\"),0.341*INDEX(OpHours,MATCH(Equipment!$C$7,BuildingTypeList,0))*Equipment!$O94,0)","v":0}]
[84,null,{"$f":"IF(Equipment!X95=\"x\",Equipment!C95,\"\")","v":""},null,null,null,{"$f":"IF(AND($C$6=\"Yes\",$C$7=\"Yes\",$C$8=\"Yes\",$C$9=\"Yes\",$C$10=\"Yes\",E99<>\"\"),IF(AND(Equipment!K95>=5,Equipment!K95<=10),1200,IF(AND(Equipment!K95>10,Equipment!K95<=15),1800,IF(AND(Equipment!K95>15,Equipment!K95<=20),2500,IF(AND(Equipment!K95>20),2800,IF(AND(Equipment!K95>0,Equipment!K95<5),400,0))))),0)","v":0},null,{"$f":"IF(AND($C$6=\"Yes\",$C$7=\"Yes\",$C$8=\"Yes\",$C$9=\"Yes\",$C$10=\"Yes\",E99<>\"\"),0.341*INDEX(OpHours,MATCH(Equipment!$C$7,BuildingTypeList,0))*Equipment!$O95,0)","v":0}]
[85,null,{"$f":"IF(Equipment!X96=\"x\",Equipment!C96,\"\")","v":""},null,null,null,{"$f":"IF(AND($C$6=\"Yes\",$C$7=\"Yes\",$C$8=\"Yes\",$C$9=\"Yes\",$C$10=\"Yes\",E100<>\"\"),IF(AND(Equipment!K96>=5,Equipment!K96<=10),1200,IF(AND(Equipment!K96>10,Equipment!K96<=15),1800,IF(AND(Equipment!K96>15,Equipment!K96<=20),2500,IF(AND(Equipment!K96>20),2800,IF(AND(Equipment!K96>0,Equipment!K96<5),400,0))))),0)","v":0},null,{"$f":"IF(AND($C$6=\"Yes\",$C$7=\"Yes\",$C$8=\"Yes\",$C$9=\"Yes\",$C$10=\"Yes\",E100<>\"\"),0.341*INDEX(OpHours,MATCH(Equipment!$C$7,BuildingTypeList,0))*Equipment!$O96,0)","v":0}]
[86,null,{"$f":"IF(Equipment!X97=\"x\",Equipment!C97,\"\")","v":""},null,null,null,{"$f":"IF(AND($C$6=\"Yes\",$C$7=\"Yes\",$C$8=\"Yes\",$C$9=\"Yes\",$C$10=\"Yes\",E101<>\"\"),IF(AND(Equipment!K97>=5,Equipment!K97<=10),1200,IF(AND(Equipment!K97>10,Equipment!K97<=15),1800,IF(AND(Equipment!K97>15,Equipment!K97<=20),2500,IF(AND(Equipment!K97>20),2800,IF(AND(Equipment!K97>0,Equipment!K97<5),400,0))))),0)","v":0},null,{"$f":"IF(AND($C$6=\"Yes\",$C$7=\"Yes\",$C$8=\"Yes\",$C$9=\"Yes\",$C$10=\"Yes\",E101<>\"\"),0.341*INDEX(OpHours,MATCH(Equipment!$C$7,BuildingTypeList,0))*Equipment!$O97,0)","v":0}]
[87,null,{"$f":"IF(Equipment!X98=\"x\",Equipment!C98,\"\")","v":""},null,null,null,{"$f":"IF(AND($C$6=\"Yes\",$C$7=\"Yes\",$C$8=\"Yes\",$C$9=\"Yes\",$C$10=\"Yes\",E102<>\"\"),IF(AND(Equipment!K98>=5,Equipment!K98<=10),1200,IF(AND(Equipment!K98>10,Equipment!K98<=15),1800,IF(AND(Equipment!K98>15,Equipment!K98<=20),2500,IF(AND(Equipment!K98>20),2800,IF(AND(Equipment!K98>0,Equipment!K98<5),400,0))))),0)","v":0},null,{"$f":"IF(AND($C$6=\"Yes\",$C$7=\"Yes\",$C$8=\"Yes\",$C$9=\"Yes\",$C$10=\"Yes\",E102<>\"\"),0.341*INDEX(OpHours,MATCH(Equipment!$C$7,BuildingTypeList,0))*Equipment!$O98,0)","v":0}]
[88,null,{"$f":"IF(Equipment!X99=\"x\",Equipment!C99,\"\")","v":""},null,null,null,{"$f":"IF(AND($C$6=\"Yes\",$C$7=\"Yes\",$C$8=\"Yes\",$C$9=\"Yes\",$C$10=\"Yes\",E103<>\"\"),IF(AND(Equipment!K99>=5,Equipment!K99<=10),1200,IF(AND(Equipment!K99>10,Equipment!K99<=15),1800,IF(AND(Equipment!K99>15,Equipment!K99<=20),2500,IF(AND(Equipment!K99>20),2800,IF(AND(Equipment!K99>0,Equipment!K99<5),400,0))))),0)","v":0},null,{"$f":"IF(AND($C$6=\"Yes\",$C$7=\"Yes\",$C$8=\"Yes\",$C$9=\"Yes\",$C$10=\"Yes\",E103<>\"\"),0.341*INDEX(OpHours,MATCH(Equipment!$C$7,BuildingTypeList,0))*Equipment!$O99,0)","v":0}]
[89,null,{"$f":"IF(Equipment!X100=\"x\",Equipment!C100,\"\")","v":""},null,null,null,{"$f":"IF(AND($C$6=\"Yes\",$C$7=\"Yes\",$C$8=\"Yes\",$C$9=\"Yes\",$C$10=\"Yes\",E104<>\"\"),IF(AND(Equipment!K100>=5,Equipment!K100<=10),1200,IF(AND(Equipment!K100>10,Equipment!K100<=15),1800,IF(AND(Equipment!K100>15,Equipment!K100<=20),2500,IF(AND(Equipment!K100>20),2800,IF(AND(Equipment!K100>0,Equipment!K100<5),400,0))))),0)","v":0},null,{"$f":"IF(AND($C$6=\"Yes\",$C$7=\"Yes\",$C$8=\"Yes\",$C$9=\"Yes\",$C$10=\"Yes\",E104<>\"\"),0.341*INDEX(OpHours,MATCH(Equipment!$C$7,BuildingTypeList,0))*Equipment!$O100,0)","v":0}]
[90,null,{"$f":"IF(Equipment!X101=\"x\",Equipment!C101,\"\")","v":""},null,null,null,{"$f":"IF(AND($C$6=\"Yes\",$C$7=\"Yes\",$C$8=\"Yes\",$C$9=\"Yes\",$C$10=\"Yes\",E105<>\"\"),IF(AND(Equipment!K101>=5,Equipment!K101<=10),1200,IF(AND(Equipment!K101>10,Equipment!K101<=15),1800,IF(AND(Equipment!K101>15,Equipment!K101<=20),2500,IF(AND(Equipment!K101>20),2800,IF(AND(Equipment!K101>0,Equipment!K101<5),400,0))))),0)","v":0},null,{"$f":"IF(AND($C$6=\"Yes\",$C$7=\"Yes\",$C$8=\"Yes\",$C$9=\"Yes\",$C$10=\"Yes\",E105<>\"\"),0.341*INDEX(OpHours,MATCH(Equipment!$C$7,BuildingTypeList,0))*Equipment!$O101,0)","v":0}]
[91,null,{"$f":"IF(Equipment!X102=\"x\",Equipment!C102,\"\")","v":""},null,null,null,{"$f":"IF(AND($C$6=\"Yes\",$C$7=\"Yes\",$C$8=\"Yes\",$C$9=\"Yes\",$C$10=\"Yes\",E106<>\"\"),IF(AND(Equipment!K102>=5,Equipment!K102<=10),1200,IF(AND(Equipment!K102>10,Equipment!K102<=15),1800,IF(AND(Equipment!K102>15,Equipment!K102<=20),2500,IF(AND(Equipment!K102>20),2800,IF(AND(Equipment!K102>0,Equipment!K102<5),400,0))))),0)","v":0},null,{"$f":"IF(AND($C$6=\"Yes\",$C$7=\"Yes\",$C$8=\"Yes\",$C$9=\"Yes\",$C$10=\"Yes\",E106<>\"\"),0.341*INDEX(OpHours,MATCH(Equipment!$C$7,BuildingTypeList,0))*Equipment!$O102,0)","v":0}]
[92,null,{"$f":"IF(Equipment!X103=\"x\",Equipment!C103,\"\")","v":""},null,null,null,{"$f":"IF(AND($C$6=\"Yes\",$C$7=\"Yes\",$C$8=\"Yes\",$C$9=\"Yes\",$C$10=\"Yes\",E107<>\"\"),IF(AND(Equipment!K103>=5,Equipment!K103<=10),1200,IF(AND(Equipment!K103>10,Equipment!K103<=15),1800,IF(AND(Equipment!K103>15,Equipment!K103<=20),2500,IF(AND(Equipment!K103>20),2800,IF(AND(Equipment!K103>0,Equipment!K103<5),400,0))))),0)","v":0},null,{"$f":"IF(AND($C$6=\"Yes\",$C$7=\"Yes\",$C$8=\"Yes\",$C$9=\"Yes\",$C$10=\"Yes\",E107<>\"\"),0.341*INDEX(OpHours,MATCH(Equipment!$C$7,BuildingTypeList,0))*Equipment!$O103,0)","v":0}]
[93,null,{"$f":"IF(Equipment!X104=\"x\",Equipment!C104,\"\")","v":""},null,null,null,{"$f":"IF(AND($C$6=\"Yes\",$C$7=\"Yes\",$C$8=\"Yes\",$C$9=\"Yes\",$C$10=\"Yes\",E108<>\"\"),IF(AND(Equipment!K104>=5,Equipment!K104<=10),1200,IF(AND(Equipment!K104>10,Equipment!K104<=15),1800,IF(AND(Equipment!K104>15,Equipment!K104<=20),2500,IF(AND(Equipment!K104>20),2800,IF(AND(Equipment!K104>0,Equipment!K104<5),400,0))))),0)","v":0},null,{"$f":"IF(AND($C$6=\"Yes\",$C$7=\"Yes\",$C$8=\"Yes\",$C$9=\"Yes\",$C$10=\"Yes\",E108<>\"\"),0.341*INDEX(OpHours,MATCH(Equipment!$C$7,BuildingTypeList,0))*Equipment!$O104,0)","v":0}]
[94,null,{"$f":"IF(Equipment!X105=\"x\",Equipment!C105,\"\")","v":""},null,null,null,{"$f":"IF(AND($C$6=\"Yes\",$C$7=\"Yes\",$C$8=\"Yes\",$C$9=\"Yes\",$C$10=\"Yes\",E109<>\"\"),IF(AND(Equipment!K105>=5,Equipment!K105<=10),1200,IF(AND(Equipment!K105>10,Equipment!K105<=15),1800,IF(AND(Equipment!K105>15,Equipment!K105<=20),2500,IF(AND(Equipment!K105>20),2800,IF(AND(Equipment!K105>0,Equipment!K105<5),400,0))))),0)","v":0},null,{"$f":"IF(AND($C$6=\"Yes\",$C$7=\"Yes\",$C$8=\"Yes\",$C$9=\"Yes\",$C$10=\"Yes\",E109<>\"\"),0.341*INDEX(OpHours,MATCH(Equipment!$C$7,BuildingTypeList,0))*Equipment!$O105,0)","v":0}]
[95,null,{"$f":"IF(Equipment!X106=\"x\",Equipment!C106,\"\")","v":""},null,null,null,{"$f":"IF(AND($C$6=\"Yes\",$C$7=\"Yes\",$C$8=\"Yes\",$C$9=\"Yes\",$C$10=\"Yes\",E110<>\"\"),IF(AND(Equipment!K106>=5,Equipment!K106<=10),1200,IF(AND(Equipment!K106>10,Equipment!K106<=15),1800,IF(AND(Equipment!K106>15,Equipment!K106<=20),2500,IF(AND(Equipment!K106>20),2800,IF(AND(Equipment!K106>0,Equipment!K106<5),400,0))))),0)","v":0},null,{"$f":"IF(AND($C$6=\"Yes\",$C$7=\"Yes\",$C$8=\"Yes\",$C$9=\"Yes\",$C$10=\"Yes\",E110<>\"\"),0.341*INDEX(OpHours,MATCH(Equipment!$C$7,BuildingTypeList,0))*Equipment!$O106,0)","v":0}]

{"sheet":"ARC - DCV Only","index":12,"n_rows":110,"n_cols":20,"rows_kept":110,"cut":false,"hidden":true,"merged":[[8,3,8,10],[12,2,12,5],[13,2,14,3],[13,4,14,5],[13,6,14,7],[4,19,5,22],[5,3,5,10],[6,19,8,22],[6,3,6,10],[7,3,7,10],[9,3,9,10],[17,2,17,3],[17,4,17,5],[17,6,17,7],[18,2,18,3],[18,4,18,5],[18,6,18,7],[15,2,15,3],[15,4,15,5],[15,6,15,7],[16,2,16,3],[16,4,16,5],[16,6,16,7],[21,2,21,3],[21,4,21,5],[21,6,21,7],[22,2,22,3],[22,4,22,5],[22,6,22,7],[19,2,19,3],[19,4,19,5],[19,6,19,7],[20,2,20,3],[20,4,20,5],[20,6,20,7],[25,2,25,3],[25,4,25,5],[25,6,25,7],[26,2,26,3],[26,4,26,5],[26,6,26,7],[23,2,23,3],[23,4,23,5],[23,6,23,7],[24,2,24,3],[24,4,24,5],[24,6,24,7],[29,2,29,3],[29,4,29,5],[29,6,29,7],[30,2,30,3],[30,4,30,5],[30,6,30,7],[27,2,27,3],[27,4,27,5],[27,6,27,7],[28,2,28,3],[28,4,28,5],[28,6,28,7],[33,2,33,3],[33,4,33,5],[33,6,33,7],[34,2,34,3],[34,4,34,5],[34,6,34,7],[31,2,31,3],[31,4,31,5],[31,6,31,7],[32,2,32,3],[32,4,32,5],[32,6,32,7],[37,2,37,3],[37,4,37,5],[37,6,37,7],[38,2,38,3],[38,4,38,5],[38,6,38,7],[35,2,35,3],[35,4,35,5],[35,6,35,7],[36,2,36,3],[36,4,36,5],[36,6,36,7],[41,2,41,3],[41,4,41,5],[41,6,41,7],[42,2,42,3],[42,4,42,5],[42,6,42,7],[39,2,39,3],[39,4,39,5],[39,6,39,7],[40,2,40,3],[40,4,40,5],[40,6,40,7],[45,2,45,3],[45,4,45,5],[45,6,45,7],[46,2,46,3],[46,4,46,5],[46,6,46,7],[43,2,43,3],[43,4,43,5],[43,6,43,7],[44,2,44,3],[44,4,44,5],[44,6,44,7],[49,2,49,3],[49,4,49,5],[49,6,49,7],[50,2,50,3],[50,4,50,5],[50,6,50,7],[47,2,47,3],[47,4,47,5],[47,6,47,7],[48,2,48,3],[48,4,48,5],[48,6,48,7],[53,2,53,3],[53,4,53,5],[53,6,53,7],[54,2,54,3],[54,4,54,5],[54,6,54,7],[51,2,51,3],[51,4,51,5],[51,6,51,7],[52,2,52,3],[52,4,52,5],[52,6,52,7],[57,2,57,3],[57,4,57,5],[57,6,57,7],[58,2,58,3],[58,4,58,5],[58,6,58,7],[55,2,55,3],[55,4,55,5],[55,6,55,7],[56,2,56,3],[56,4,56,5],[56,6,56,7],[61,2,61,3],[61,4,61,5],[61,6,61,7],[62,2,62,3],[62,4,62,5],[62,6,62,7],[59,2,59,3],[59,4,59,5],[59,6,59,7],[60,2,60,3],[60,4,60,5],[60,6,60,7],[65,2,65,3],[65,4,65,5],[65,6,65,7],[66,2,66,3],[66,4,66,5],[66,6,66,7],[63,2,63,3],[63,4,63,5],[63,6,63,7],[64,2,64,3],[64,4,64,5],[64,6,64,7],[69,2,69,3],[69,4,69,5],[69,6,69,7],[70,2,70,3],[70,4,70,5],[70,6,70,7],[67,2,67,3],[67,4,67,5],[67,6,67,7],[68,2,68,3],[68,4,68,5],[68,6,68,7],[73,2,73,3],[73,4,73,5],[73,6,73,7],[74,2,74,3],[74,4,74,5],[74,6,74,7],[71,2,71,3],[71,4,71,5],[71,6,71,7],[72,2,72,3],[72,4,72,5],[72,6,72,7],[77,2,77,3],[77,4,77,5],[77,6,77,7],[78,2,78,3],[78,4,78,5],[78,6,78,7],[75,2,75,3],[75,4,75,5],[75,6,75,7],[76,2,76,3],[76,4,76,5],[76,6,76,7],[81,2,81,3],[81,4,81,5],[81,6,81,7],[82,2,82,3],[82,4,82,5],[82,6,82,7],[79,2,79,3],[79,4,79,5],[79,6,79,7],[80,2,80,3],[80,4,80,5],[80,6,80,7],[85,2,85,3],[85,4,85,5],[85,6,85,7],[86,2,86,3],[86,4,86,5],[86,6,86,7],[83,2,83,3],[83,4,83,5],[83,6,83,7],[84,2,84,3],[84,4,84,5],[84,6,84,7],[89,2,89,3],[89,4,89,5],[89,6,89,7],[90,2,90,3],[90,4,90,5],[90,6,90,7],[87,2,87,3],[87,4,87,5],[87,6,87,7],[88,2,88,3],[88,4,88,5],[88,6,88,7],[93,2,93,3],[93,4,93,5],[93,6,93,7],[94,2,94,3],[94,4,94,5],[94,6,94,7],[91,2,91,3],[91,4,91,5],[91,6,91,7],[92,2,92,3],[92,4,92,5],[92,6,92,7],[97,2,97,3],[97,4,97,5],[97,6,97,7],[98,2,98,3],[98,4,98,5],[98,6,98,7],[95,2,95,3],[95,4,95,5],[95,6,95,7],[96,2,96,3],[96,4,96,5],[96,6,96,7],[101,2,101,3],[101,4,101,5],[101,6,101,7],[102,2,102,3],[102,4,102,5],[102,6,102,7],[99,2,99,3],[99,4,99,5],[99,6,99,7],[100,2,100,3],[100,4,100,5],[100,6,100,7],[105,2,105,3],[105,4,105,5],[105,6,105,7],[106,2,106,3],[106,4,106,5],[106,6,106,7],[103,2,103,3],[103,4,103,5],[103,6,103,7],[104,2,104,3],[104,4,104,5],[104,6,104,7],[109,2,109,3],[109,4,109,5],[109,6,109,7],[107,2,107,3],[107,4,107,5],[107,6,107,7],[108,2,108,3],[108,4,108,5],[108,6,108,7]]}
[]
[null,"Advanced Rooftop Controls (DCV Only)",null,null,null,null,null,null,null,null,null,"Total kWh/yr Savings",{"$f":"SUM(I16:I110)","v":0},null,"Incentive",{"$f":"SUM(G16:H110)","v":0}]
[null,null,null,null,null,null,null,null,"Customer Costs",{"$f":"SUM(E16:F110)","v":0},null,"Total kW Savings",0,null,"Electric Cost Savings/YR",{"$f":"IFERROR(M2*INDEX(kWhRates,MATCH(RateSchedule,RateSchedules,0))+M3*12*INDEX(kWRates,MATCH(RateSchedule,RateSchedules,0)),0)","v":0},null,null,null,"Instructions"]
[null,null,null,null,null,null,null,null,null,null,null,null,null,null,null,null,null,null,null,"1. Complete yellow cells."]
[null,null,"Confirm the following:",null,null,null,null,null,null,null,null,null,null,null,null,null,null,null,null,"Note"]
[null,null,null,"1. Control is installed on an existing unitary package rooftop unit (no split-systems)"]
[null,null,null,"2. Existing rooftop unit is less than 15 years old",null,null,null,null,null,null,null,null,null,null,null,null,null,null,null,"All fields must be completed to calculate the savings & incentives"]
[null,null,null,"3. Control includes CO2 or occupancy based sensor that determines ventillation and space conditioning needs"]
[null,null,null,"4. Control includes digital, integrated economizer controls"]
[null,null,null,"5. Existing equipment utilizes a constant speed fan motor with either a supply fan VFD or multi-speed fan motor with controller that meets ventilation and space conditioning needs"]
[]
[]
[null,null,"Equipment Details: "]
[null,null,"Rooftop Unit Label (from equipment tab)",null,"Customer Cost",null,"Estimated Incentive",null,"kWh"]
[]
[1,null,{"$f":"IF(Equipment!Z12=\"x\",Equipment!C12,\"\")","v":""},null,null,null,{"$f":"IF(AND($C$6=\"Yes\",$C$7=\"Yes\",$C$8=\"Yes\",$C$9=\"Yes\",$C$10=\"Yes\",E16<>\"\"),IF(AND(Equipment!K12>=5,Equipment!K12<=10),500,IF(AND(Equipment!K12>10,Equipment!K12<=15),600,IF(AND(Equipment!K12>15,Equipment!K12<=20),700,IF(AND(Equipment!K12>20),800,IF(AND(Equipment!K12>0,Equipment!K12<5),300,0))))),0)","v":0},null,{"$f":"IF(AND($C$6=\"Yes\",$C$7=\"Yes\",$C$8=\"Yes\",$C$9=\"Yes\",$C$10=\"Yes\",E16<>\"\"),0.22*INDEX(OpHours,MATCH(Equipment!$C$7,BuildingTypeList,0))*Equipment!$O12,0)","v":0}]
[2,null,{"$f":"IF(Equipment!Z13=\"x\",Equipment!C13,\"\")","v":""},null,null,null,{"$f":"IF(AND($C$6=\"Yes\",$C$7=\"Yes\",$C$8=\"Yes\",$C$9=\"Yes\",$C$10=\"Yes\",E17<>\"\"),IF(AND(Equipment!K13>=5,Equipment!K13<=10),500,IF(AND(Equipment!K13>10,Equipment!K13<=15),600,IF(AND(Equipment!K13>15,Equipment!K13<=20),700,IF(AND(Equipment!K13>20),800,IF(AND(Equipment!K13>0,Equipment!K13<5),300,0))))),0)","v":0},null,{"$f":"IF(AND($C$6=\"Yes\",$C$7=\"Yes\",$C$8=\"Yes\",$C$9=\"Yes\",$C$10=\"Yes\",E17<>\"\"),0.22*INDEX(OpHours,MATCH(Equipment!$C$7,BuildingTypeList,0))*Equipment!$O13,0)","v":0}]
[3,null,{"$f":"IF(Equipment!Z14=\"x\",Equipment!C14,\"\")","v":""},null,null,null,{"$f":"IF(AND($C$6=\"Yes\",$C$7=\"Yes\",$C$8=\"Yes\",$C$9=\"Yes\",$C$10=\"Yes\",E18<>\"\"),IF(AND(Equipment!K14>=5,Equipment!K14<=10),500,IF(AND(Equipment!K14>10,Equipment!K14<=15),600,IF(AND(Equipment!K14>15,Equipment!K14<=20),700,IF(AND(Equipment!K14>20),800,IF(AND(Equipment!K14>0,Equipment!K14<5),300,0))))),0)","v":0},null,{"$f":"IF(AND($C$6=\"Yes\",$C$7=\"Yes\",$C$8=\"Yes\",$C$9=\"Yes\",$C$10=\"Yes\",E18<>\"\"),0.22*INDEX(OpHours,MATCH(Equipment!$C$7,BuildingTypeList,0))*Equipment!$O14,0)","v":0}]
[4,null,{"$f":"IF(Equipment!Z15=\"x\",Equipment!C15,\"\")","v":""},null,null,null,{"$f":"IF(AND($C$6=\"Yes\",$C$7=\"Yes\",$C$8=\"Yes\",$C$9=\"Yes\",$C$10=\"Yes\",E19<>\"\"),IF(AND(Equipment!K15>=5,Equipment!K15<=10),500,IF(AND(Equipment!K15>10,Equipment!K15<=15),600,IF(AND(Equipment!K15>15,Equipment!K15<=20),700,IF(AND(Equipment!K15>20),800,IF(AND(Equipment!K15>0,Equipment!K15<5),300,0))))),0)","v":0},null,{"$f":"IF(AND($C$6=\"Yes\",$C$7=\"Yes\",$C$8=\"Yes\",$C$9=\"Yes\",$C$10=\"Yes\",E19<>\"\"),0.22*INDEX(OpHours,MATCH(Equipment!$C$7,BuildingTypeList,0))*Equipment!$O15,0)","v":0}]
[5,null,{"$f":"IF(Equipment!Z16=\"x\",Equipment!C16,\"\")","v":""},null,null,null,{"$f":"IF(AND($C$6=\"Yes\",$C$7=\"Yes\",$C$8=\"Yes\",$C$9=\"Yes\",$C$10=\"Yes\",E20<>\"\"),IF(AND(Equipment!K16>=5,Equipment!K16<=10),500,IF(AND(Equipment!K16>10,Equipment!K16<=15),600,IF(AND(Equipment!K16>15,Equipment!K16<=20),700,IF(AND(Equipment!K16>20),800,IF(AND(Equipment!K16>0,Equipment!K16<5),300,0))))),0)","v":0},null,{"$f":"IF(AND($C$6=\"Yes\",$C$7=\"Yes\",$C$8=\"Yes\",$C$9=\"Yes\",$C$10=\"Yes\",E20<>\"\"),0.22*INDEX(OpHours,MATCH(Equipment!$C$7,BuildingTypeList,0))*Equipment!$O16,0)","v":0}]
[6,null,{"$f":"IF(Equipment!Z17=\"x\",Equipment!C17,\"\")","v":""},null,null,null,{"$f":"IF(AND($C$6=\"Yes\",$C$7=\"Yes\",$C$8=\"Yes\",$C$9=\"Yes\",$C$10=\"Yes\",E21<>\"\"),IF(AND(Equipment!K17>=5,Equipment!K17<=10),500,IF(AND(Equipment!K17>10,Equipment!K17<=15),600,IF(AND(Equipment!K17>15,Equipment!K17<=20),700,IF(AND(Equipment!K17>20),800,IF(AND(Equipment!K17>0,Equipment!K17<5),300,0))))),0)","v":0},null,{"$f":"IF(AND($C$6=\"Yes\",$C$7=\"Yes\",$C$8=\"Yes\",$C$9=\"Yes\",$C$10=\"Yes\",E21<>\"\"),0.22*INDEX(OpHours,MATCH(Equipment!$C$7,BuildingTypeList,0))*Equipment!$O17,0)","v":0}]
[7,null,{"$f":"IF(Equipment!Z18=\"x\",Equipment!C18,\"\")","v":""},null,null,null,{"$f":"IF(AND($C$6=\"Yes\",$C$7=\"Yes\",$C$8=\"Yes\",$C$9=\"Yes\",$C$10=\"Yes\",E22<>\"\"),IF(AND(Equipment!K18>=5,Equipment!K18<=10),500,IF(AND(Equipment!K18>10,Equipment!K18<=15),600,IF(AND(Equipment!K18>15,Equipment!K18<=20),700,IF(AND(Equipment!K18>20),800,IF(AND(Equipment!K18>0,Equipment!K18<5),300,0))))),0)","v":0},null,{"$f":"IF(AND($C$6=\"Yes\",$C$7=\"Yes\",$C$8=\"Yes\",$C$9=\"Yes\",$C$10=\"Yes\",E22<>\"\"),0.22*INDEX(OpHours,MATCH(Equipment!$C$7,BuildingTypeList,0))*Equipment!$O18,0)","v":0}]
[8,null,{"$f":"IF(Equipment!Z19=\"x\",Equipment!C19,\"\")","v":""},null,null,null,{"$f":"IF(AND($C$6=\"Yes\",$C$7=\"Yes\",$C$8=\"Yes\",$C$9=\"Yes\",$C$10=\"Yes\",E23<>\"\"),IF(AND(Equipment!K19>=5,Equipment!K19<=10),500,IF(AND(Equipment!K19>10,Equipment!K19<=15),600,IF(AND(Equipment!K19>15,Equipment!K19<=20),700,IF(AND(Equipment!K19>20),800,IF(AND(Equipment!K19>0,Equipment!K19<5),300,0))))),0)","v":0},null,{"$f":"IF(AND($C$6=\"Yes\",$C$7=\"Yes\",$C$8=\"Yes\",$C$9=\"Yes\",$C$10=\"Yes\",E23<>\"\"),0.22*INDEX(OpHours,MATCH(Equipment!$C$7,BuildingTypeList,0))*Equipment!$O19,0)","v":0}]
[9,null,{"$f":"IF(Equipment!Z20=\"x\",Equipment!C20,\"\")","v":""},null,null,null,{"$f":"IF(AND($C$6=\"Yes\",$C$7=\"Yes\",$C$8=\"Yes\",$C$9=\"Yes\",$C$10=\"Yes\",E24<>\"\"),IF(AND(Equipment!K20>=5,Equipment!K20<=10),500,IF(AND(Equipment!K20>10,Equipment!K20<=15),600,IF(AND(Equipment!K20>15,Equipment!K20<=20),700,IF(AND(Equipment!K20>20),800,IF(AND(Equipment!K20>0,Equipment!K20<5),300,0))))),0)","v":0},null,{"$f":"IF(AND($C$6=\"Yes\",$C$7=\"Yes\",$C$8=\"Yes\",$C$9=\"Yes\",$C$10=\"Yes\",E24<>\"\"),0.22*INDEX(OpHours,MATCH(Equipment!$C$7,BuildingTypeList,0))*Equipment!$O20,0)","v":0}]
[10,null,{"$f":"IF(Equipment!Z21=\"x\",Equipment!C21,\"\")","v":""},null,null,null,{"$f":"IF(AND($C$6=\"Yes\",$C$7=\"Yes\",$C$8=\"Yes\",$C$9=\"Yes\",$C$10=\"Yes\",E25<>\"\"),IF(AND(Equipment!K21>=5,Equipment!K21<=10),500,IF(AND(Equipment!K21>10,Equipment!K21<=15),600,IF(AND(Equipment!K21>15,Equipment!K21<=20),700,IF(AND(Equipment!K21>20),800,IF(AND(Equipment!K21>0,Equipment!K21<5),300,0))))),0)","v":0},null,{"$f":"IF(AND($C$6=\"Yes\",$C$7=\"Yes\",$C$8=\"Yes\",$C$9=\"Yes\",$C$10=\"Yes\",E25<>\"\"),0.22*INDEX(OpHours,MATCH(Equipment!$C$7,BuildingTypeList,0))*Equipment!$O21,0)","v":0}]
[11,null,{"$f":"IF(Equipment!Z22=\"x\",Equipment!C22,\"\")","v":""},null,null,null,{"$f":"IF(AND($C$6=\"Yes\",$C$7=\"Yes\",$C$8=\"Yes\",$C$9=\"Yes\",$C$10=\"Yes\",E26<>\"\"),IF(AND(Equipment!K22>=5,Equipment!K22<=10),500,IF(AND(Equipment!K22>10,Equipment!K22<=15),600,IF(AND(Equipment!K22>15,Equipment!K22<=20),700,IF(AND(Equipment!K22>20),800,IF(AND(Equipment!K22>0,Equipment!K22<5),300,0))))),0)","v":0},null,{"$f":"IF(AND($C$6=\"Yes\",$C$7=\"Yes\",$C$8=\"Yes\",$C$9=\"Yes\",$C$10=\"Yes\",E26<>\"\"),0.22*INDEX(OpHours,MATCH(Equipment!$C$7,BuildingTypeList,0))*Equipment!$O22,0)","v":0}]
[12,null,{"$f":"IF(Equipment!Z23=\"x\",Equipment!C23,\"\")","v":""},null,null,null,{"$f":"IF(AND($C$6=\"Yes\",$C$7=\"Yes\",$C$8=\"Yes\",$C$9=\"Yes\",$C$10=\"Yes\",E27<>\"\"),IF(AND(Equipment!K23>=5,Equipment!K23<=10),500,IF(AND(Equipment!K23>10,Equipment!K23<=15),600,IF(AND(Equipment!K23>15,Equipment!K23<=20),700,IF(AND(Equipment!K23>20),800,IF(AND(Equipment!K23>0,Equipment!K23<5),300,0))))),0)","v":0},null,{"$f":"IF(AND($C$6=\"Yes\",$C$7=\"Yes\",$C$8=\"Yes\",$C$9=\"Yes\",$C$10=\"Yes\",E27<>\"\"),0.22*INDEX(OpHours,MATCH(Equipment!$C$7,BuildingTypeList,0))*Equipment!$O23,0)","v":0}]
[13,null,{"$f":"IF(Equipment!Z24=\"x\",Equipment!C24,\"\")","v":""},null,null,null,{"$f":"IF(AND($C$6=\"Yes\",$C$7=\"Yes\",$C$8=\"Yes\",$C$9=\"Yes\",$C$10=\"Yes\",E28<>\"\"),IF(AND(Equipment!K24>=5,Equipment!K24<=10),500,IF(AND(Equipment!K24>10,Equipment!K24<=15),600,IF(AND(Equipment!K24>15,Equipment!K24<=20),700,IF(AND(Equipment!K24>20),800,IF(AND(Equipment!K24>0,Equipment!K24<5),300,0))))),0)","v":0},null,{"$f":"IF(AND($C$6=\"Yes\",$C$7=\"Yes\",$C$8=\"Yes\",$C$9=\"Yes\",$C$10=\"Yes\",E28<>\"\"),0.22*INDEX(OpHours,MATCH(Equipment!$C$7,BuildingTypeList,0))*Equipment!$O24,0)","v":0}]
[14,null,{"$f":"IF(Equipment!Z25=\"x\",Equipment!C25,\"\")","v":""},null,null,null,{"$f":"IF(AND($C$6=\"Yes\",$C$7=\"Yes\",$C$8=\"Yes\",$C$9=\"Yes\",$C$10=\"Yes\",E29<>\"\"),IF(AND(Equipment!K25>=5,Equipment!K25<=10),500,IF(AND(Equipment!K25>10,Equipment!K25<=15),600,IF(AND(Equipment!K25>15,Equipment!K25<=20),700,IF(AND(Equipment!K25>20),800,IF(AND(Equipment!K25>0,Equipment!K25<5),300,0))))),0)","v":0},null,{"$f":"IF(AND($C$6=\"Yes\",$C$7=\"Yes\",$C$8=\"Yes\",$C$9=\"Yes\",$C$10=\"Yes\",E29<>\"\"),0.22*INDEX(OpHours,MATCH(Equipment!$C$7,BuildingTypeList,0))*Equipment!$O25,0)","v":0}]
[15,null,{"$f":"IF(Equipment!Z26=\"x\",Equipment!C26,\"\")","v":""},null,null,null,{"$f":"IF(AND($C$6=\"Yes\",$C$7=\"Yes\",$C$8=\"Yes\",$C$9=\"Yes\",$C$10=\"Yes\",E30<>\"\"),IF(AND(Equipment!K26>=5,Equipment!K26<=10),500,IF(AND(Equipment!K26>10,Equipment!K26<=15),600,IF(AND(Equipment!K26>15,Equipment!K26<=20),700,IF(AND(Equipment!K26>20),800,IF(AND(Equipment!K26>0,Equipment!K26<5),300,0))))),0)","v":0},null,{"$f":"IF(AND($C$6=\"Yes\",$C$7=\"Yes\",$C$8=\"Yes\",$C$9=\"Yes\",$C$10=\"Yes\",E30<>\"\"),0.22*INDEX(OpHours,MATCH(Equipment!$C$7,BuildingTypeList,0))*Equipment!$O26,0)","v":0}]
[16,null,{"$f":"IF(Equipment!Z27=\"x\",Equipment!C27,\"\")","v":""},null,null,null,{"$f":"IF(AND($C$6=\"Yes\",$C$7=\"Yes\",$C$8=\"Yes\",$C$9=\"Yes\",$C$10=\"Yes\",E31<>\"\"),IF(AND(Equipment!K27>=5,Equipment!K27<=10),500,IF(AND(Equipment!K27>10,Equipment!K27<=15),600,IF(AND(Equipment!K27>15,Equipment!K27<=20),700,IF(AND(Equipment!K27>20),800,IF(AND(Equipment!K27>0,Equipment!K27<5),300,0))))),0)","v":0},null,{"$f":"IF(AND($C$6=\"Yes\",$C$7=\"Yes\",$C$8=\"Yes\",$C$9=\"Yes\",$C$10=\"Yes\",E31<>\"\"),0.22*INDEX(OpHours,MATCH(Equipment!$C$7,BuildingTypeList,0))*Equipment!$O27,0)","v":0}]
[17,null,{"$f":"IF(Equipment!Z28=\"x\",Equipment!C28,\"\")","v":""},null,null,null,{"$f":"IF(AND($C$6=\"Yes\",$C$7=\"Yes\",$C$8=\"Yes\",$C$9=\"Yes\",$C$10=\"Yes\",E32<>\"\"),IF(AND(Equipment!K28>=5,Equipment!K28<=10),500,IF(AND(Equipment!K28>10,Equipment!K28<=15),600,IF(AND(Equipment!K28>15,Equipment!K28<=20),700,IF(AND(Equipment!K28>20),800,IF(AND(Equipment!K28>0,Equipment!K28<5),300,0))))),0)","v":0},null,{"$f":"IF(AND($C$6=\"Yes\",$C$7=\"Yes\",$C$8=\"Yes\",$C$9=\"Yes\",$C$10=\"Yes\",E32<>\"\"),0.22*INDEX(OpHours,MATCH(Equipment!$C$7,BuildingTypeList,0))*Equipment!$O28,0)","v":0}]
[18,null,{"$f":"IF(Equipment!Z29=\"x\",Equipment!C29,\"\")","v":""},null,null,null,{"$f":"IF(AND($C$6=\"Yes\",$C$7=\"Yes\",$C$8=\"Yes\",$C$9=\"Yes\",$C$10=\"Yes\",E33<>\"\"),IF(AND(Equipment!K29>=5,Equipment!K29<=10),500,IF(AND(Equipment!K29>10,Equipment!K29<=15),600,IF(AND(Equipment!K29>15,Equipment!K29<=20),700,IF(AND(Equipment!K29>20),800,IF(AND(Equipment!K29>0,Equipment!K29<5),300,0))))),0)","v":0},null,{"$f":"IF(AND($C$6=\"Yes\",$C$7=\"Yes\",$C$8=\"Yes\",$C$9=\"Yes\",$C$10=\"Yes\",E33<>\"\"),0.22*INDEX(OpHours,MATCH(Equipment!$C$7,BuildingTypeList,0))*Equipment!$O29,0)","v":0}]
[19,null,{"$f":"IF(Equipment!Z30=\"x\",Equipment!C30,\"\")","v":""},null,null,null,{"$f":"IF(AND($C$6=\"Yes\",$C$7=\"Yes\",$C$8=\"Yes\",$C$9=\"Yes\",$C$10=\"Yes\",E34<>\"\"),IF(AND(Equipment!K30>=5,Equipment!K30<=10),500,IF(AND(Equipment!K30>10,Equipment!K30<=15),600,IF(AND(Equipment!K30>15,Equipment!K30<=20),700,IF(AND(Equipment!K30>20),800,IF(AND(Equipment!K30>0,Equipment!K30<5),300,0))))),0)","v":0},null,{"$f":"IF(AND($C$6=\"Yes\",$C$7=\"Yes\",$C$8=\"Yes\",$C$9=\"Yes\",$C$10=\"Yes\",E34<>\"\"),0.22*INDEX(OpHours,MATCH(Equipment!$C$7,BuildingTypeList,0))*Equipment!$O30,0)","v":0}]
[20,null,{"$f":"IF(Equipment!Z31=\"x\",Equipment!C31,\"\")","v":""},null,null,null,{"$f":"IF(AND($C$6=\"Yes\",$C$7=\"Yes\",$C$8=\"Yes\",$C$9=\"Yes\",$C$10=\"Yes\",E35<>\"\"),IF(AND(Equipment!K31>=5,Equipment!K31<=10),500,IF(AND(Equipment!K31>10,Equipment!K31<=15),600,IF(AND(Equipment!K31>15,Equipment!K31<=20),700,IF(AND(Equipment!K31>20),800,IF(AND(Equipment!K31>0,Equipment!K31<5),300,0))))),0)","v":0},null,{"$f":"IF(AND($C$6=\"Yes\",$C$7=\"Yes\",$C$8=\"Yes\",$C$9=\"Yes\",$C$10=\"Yes\",E35<>\"\"),0.22*INDEX(OpHours,MATCH(Equipment!$C$7,BuildingTypeList,0))*Equipment!$O31,0)","v":0}]
[21,null,{"$f":"IF(Equipment!Z32=\"x\",Equipment!C32,\"\")","v":""},null,null,null,{"$f":"IF(AND($C$6=\"Yes\",$C$7=\"Yes\",$C$8=\"Yes\",$C$9=\"Yes\",$C$10=\"Yes\",E36<>\"\"),IF(AND(Equipment!K32>=5,Equipment!K32<=10),500,IF(AND(Equipment!K32>10,Equipment!K32<=15),600,IF(AND(Equipment!K32>15,Equipment!K32<=20),700,IF(AND(Equipment!K32>20),800,IF(AND(Equipment!K32>0,Equipment!K32<5),300,0))))),0)","v":0},null,{"$f":"IF(AND($C$6=\"Yes\",$C$7=\"Yes\",$C$8=\"Yes\",$C$9=\"Yes\",$C$10=\"Yes\",E36<>\"\"),0.22*INDEX(OpHours,MATCH(Equipment!$C$7,BuildingTypeList,0))*Equipment!$O32,0)","v":0}]
[22,null,{"$f":"IF(Equipment!Z33=\"x\",Equipment!C33,\"\")","v":""},null,null,null,{"$f":"IF(AND($C$6=\"Yes\",$C$7=\"Yes\",$C$8=\"Yes\",$C$9=\"Yes\",$C$10=\"Yes\",E37<>\"\"),IF(AND(Equipment!K33>=5,Equipment!K33<=10),500,IF(AND(Equipment!K33>10,Equipment!K33<=15),600,IF(AND(Equipment!K33>15,Equipment!K33<=20),700,IF(AND(Equipment!K33>20),800,IF(AND(Equipment!K33>0,Equipment!K33<5),300,0))))),0)","v":0},null,{"$f":"IF(AND($C$6=\"Yes\",$C$7=\"Yes\",$C$8=\"Yes\",$C$9=\"Yes\",$C$10=\"Yes\",E37<>\"\"),0.22*INDEX(OpHours,MATCH(Equipment!$C$7,BuildingTypeList,0))*Equipment!$O33,0)","v":0}]
[23,null,{"$f":"IF(Equipment!Z34=\"x\",Equipment!C34,\"\")","v":""},null,null,null,{"$f":"IF(AND($C$6=\"Yes\",$C$7=\"Yes\",$C$8=\"Yes\",$C$9=\"Yes\",$C$10=\"Yes\",E38<>\"\"),IF(AND(Equipment!K34>=5,Equipment!K34<=10),500,IF(AND(Equipment!K34>10,Equipment!K34<=15),600,IF(AND(Equipment!K34>15,Equipment!K34<=20),700,IF(AND(Equipment!K34>20),800,IF(AND(Equipment!K34>0,Equipment!K34<5),300,0))))),0)","v":0},null,{"$f":"IF(AND($C$6=\"Yes\",$C$7=\"Yes\",$C$8=\"Yes\",$C$9=\"Yes\",$C$10=\"Yes\",E38<>\"\"),0.22*INDEX(OpHours,MATCH(Equipment!$C$7,BuildingTypeList,0))*Equipment!$O34,0)","v":0}]
[24,null,{"$f":"IF(Equipment!Z35=\"x\",Equipment!C35,\"\")","v":""},null,null,null,{"$f":"IF(AND($C$6=\"Yes\",$C$7=\"Yes\",$C$8=\"Yes\",$C$9=\"Yes\",$C$10=\"Yes\",E39<>\"\"),IF(AND(Equipment!K35>=5,Equipment!K35<=10),500,IF(AND(Equipment!K35>10,Equipment!K35<=15),600,IF(AND(Equipment!K35>15,Equipment!K35<=20),700,IF(AND(Equipment!K35>20),800,IF(AND(Equipment!K35>0,Equipment!K35<5),300,0))))),0)","v":0},null,{"$f":"IF(AND($C$6=\"Yes\",$C$7=\"Yes\",$C$8=\"Yes\",$C$9=\"Yes\",$C$10=\"Yes\",E39<>\"\"),0.22*INDEX(OpHours,MATCH(Equipment!$C$7,BuildingTypeList,0))*Equipment!$O35,0)","v":0}]
[25,null,{"$f":"IF(Equipment!Z36=\"x\",Equipment!C36,\"\")","v":""},null,null,null,{"$f":"IF(AND($C$6=\"Yes\",$C$7=\"Yes\",$C$8=\"Yes\",$C$9=\"Yes\",$C$10=\"Yes\",E40<>\"\"),IF(AND(Equipment!K36>=5,Equipment!K36<=10),500,IF(AND(Equipment!K36>10,Equipment!K36<=15),600,IF(AND(Equipment!K36>15,Equipment!K36<=20),700,IF(AND(Equipment!K36>20),800,IF(AND(Equipment!K36>0,Equipment!K36<5),300,0))))),0)","v":0},null,{"$f":"IF(AND($C$6=\"Yes\",$C$7=\"Yes\",$C$8=\"Yes\",$C$9=\"Yes\",$C$10=\"Yes\",E40<>\"\"),0.22*INDEX(OpHours,MATCH(Equipment!$C$7,BuildingTypeList,0))*Equipment!$O36,0)","v":0}]
[26,null,{"$f":"IF(Equipment!Z37=\"x\",Equipment!C37,\"\")","v":""},null,null,null,{"$f":"IF(AND($C$6=\"Yes\",$C$7=\"Yes\",$C$8=\"Yes\",$C$9=\"Yes\",$C$10=\"Yes\",E41<>\"\"),IF(AND(Equipment!K37>=5,Equipment!K37<=10),500,IF(AND(Equipment!K37>10,Equipment!K37<=15),600,IF(AND(Equipment!K37>15,Equipment!K37<=20),700,IF(AND(Equipment!K37>20),800,IF(AND(Equipment!K37>0,Equipment!K37<5),300,0))))),0)","v":0},null,{"$f":"IF(AND($C$6=\"Yes\",$C$7=\"Yes\",$C$8=\"Yes\",$C$9=\"Yes\",$C$10=\"Yes\",E41<>\"\"),0.22*INDEX(OpHours,MATCH(Equipment!$C$7,BuildingTypeList,0))*Equipment!$O37,0)","v":0}]
[27,null,{"$f":"IF(Equipment!Z38=\"x\",Equipment!C38,\"\")","v":""},null,null,null,{"$f":"IF(AND($C$6=\"Yes\",$C$7=\"Yes\",$C$8=\"Yes\",$C$9=\"Yes\",$C$10=\"Yes\",E42<>\"\"),IF(AND(Equipment!K38>=5,Equipment!K38<=10),500,IF(AND(Equipment!K38>10,Equipment!K38<=15),600,IF(AND(Equipment!K38>15,Equipment!K38<=20),700,IF(AND(Equipment!K38>20),800,IF(AND(Equipment!K38>0,Equipment!K38<5),300,0))))),0)","v":0},null,{"$f":"IF(AND($C$6=\"Yes\",$C$7=\"Yes\",$C$8=\"Yes\",$C$9=\"Yes\",$C$10=\"Yes\",E42<>\"\"),0.22*INDEX(OpHours,MATCH(Equipment!$C$7,BuildingTypeList,0))*Equipment!$O38,0)","v":0}]
[28,null,{"$f":"IF(Equipment!Z39=\"x\",Equipment!C39,\"\")","v":""},null,null,null,{"$f":"IF(AND($C$6=\"Yes\",$C$7=\"Yes\",$C$8=\"Yes\",$C$9=\"Yes\",$C$10=\"Yes\",E43<>\"\"),IF(AND(Equipment!K39>=5,Equipment!K39<=10),500,IF(AND(Equipment!K39>10,Equipment!K39<=15),600,IF(AND(Equipment!K39>15,Equipment!K39<=20),700,IF(AND(Equipment!K39>20),800,IF(AND(Equipment!K39>0,Equipment!K39<5),300,0))))),0)","v":0},null,{"$f":"IF(AND($C$6=\"Yes\",$C$7=\"Yes\",$C$8=\"Yes\",$C$9=\"Yes\",$C$10=\"Yes\",E43<>\"\"),0.22*INDEX(OpHours,MATCH(Equipment!$C$7,BuildingTypeList,0))*Equipment!$O39,0)","v":0}]
[29,null,{"$f":"IF(Equipment!Z40=\"x\",Equipment!C40,\"\")","v":""},null,null,null,{"$f":"IF(AND($C$6=\"Yes\",$C$7=\"Yes\",$C$8=\"Yes\",$C$9=\"Yes\",$C$10=\"Yes\",E44<>\"\"),IF(AND(Equipment!K40>=5,Equipment!K40<=10),500,IF(AND(Equipment!K40>10,Equipment!K40<=15),600,IF(AND(Equipment!K40>15,Equipment!K40<=20),700,IF(AND(Equipment!K40>20),800,IF(AND(Equipment!K40>0,Equipment!K40<5),300,0))))),0)","v":0},null,{"$f":"IF(AND($C$6=\"Yes\",$C$7=\"Yes\",$C$8=\"Yes\",$C$9=\"Yes\",$C$10=\"Yes\",E44<>\"\"),0.22*INDEX(OpHours,MATCH(Equipment!$C$7,BuildingTypeList,0))*Equipment!$O40,0)","v":0}]
[30,null,{"$f":"IF(Equipment!Z41=\"x\",Equipment!C41,\"\")","v":""},null,null,null,{"$f":"IF(AND($C$6=\"Yes\",$C$7=\"Yes\",$C$8=\"Yes\",$C$9=\"Yes\",$C$10=\"Yes\",E45<>\"\"),IF(AND(Equipment!K41>=5,Equipment!K41<=10),500,IF(AND(Equipment!K41>10,Equipment!K41<=15),600,IF(AND(Equipment!K41>15,Equipment!K41<=20),700,IF(AND(Equipment!K41>20),800,IF(AND(Equipment!K41>0,Equipment!K41<5),300,0))))),0)","v":0},null,{"$f":"IF(AND($C$6=\"Yes\",$C$7=\"Yes\",$C$8=\"Yes\",$C$9=\"Yes\",$C$10=\"Yes\",E45<>\"\"),0.22*INDEX(OpHours,MATCH(Equipment!$C$7,BuildingTypeList,0))*Equipment!$O41,0)","v":0}]
[31,null,{"$f":"IF(Equipment!Z42=\"x\",Equipment!C42,\"\")","v":""},null,null,null,{"$f":"IF(AND($C$6=\"Yes\",$C$7=\"Yes\",$C$8=\"Yes\",$C$9=\"Yes\",$C$10=\"Yes\",E46<>\"\"),IF(AND(Equipment!K42>=5,Equipment!K42<=10),500,IF(AND(Equipment!K42>10,Equipment!K42<=15),600,IF(AND(Equipment!K42>15,Equipment!K42<=20),700,IF(AND(Equipment!K42>20),800,IF(AND(Equipment!K42>0,Equipment!K42<5),300,0))))),0)","v":0},null,{"$f":"IF(AND($C$6=\"Yes\",$C$7=\"Yes\",$C$8=\"Yes\",$C$9=\"Yes\",$C$10=\"Yes\",E46<>\"\"),0.22*INDEX(OpHours,MATCH(Equipment!$C$7,BuildingTypeList,0))*Equipment!$O42,0)","v":0}]
[32,null,{"$f":"IF(Equipment!Z43=\"x\",Equipment!C43,\"\")","v":""},null,null,null,{"$f":"IF(AND($C$6=\"Yes\",$C$7=\"Yes\",$C$8=\"Yes\",$C$9=\"Yes\",$C$10=\"Yes\",E47<>\"\"),IF(AND(Equipment!K43>=5,Equipment!K43<=10),500,IF(AND(Equipment!K43>10,Equipment!K43<=15),600,IF(AND(Equipment!K43>15,Equipment!K43<=20),700,IF(AND(Equipment!K43>20),800,IF(AND(Equipment!K43>0,Equipment!K43<5),300,0))))),0)","v":0},null,{"$f":"IF(AND($C$6=\"Yes\",$C$7=\"Yes\",$C$8=\"Yes\",$C$9=\"Yes\",$C$10=\"Yes\",E47<>\"\"),0.22*INDEX(OpHours,MATCH(Equipment!$C$7,BuildingTypeList,0))*Equipment!$O43,0)","v":0}]
[33,null,{"$f":"IF(Equipment!Z44=\"x\",Equipment!C44,\"\")","v":""},null,null,null,{"$f":"IF(AND($C$6=\"Yes\",$C$7=\"Yes\",$C$8=\"Yes\",$C$9=\"Yes\",$C$10=\"Yes\",E48<>\"\"),IF(AND(Equipment!K44>=5,Equipment!K44<=10),500,IF(AND(Equipment!K44>10,Equipment!K44<=15),600,IF(AND(Equipment!K44>15,Equipment!K44<=20),700,IF(AND(Equipment!K44>20),800,IF(AND(Equipment!K44>0,Equipment!K44<5),300,0))))),0)","v":0},null,{"$f":"IF(AND($C$6=\"Yes\",$C$7=\"Yes\",$C$8=\"Yes\",$C$9=\"Yes\",$C$10=\"Yes\",E48<>\"\"),0.22*INDEX(OpHours,MATCH(Equipment!$C$7,BuildingTypeList,0))*Equipment!$O44,0)","v":0}]
[34,null,{"$f":"IF(Equipment!Z45=\"x\",Equipment!C45,\"\")","v":""},null,null,null,{"$f":"IF(AND($C$6=\"Yes\",$C$7=\"Yes\",$C$8=\"Yes\",$C$9=\"Yes\",$C$10=\"Yes\",E49<>\"\"),IF(AND(Equipment!K45>=5,Equipment!K45<=10),500,IF(AND(Equipment!K45>10,Equipment!K45<=15),600,IF(AND(Equipment!K45>15,Equipment!K45<=20),700,IF(AND(Equipment!K45>20),800,IF(AND(Equipment!K45>0,Equipment!K45<5),300,0))))),0)","v":0},null,{"$f":"IF(AND($C$6=\"Yes\",$C$7=\"Yes\",$C$8=\"Yes\",$C$9=\"Yes\",$C$10=\"Yes\",E49<>\"\"),0.22*INDEX(OpHours,MATCH(Equipment!$C$7,BuildingTypeList,0))*Equipment!$O45,0)","v":0}]
[35,null,{"$f":"IF(Equipment!Z46=\"x\",Equipment!C46,\"\")","v":""},null,null,null,{"$f":"IF(AND($C$6=\"Yes\",$C$7=\"Yes\",$C$8=\"Yes\",$C$9=\"Yes\",$C$10=\"Yes\",E50<>\"\"),IF(AND(Equipment!K46>=5,Equipment!K46<=10),500,IF(AND(Equipment!K46>10,Equipment!K46<=15),600,IF(AND(Equipment!K46>15,Equipment!K46<=20),700,IF(AND(Equipment!K46>20),800,IF(AND(Equipment!K46>0,Equipment!K46<5),300,0))))),0)","v":0},null,{"$f":"IF(AND($C$6=\"Yes\",$C$7=\"Yes\",$C$8=\"Yes\",$C$9=\"Yes\",$C$10=\"Yes\",E50<>\"\"),0.22*INDEX(OpHours,MATCH(Equipment!$C$7,BuildingTypeList,0))*Equipment!$O46,0)","v":0}]
[36,null,{"$f":"IF(Equipment!Z47=\"x\",Equipment!C47,\"\")","v":""},null,null,null,{"$f":"IF(AND($C$6=\"Yes\",$C$7=\"Yes\",$C$8=\"Yes\",$C$9=\"Yes\",$C$10=\"Yes\",E51<>\"\"),IF(AND(Equipment!K47>=5,Equipment!K47<=10),500,IF(AND(Equipment!K47>10,Equipment!K47<=15),600,IF(AND(Equipment!K47>15,Equipment!K47<=20),700,IF(AND(Equipment!K47>20),800,IF(AND(Equipment!K47>0,Equipment!K47<5),300,0))))),0)","v":0},null,{"$f":"IF(AND($C$6=\"Yes\",$C$7=\"Yes\",$C$8=\"Yes\",$C$9=\"Yes\",$C$10=\"Yes\",E51<>\"\"),0.22*INDEX(OpHours,MATCH(Equipment!$C$7,BuildingTypeList,0))*Equipment!$O47,0)","v":0}]
[37,null,{"$f":"IF(Equipment!Z48=\"x\",Equipment!C48,\"\")","v":""},null,null,null,{"$f":"IF(AND($C$6=\"Yes\",$C$7=\"Yes\",$C$8=\"Yes\",$C$9=\"Yes\",$C$10=\"Yes\",E52<>\"\"),IF(AND(Equipment!K48>=5,Equipment!K48<=10),500,IF(AND(Equipment!K48>10,Equipment!K48<=15),600,IF(AND(Equipment!K48>15,Equipment!K48<=20),700,IF(AND(Equipment!K48>20),800,IF(AND(Equipment!K48>0,Equipment!K48<5),300,0))))),0)","v":0},null,{"$f":"IF(AND($C$6=\"Yes\",$C$7=\"Yes\",$C$8=\"Yes\",$C$9=\"Yes\",$C$10=\"Yes\",E52<>\"\"),0.22*INDEX(OpHours,MATCH(Equipment!$C$7,BuildingTypeList,0))*Equipment!$O48,0)","v":0}]
[38,null,{"$f":"IF(Equipment!Z49=\"x\",Equipment!C49,\"\")","v":""},null,null,null,{"$f":"IF(AND($C$6=\"Yes\",$C$7=\"Yes\",$C$8=\"Yes\",$C$9=\"Yes\",$C$10=\"Yes\",E53<>\"\"),IF(AND(Equipment!K49>=5,Equipment!K49<=10),500,IF(AND(Equipment!K49>10,Equipment!K49<=15),600,IF(AND(Equipment!K49>15,Equipment!K49<=20),700,IF(AND(Equipment!K49>20),800,IF(AND(Equipment!K49>0,Equipment!K49<5),300,0))))),0)","v":0},null,{"$f":"IF(AND($C$6=\"Yes\",$C$7=\"Yes\",$C$8=\"Yes\",$C$9=\"Yes\",$C$10=\"Yes\",E53<>\"\"),0.22*INDEX(OpHours,MATCH(Equipment!$C$7,BuildingTypeList,0))*Equipment!$O49,0)","v":0}]
[39,null,{"$f":"IF(Equipment!Z50=\"x\",Equipment!C50,\"\")","v":""},null,null,null,{"$f":"IF(AND($C$6=\"Yes\",$C$7=\"Yes\",$C$8=\"Yes\",$C$9=\"Yes\",$C$10=\"Yes\",E54<>\"\"),IF(AND(Equipment!K50>=5,Equipment!K50<=10),500,IF(AND(Equipment!K50>10,Equipment!K50<=15),600,IF(AND(Equipment!K50>15,Equipment!K50<=20),700,IF(AND(Equipment!K50>20),800,IF(AND(Equipment!K50>0,Equipment!K50<5),300,0))))),0)","v":0},null,{"$f":"IF(AND($C$6=\"Yes\",$C$7=\"Yes\",$C$8=\"Yes\",$C$9=\"Yes\",$C$10=\"Yes\",E54<>\"\"),0.22*INDEX(OpHours,MATCH(Equipment!$C$7,BuildingTypeList,0))*Equipment!$O50,0)","v":0}]
[40,null,{"$f":"IF(Equipment!Z51=\"x\",Equipment!C51,\"\")","v":""},null,null,null,{"$f":"IF(AND($C$6=\"Yes\",$C$7=\"Yes\",$C$8=\"Yes\",$C$9=\"Yes\",$C$10=\"Yes\",E55<>\"\"),IF(AND(Equipment!K51>=5,Equipment!K51<=10),500,IF(AND(Equipment!K51>10,Equipment!K51<=15),600,IF(AND(Equipment!K51>15,Equipment!K51<=20),700,IF(AND(Equipment!K51>20),800,IF(AND(Equipment!K51>0,Equipment!K51<5),300,0))))),0)","v":0},null,{"$f":"IF(AND($C$6=\"Yes\",$C$7=\"Yes\",$C$8=\"Yes\",$C$9=\"Yes\",$C$10=\"Yes\",E55<>\"\"),0.22*INDEX(OpHours,MATCH(Equipment!$C$7,BuildingTypeList,0))*Equipment!$O51,0)","v":0}]
[41,null,{"$f":"IF(Equipment!Z52=\"x\",Equipment!C52,\"\")","v":""},null,null,null,{"$f":"IF(AND($C$6=\"Yes\",$C$7=\"Yes\",$C$8=\"Yes\",$C$9=\"Yes\",$C$10=\"Yes\",E56<>\"\"),IF(AND(Equipment!K52>=5,Equipment!K52<=10),500,IF(AND(Equipment!K52>10,Equipment!K52<=15),600,IF(AND(Equipment!K52>15,Equipment!K52<=20),700,IF(AND(Equipment!K52>20),800,IF(AND(Equipment!K52>0,Equipment!K52<5),300,0))))),0)","v":0},null,{"$f":"IF(AND($C$6=\"Yes\",$C$7=\"Yes\",$C$8=\"Yes\",$C$9=\"Yes\",$C$10=\"Yes\",E56<>\"\"),0.22*INDEX(OpHours,MATCH(Equipment!$C$7,BuildingTypeList,0))*Equipment!$O52,0)","v":0}]
[42,null,{"$f":"IF(Equipment!Z53=\"x\",Equipment!C53,\"\")","v":""},null,null,null,{"$f":"IF(AND($C$6=\"Yes\",$C$7=\"Yes\",$C$8=\"Yes\",$C$9=\"Yes\",$C$10=\"Yes\",E57<>\"\"),IF(AND(Equipment!K53>=5,Equipment!K53<=10),500,IF(AND(Equipment!K53>10,Equipment!K53<=15),600,IF(AND(Equipment!K53>15,Equipment!K53<=20),700,IF(AND(Equipment!K53>20),800,IF(AND(Equipment!K53>0,Equipment!K53<5),300,0))))),0)","v":0},null,{"$f":"IF(AND($C$6=\"Yes\",$C$7=\"Yes\",$C$8=\"Yes\",$C$9=\"Yes\",$C$10=\"Yes\",E57<>\"\"),0.22*INDEX(OpHours,MATCH(Equipment!$C$7,BuildingTypeList,0))*Equipment!$O53,0)","v":0}]
[43,null,{"$f":"IF(Equipment!Z54=\"x\",Equipment!C54,\"\")","v":""},null,null,null,{"$f":"IF(AND($C$6=\"Yes\",$C$7=\"Yes\",$C$8=\"Yes\",$C$9=\"Yes\",$C$10=\"Yes\",E58<>\"\"),IF(AND(Equipment!K54>=5,Equipment!K54<=10),500,IF(AND(Equipment!K54>10,Equipment!K54<=15),600,IF(AND(Equipment!K54>15,Equipment!K54<=20),700,IF(AND(Equipment!K54>20),800,IF(AND(Equipment!K54>0,Equipment!K54<5),300,0))))),0)","v":0},null,{"$f":"IF(AND($C$6=\"Yes\",$C$7=\"Yes\",$C$8=\"Yes\",$C$9=\"Yes\",$C$10=\"Yes\",E58<>\"\"),0.22*INDEX(OpHours,MATCH(Equipment!$C$7,BuildingTypeList,0))*Equipment!$O54,0)","v":0}]
[44,null,{"$f":"IF(Equipment!Z55=\"x\",Equipment!C55,\"\")","v":""},null,null,null,{"$f":"IF(AND($C$6=\"Yes\",$C$7=\"Yes\",$C$8=\"Yes\",$C$9=\"Yes\",$C$10=\"Yes\",E59<>\"\"),IF(AND(Equipment!K55>=5,Equipment!K55<=10),500,IF(AND(Equipment!K55>10,Equipment!K55<=15),600,IF(AND(Equipment!K55>15,Equipment!K55<=20),700,IF(AND(Equipment!K55>20),800,IF(AND(Equipment!K55>0,Equipment!K55<5),300,0))))),0)","v":0},null,{"$f":"IF(AND($C$6=\"Yes\",$C$7=\"Yes\",$C$8=\"Yes\",$C$9=\"Yes\",$C$10=\"Yes\",E59<>\"\"),0.22*INDEX(OpHours,MATCH(Equipment!$C$7,BuildingTypeList,0))*Equipment!$O55,0)","v":0}]
[45,null,{"$f":"IF(Equipment!Z56=\"x\",Equipment!C56,\"\")","v":""},null,null,null,{"$f":"IF(AND($C$6=\"Yes\",$C$7=\"Yes\",$C$8=\"Yes\",$C$9=\"Yes\",$C$10=\"Yes\",E60<>\"\"),IF(AND(Equipment!K56>=5,Equipment!K56<=10),500,IF(AND(Equipment!K56>10,Equipment!K56<=15),600,IF(AND(Equipment!K56>15,Equipment!K56<=20),700,IF(AND(Equipment!K56>20),800,IF(AND(Equipment!K56>0,Equipment!K56<5),300,0))))),0)","v":0},null,{"$f":"IF(AND($C$6=\"Yes\",$C$7=\"Yes\",$C$8=\"Yes\",$C$9=\"Yes\",$C$10=\"Yes\",E60<>\"\"),0.22*INDEX(OpHours,MATCH(Equipment!$C$7,BuildingTypeList,0))*Equipment!$O56,0)","v":0}]
[46,null,{"$f":"IF(Equipment!Z57=\"x\",Equipment!C57,\"\")","v":""},null,null,null,{"$f":"IF(AND($C$6=\"Yes\",$C$7=\"Yes\",$C$8=\"Yes\",$C$9=\"Yes\",$C$10=\"Yes\",E61<>\"\"),IF(AND(Equipment!K57>=5,Equipment!K57<=10),500,IF(AND(Equipment!K57>10,Equipment!K57<=15),600,IF(AND(Equipment!K57>15,Equipment!K57<=20),700,IF(AND(Equipment!K57>20),800,IF(AND(Equipment!K57>0,Equipment!K57<5),300,0))))),0)","v":0},null,{"$f":"IF(AND($C$6=\"Yes\",$C$7=\"Yes\",$C$8=\"Yes\",$C$9=\"Yes\",$C$10=\"Yes\",E61<>\"\"),0.22*INDEX(OpHours,MATCH(Equipment!$C$7,BuildingTypeList,0))*Equipment!$O57,0)","v":0}]
[47,null,{"$f":"IF(Equipment!Z58=\"x\",Equipment!C58,\"\")","v":""},null,null,null,{"$f":"IF(AND($C$6=\"Yes\",$C$7=\"Yes\",$C$8=\"Yes\",$C$9=\"Yes\",$C$10=\"Yes\",E62<>\"\"),IF(AND(Equipment!K58>=5,Equipment!K58<=10),500,IF(AND(Equipment!K58>10,Equipment!K58<=15),600,IF(AND(Equipment!K58>15,Equipment!K58<=20),700,IF(AND(Equipment!K58>20),800,IF(AND(Equipment!K58>0,Equipment!K58<5),300,0))))),0)","v":0},null,{"$f":"IF(AND($C$6=\"Yes\",$C$7=\"Yes\",$C$8=\"Yes\",$C$9=\"Yes\",$C$10=\"Yes\",E62<>\"\"),0.22*INDEX(OpHours,MATCH(Equipment!$C$7,BuildingTypeList,0))*Equipment!$O58,0)","v":0}]
[48,null,{"$f":"IF(Equipment!Z59=\"x\",Equipment!C59,\"\")","v":""},null,null,null,{"$f":"IF(AND($C$6=\"Yes\",$C$7=\"Yes\",$C$8=\"Yes\",$C$9=\"Yes\",$C$10=\"Yes\",E63<>\"\"),IF(AND(Equipment!K59>=5,Equipment!K59<=10),500,IF(AND(Equipment!K59>10,Equipment!K59<=15),600,IF(AND(Equipment!K59>15,Equipment!K59<=20),700,IF(AND(Equipment!K59>20),800,IF(AND(Equipment!K59>0,Equipment!K59<5),300,0))))),0)","v":0},null,{"$f":"IF(AND($C$6=\"Yes\",$C$7=\"Yes\",$C$8=\"Yes\",$C$9=\"Yes\",$C$10=\"Yes\",E63<>\"\"),0.22*INDEX(OpHours,MATCH(Equipment!$C$7,BuildingTypeList,0))*Equipment!$O59,0)","v":0}]
[49,null,{"$f":"IF(Equipment!Z60=\"x\",Equipment!C60,\"\")","v":""},null,null,null,{"$f":"IF(AND($C$6=\"Yes\",$C$7=\"Yes\",$C$8=\"Yes\",$C$9=\"Yes\",$C$10=\"Yes\",E64<>\"\"),IF(AND(Equipment!K60>=5,Equipment!K60<=10),500,IF(AND(Equipment!K60>10,Equipment!K60<=15),600,IF(AND(Equipment!K60>15,Equipment!K60<=20),700,IF(AND(Equipment!K60>20),800,IF(AND(Equipment!K60>0,Equipment!K60<5),300,0))))),0)","v":0},null,{"$f":"IF(AND($C$6=\"Yes\",$C$7=\"Yes\",$C$8=\"Yes\",$C$9=\"Yes\",$C$10=\"Yes\",E64<>\"\"),0.22*INDEX(OpHours,MATCH(Equipment!$C$7,BuildingTypeList,0))*Equipment!$O60,0)","v":0}]
[50,null,{"$f":"IF(Equipment!Z61=\"x\",Equipment!C61,\"\")","v":""},null,null,null,{"$f":"IF(AND($C$6=\"Yes\",$C$7=\"Yes\",$C$8=\"Yes\",$C$9=\"Yes\",$C$10=\"Yes\",E65<>\"\"),IF(AND(Equipment!K61>=5,Equipment!K61<=10),500,IF(AND(Equipment!K61>10,Equipment!K61<=15),600,IF(AND(Equipment!K61>15,Equipment!K61<=20),700,IF(AND(Equipment!K61>20),800,IF(AND(Equipment!K61>0,Equipment!K61<5),300,0))))),0)","v":0},null,{"$f":"IF(AND($C$6=\"Yes\",$C$7=\"Yes\",$C$8=\"Yes\",$C$9=\"Yes\",$C$10=\"Yes\",E65<>\"\"),0.22*INDEX(OpHours,MATCH(Equipment!$C$7,BuildingTypeList,0))*Equipment!$O61,0)","v":0}]
[51,null,{"$f":"IF(Equipment!Z62=\"x\",Equipment!C62,\"\")","v":""},null,null,null,{"$f":"IF(AND($C$6=\"Yes\",$C$7=\"Yes\",$C$8=\"Yes\",$C$9=\"Yes\",$C$10=\"Yes\",E66<>\"\"),IF(AND(Equipment!K62>=5,Equipment!K62<=10),500,IF(AND(Equipment!K62>10,Equipment!K62<=15),600,IF(AND(Equipment!K62>15,Equipment!K62<=20),700,IF(AND(Equipment!K62>20),800,IF(AND(Equipment!K62>0,Equipment!K62<5),300,0))))),0)","v":0},null,{"$f":"IF(AND($C$6=\"Yes\",$C$7=\"Yes\",$C$8=\"Yes\",$C$9=\"Yes\",$C$10=\"Yes\",E66<>\"\"),0.22*INDEX(OpHours,MATCH(Equipment!$C$7,BuildingTypeList,0))*Equipment!$O62,0)","v":0}]
[52,null,{"$f":"IF(Equipment!Z63=\"x\",Equipment!C63,\"\")","v":""},null,null,null,{"$f":"IF(AND($C$6=\"Yes\",$C$7=\"Yes\",$C$8=\"Yes\",$C$9=\"Yes\",$C$10=\"Yes\",E67<>\"\"),IF(AND(Equipment!K63>=5,Equipment!K63<=10),500,IF(AND(Equipment!K63>10,Equipment!K63<=15),600,IF(AND(Equipment!K63>15,Equipment!K63<=20),700,IF(AND(Equipment!K63>20),800,IF(AND(Equipment!K63>0,Equipment!K63<5),300,0))))),0)","v":0},null,{"$f":"IF(AND($C$6=\"Yes\",$C$7=\"Yes\",$C$8=\"Yes\",$C$9=\"Yes\",$C$10=\"Yes\",E67<>\"\"),0.22*INDEX(OpHours,MATCH(Equipment!$C$7,BuildingTypeList,0))*Equipment!$O63,0)","v":0}]
[53,null,{"$f":"IF(Equipment!Z64=\"x\",Equipment!C64,\"\")","v":""},null,null,null,{"$f":"IF(AND($C$6=\"Yes\",$C$7=\"Yes\",$C$8=\"Yes\",$C$9=\"Yes\",$C$10=\"Yes\",E68<>\"\"),IF(AND(Equipment!K64>=5,Equipment!K64<=10),500,IF(AND(Equipment!K64>10,Equipment!K64<=15),600,IF(AND(Equipment!K64>15,Equipment!K64<=20),700,IF(AND(Equipment!K64>20),800,IF(AND(Equipment!K64>0,Equipment!K64<5),300,0))))),0)","v":0},null,{"$f":"IF(AND($C$6=\"Yes\",$C$7=\"Yes\",$C$8=\"Yes\",$C$9=\"Yes\",$C$10=\"Yes\",E68<>\"\"),0.22*INDEX(OpHours,MATCH(Equipment!$C$7,BuildingTypeList,0))*Equipment!$O64,0)","v":0}]
[54,null,{"$f":"IF(Equipment!Z65=\"x\",Equipment!C65,\"\")","v":""},null,null,null,{"$f":"IF(AND($C$6=\"Yes\",$C$7=\"Yes\",$C$8=\"Yes\",$C$9=\"Yes\",$C$10=\"Yes\",E69<>\"\"),IF(AND(Equipment!K65>=5,Equipment!K65<=10),500,IF(AND(Equipment!K65>10,Equipment!K65<=15),600,IF(AND(Equipment!K65>15,Equipment!K65<=20),700,IF(AND(Equipment!K65>20),800,IF(AND(Equipment!K65>0,Equipment!K65<5),300,0))))),0)","v":0},null,{"$f":"IF(AND($C$6=\"Yes\",$C$7=\"Yes\",$C$8=\"Yes\",$C$9=\"Yes\",$C$10=\"Yes\",E69<>\"\"),0.22*INDEX(OpHours,MATCH(Equipment!$C$7,BuildingTypeList,0))*Equipment!$O65,0)","v":0}]
[55,null,{"$f":"IF(Equipment!Z66=\"x\",Equipment!C66,\"\")","v":""},null,null,null,{"$f":"IF(AND($C$6=\"Yes\",$C$7=\"Yes\",$C$8=\"Yes\",$C$9=\"Yes\",$C$10=\"Yes\",E70<>\"\"),IF(AND(Equipment!K66>=5,Equipment!K66<=10),500,IF(AND(Equipment!K66>10,Equipment!K66<=15),600,IF(AND(Equipment!K66>15,Equipment!K66<=20),700,IF(AND(Equipment!K66>20),800,IF(AND(Equipment!K66>0,Equipment!K66<5),300,0))))),0)","v":0},null,{"$f":"IF(AND($C$6=\"Yes\",$C$7=\"Yes\",$C$8=\"Yes\",$C$9=\"Yes\",$C$10=\"Yes\",E70<>\"\"),0.22*INDEX(OpHours,MATCH(Equipment!$C$7,BuildingTypeList,0))*Equipment!$O66,0)","v":0}]
[56,null,{"$f":"IF(Equipment!Z67=\"x\",Equipment!C67,\"\")","v":""},null,null,null,{"$f":"IF(AND($C$6=\"Yes\",$C$7=\"Yes\",$C$8=\"Yes\",$C$9=\"Yes\",$C$10=\"Yes\",E71<>\"\"),IF(AND(Equipment!K67>=5,Equipment!K67<=10),500,IF(AND(Equipment!K67>10,Equipment!K67<=15),600,IF(AND(Equipment!K67>15,Equipment!K67<=20),700,IF(AND(Equipment!K67>20),800,IF(AND(Equipment!K67>0,Equipment!K67<5),300,0))))),0)","v":0},null,{"$f":"IF(AND($C$6=\"Yes\",$C$7=\"Yes\",$C$8=\"Yes\",$C$9=\"Yes\",$C$10=\"Yes\",E71<>\"\"),0.22*INDEX(OpHours,MATCH(Equipment!$C$7,BuildingTypeList,0))*Equipment!$O67,0)","v":0}]
[57,null,{"$f":"IF(Equipment!Z68=\"x\",Equipment!C68,\"\")","v":""},null,null,null,{"$f":"IF(AND($C$6=\"Yes\",$C$7=\"Yes\",$C$8=\"Yes\",$C$9=\"Yes\",$C$10=\"Yes\",E72<>\"\"),IF(AND(Equipment!K68>=5,Equipment!K68<=10),500,IF(AND(Equipment!K68>10,Equipment!K68<=15),600,IF(AND(Equipment!K68>15,Equipment!K68<=20),700,IF(AND(Equipment!K68>20),800,IF(AND(Equipment!K68>0,Equipment!K68<5),300,0))))),0)","v":0},null,{"$f":"IF(AND($C$6=\"Yes\",$C$7=\"Yes\",$C$8=\"Yes\",$C$9=\"Yes\",$C$10=\"Yes\",E72<>\"\"),0.22*INDEX(OpHours,MATCH(Equipment!$C$7,BuildingTypeList,0))*Equipment!$O68,0)","v":0}]
[58,null,{"$f":"IF(Equipment!Z69=\"x\",Equipment!C69,\"\")","v":""},null,null,null,{"$f":"IF(AND($C$6=\"Yes\",$C$7=\"Yes\",$C$8=\"Yes\",$C$9=\"Yes\",$C$10=\"Yes\",E73<>\"\"),IF(AND(Equipment!K69>=5,Equipment!K69<=10),500,IF(AND(Equipment!K69>10,Equipment!K69<=15),600,IF(AND(Equipment!K69>15,Equipment!K69<=20),700,IF(AND(Equipment!K69>20),800,IF(AND(Equipment!K69>0,Equipment!K69<5),300,0))))),0)","v":0},null,{"$f":"IF(AND($C$6=\"Yes\",$C$7=\"Yes\",$C$8=\"Yes\",$C$9=\"Yes\",$C$10=\"Yes\",E73<>\"\"),0.22*INDEX(OpHours,MATCH(Equipment!$C$7,BuildingTypeList,0))*Equipment!$O69,0)","v":0}]
[59,null,{"$f":"IF(Equipment!Z70=\"x\",Equipment!C70,\"\")","v":""},null,null,null,{"$f":"IF(AND($C$6=\"Yes\",$C$7=\"Yes\",$C$8=\"Yes\",$C$9=\"Yes\",$C$10=\"Yes\",E74<>\"\"),IF(AND(Equipment!K70>=5,Equipment!K70<=10),500,IF(AND(Equipment!K70>10,Equipment!K70<=15),600,IF(AND(Equipment!K70>15,Equipment!K70<=20),700,IF(AND(Equipment!K70>20),800,IF(AND(Equipment!K70>0,Equipment!K70<5),300,0))))),0)","v":0},null,{"$f":"IF(AND($C$6=\"Yes\",$C$7=\"Yes\",$C$8=\"Yes\",$C$9=\"Yes\",$C$10=\"Yes\",E74<>\"\"),0.22*INDEX(OpHours,MATCH(Equipment!$C$7,BuildingTypeList,0))*Equipment!$O70,0)","v":0}]
[60,null,{"$f":"IF(Equipment!Z71=\"x\",Equipment!C71,\"\")","v":""},null,null,null,{"$f":"IF(AND($C$6=\"Yes\",$C$7=\"Yes\",$C$8=\"Yes\",$C$9=\"Yes\",$C$10=\"Yes\",E75<>\"\"),IF(AND(Equipment!K71>=5,Equipment!K71<=10),500,IF(AND(Equipment!K71>10,Equipment!K71<=15),600,IF(AND(Equipment!K71>15,Equipment!K71<=20),700,IF(AND(Equipment!K71>20),800,IF(AND(Equipment!K71>0,Equipment!K71<5),300,0))))),0)","v":0},null,{"$f":"IF(AND($C$6=\"Yes\",$C$7=\"Yes\",$C$8=\"Yes\",$C$9=\"Yes\",$C$10=\"Yes\",E75<>\"\"),0.22*INDEX(OpHours,MATCH(Equipment!$C$7,BuildingTypeList,0))*Equipment!$O71,0)","v":0}]
[61,null,{"$f":"IF(Equipment!Z72=\"x\",Equipment!C72,\"\")","v":""},null,null,null,{"$f":"IF(AND($C$6=\"Yes\",$C$7=\"Yes\",$C$8=\"Yes\",$C$9=\"Yes\",$C$10=\"Yes\",E76<>\"\"),IF(AND(Equipment!K72>=5,Equipment!K72<=10),500,IF(AND(Equipment!K72>10,Equipment!K72<=15),600,IF(AND(Equipment!K72>15,Equipment!K72<=20),700,IF(AND(Equipment!K72>20),800,IF(AND(Equipment!K72>0,Equipment!K72<5),300,0))))),0)","v":0},null,{"$f":"IF(AND($C$6=\"Yes\",$C$7=\"Yes\",$C$8=\"Yes\",$C$9=\"Yes\",$C$10=\"Yes\",E76<>\"\"),0.22*INDEX(OpHours,MATCH(Equipment!$C$7,BuildingTypeList,0))*Equipment!$O72,0)","v":0}]
[62,null,{"$f":"IF(Equipment!Z73=\"x\",Equipment!C73,\"\")","v":""},null,null,null,{"$f":"IF(AND($C$6=\"Yes\",$C$7=\"Yes\",$C$8=\"Yes\",$C$9=\"Yes\",$C$10=\"Yes\",E77<>\"\"),IF(AND(Equipment!K73>=5,Equipment!K73<=10),500,IF(AND(Equipment!K73>10,Equipment!K73<=15),600,IF(AND(Equipment!K73>15,Equipment!K73<=20),700,IF(AND(Equipment!K73>20),800,IF(AND(Equipment!K73>0,Equipment!K73<5),300,0))))),0)","v":0},null,{"$f":"IF(AND($C$6=\"Yes\",$C$7=\"Yes\",$C$8=\"Yes\",$C$9=\"Yes\",$C$10=\"Yes\",E77<>\"\"),0.22*INDEX(OpHours,MATCH(Equipment!$C$7,BuildingTypeList,0))*Equipment!$O73,0)","v":0}]
[63,null,{"$f":"IF(Equipment!Z74=\"x\",Equipment!C74,\"\")","v":""},null,null,null,{"$f":"IF(AND($C$6=\"Yes\",$C$7=\"Yes\",$C$8=\"Yes\",$C$9=\"Yes\",$C$10=\"Yes\",E78<>\"\"),IF(AND(Equipment!K74>=5,Equipment!K74<=10),500,IF(AND(Equipment!K74>10,Equipment!K74<=15),600,IF(AND(Equipment!K74>15,Equipment!K74<=20),700,IF(AND(Equipment!K74>20),800,IF(AND(Equipment!K74>0,Equipment!K74<5),300,0))))),0)","v":0},null,{"$f":"IF(AND($C$6=\"Yes\",$C$7=\"Yes\",$C$8=\"Yes\",$C$9=\"Yes\",$C$10=\"Yes\",E78<>\"\"),0.22*INDEX(OpHours,MATCH(Equipment!$C$7,BuildingTypeList,0))*Equipment!$O74,0)","v":0}]
[64,null,{"$f":"IF(Equipment!Z75=\"x\",Equipment!C75,\"\")","v":""},null,null,null,{"$f":"IF(AND($C$6=\"Yes\",$C$7=\"Yes\",$C$8=\"Yes\",$C$9=\"Yes\",$C$10=\"Yes\",E79<>\"\"),IF(AND(Equipment!K75>=5,Equipment!K75<=10),500,IF(AND(Equipment!K75>10,Equipment!K75<=15),600,IF(AND(Equipment!K75>15,Equipment!K75<=20),700,IF(AND(Equipment!K75>20),800,IF(AND(Equipment!K75>0,Equipment!K75<5),300,0))))),0)","v":0},null,{"$f":"IF(AND($C$6=\"Yes\",$C$7=\"Yes\",$C$8=\"Yes\",$C$9=\"Yes\",$C$10=\"Yes\",E79<>\"\"),0.22*INDEX(OpHours,MATCH(Equipment!$C$7,BuildingTypeList,0))*Equipment!$O75,0)","v":0}]
[65,null,{"$f":"IF(Equipment!Z76=\"x\",Equipment!C76,\"\")","v":""},null,null,null,{"$f":"IF(AND($C$6=\"Yes\",$C$7=\"Yes\",$C$8=\"Yes\",$C$9=\"Yes\",$C$10=\"Yes\",E80<>\"\"),IF(AND(Equipment!K76>=5,Equipment!K76<=10),500,IF(AND(Equipment!K76>10,Equipment!K76<=15),600,IF(AND(Equipment!K76>15,Equipment!K76<=20),700,IF(AND(Equipment!K76>20),800,IF(AND(Equipment!K76>0,Equipment!K76<5),300,0))))),0)","v":0},null,{"$f":"IF(AND($C$6=\"Yes\",$C$7=\"Yes\",$C$8=\"Yes\",$C$9=\"Yes\",$C$10=\"Yes\",E80<>\"\"),0.22*INDEX(OpHours,MATCH(Equipment!$C$7,BuildingTypeList,0))*Equipment!$O76,0)","v":0}]
[66,null,{"$f":"IF(Equipment!Z77=\"x\",Equipment!C77,\"\")","v":""},null,null,null,{"$f":"IF(AND($C$6=\"Yes\",$C$7=\"Yes\",$C$8=\"Yes\",$C$9=\"Yes\",$C$10=\"Yes\",E81<>\"\"),IF(AND(Equipment!K77>=5,Equipment!K77<=10),500,IF(AND(Equipment!K77>10,Equipment!K77<=15),600,IF(AND(Equipment!K77>15,Equipment!K77<=20),700,IF(AND(Equipment!K77>20),800,IF(AND(Equipment!K77>0,Equipment!K77<5),300,0))))),0)","v":0},null,{"$f":"IF(AND($C$6=\"Yes\",$C$7=\"Yes\",$C$8=\"Yes\",$C$9=\"Yes\",$C$10=\"Yes\",E81<>\"\"),0.22*INDEX(OpHours,MATCH(Equipment!$C$7,BuildingTypeList,0))*Equipment!$O77,0)","v":0}]
[67,null,{"$f":"IF(Equipment!Z78=\"x\",Equipment!C78,\"\")","v":""},null,null,null,{"$f":"IF(AND($C$6=\"Yes\",$C$7=\"Yes\",$C$8=\"Yes\",$C$9=\"Yes\",$C$10=\"Yes\",E82<>\"\"),IF(AND(Equipment!K78>=5,Equipment!K78<=10),500,IF(AND(Equipment!K78>10,Equipment!K78<=15),600,IF(AND(Equipment!K78>15,Equipment!K78<=20),700,IF(AND(Equipment!K78>20),800,IF(AND(Equipment!K78>0,Equipment!K78<5),300,0))))),0)","v":0},null,{"$f":"IF(AND($C$6=\"Yes\",$C$7=\"Yes\",$C$8=\"Yes\",$C$9=\"Yes\",$C$10=\"Yes\",E82<>\"\"),0.22*INDEX(OpHours,MATCH(Equipment!$C$7,BuildingTypeList,0))*Equipment!$O78,0)","v":0}]
[68,null,{"$f":"IF(Equipment!Z79=\"x\",Equipment!C79,\"\")","v":""},null,null,null,{"$f":"IF(AND($C$6=\"Yes\",$C$7=\"Yes\",$C$8=\"Yes\",$C$9=\"Yes\",$C$10=\"Yes\",E83<>\"\"),IF(AND(Equipment!K79>=5,Equipment!K79<=10),500,IF(AND(Equipment!K79>10,Equipment!K79<=15),600,IF(AND(Equipment!K79>15,Equipment!K79<=20),700,IF(AND(Equipment!K79>20),800,IF(AND(Equipment!K79>0,Equipment!K79<5),300,0))))),0)","v":0},null,{"$f":"IF(AND($C$6=\"Yes\",$C$7=\"Yes\",$C$8=\"Yes\",$C$9=\"Yes\",$C$10=\"Yes\",E83<>\"\"),0.22*INDEX(OpHours,MATCH(Equipment!$C$7,BuildingTypeList,0))*Equipment!$O79,0)","v":0}]
[69,null,{"$f":"IF(Equipment!Z80=\"x\",Equipment!C80,\"\")","v":""},null,null,null,{"$f":"IF(AND($C$6=\"Yes\",$C$7=\"Yes\",$C$8=\"Yes\",$C$9=\"Yes\",$C$10=\"Yes\",E84<>\"\"),IF(AND(Equipment!K80>=5,Equipment!K80<=10),500,IF(AND(Equipment!K80>10,Equipment!K80<=15),600,IF(AND(Equipment!K80>15,Equipment!K80<=20),700,IF(AND(Equipment!K80>20),800,IF(AND(Equipment!K80>0,Equipment!K80<5),300,0))))),0)","v":0},null,{"$f":"IF(AND($C$6=\"Yes\",$C$7=\"Yes\",$C$8=\"Yes\",$C$9=\"Yes\",$C$10=\"Yes\",E84<>\"\"),0.22*INDEX(OpHours,MATCH(Equipment!$C$7,BuildingTypeList,0))*Equipment!$O80,0)","v":0}]
[70,null,{"$f":"IF(Equipment!Z81=\"x\",Equipment!C81,\"\")","v":""},null,null,null,{"$f":"IF(AND($C$6=\"Yes\",$C$7=\"Yes\",$C$8=\"Yes\",$C$9=\"Yes\",$C$10=\"Yes\",E85<>\"\"),IF(AND(Equipment!K81>=5,Equipment!K81<=10),500,IF(AND(Equipment!K81>10,Equipment!K81<=15),600,IF(AND(Equipment!K81>15,Equipment!K81<=20),700,IF(AND(Equipment!K81>20),800,IF(AND(Equipment!K81>0,Equipment!K81<5),300,0))))),0)","v":0},null,{"$f":"IF(AND($C$6=\"Yes\",$C$7=\"Yes\",$C$8=\"Yes\",$C$9=\"Yes\",$C$10=\"Yes\",E85<>\"\"),0.22*INDEX(OpHours,MATCH(Equipment!$C$7,BuildingTypeList,0))*Equipment!$O81,0)","v":0}]
[71,null,{"$f":"IF(Equipment!Z82=\"x\",Equipment!C82,\"\")","v":""},null,null,null,{"$f":"IF(AND($C$6=\"Yes\",$C$7=\"Yes\",$C$8=\"Yes\",$C$9=\"Yes\",$C$10=\"Yes\",E86<>\"\"),IF(AND(Equipment!K82>=5,Equipment!K82<=10),500,IF(AND(Equipment!K82>10,Equipment!K82<=15),600,IF(AND(Equipment!K82>15,Equipment!K82<=20),700,IF(AND(Equipment!K82>20),800,IF(AND(Equipment!K82>0,Equipment!K82<5),300,0))))),0)","v":0},null,{"$f":"IF(AND($C$6=\"Yes\",$C$7=\"Yes\",$C$8=\"Yes\",$C$9=\"Yes\",$C$10=\"Yes\",E86<>\"\"),0.22*INDEX(OpHours,MATCH(Equipment!$C$7,BuildingTypeList,0))*Equipment!$O82,0)","v":0}]
[72,null,{"$f":"IF(Equipment!Z83=\"x\",Equipment!C83,\"\")","v":""},null,null,null,{"$f":"IF(AND($C$6=\"Yes\",$C$7=\"Yes\",$C$8=\"Yes\",$C$9=\"Yes\",$C$10=\"Yes\",E87<>\"\"),IF(AND(Equipment!K83>=5,Equipment!K83<=10),500,IF(AND(Equipment!K83>10,Equipment!K83<=15),600,IF(AND(Equipment!K83>15,Equipment!K83<=20),700,IF(AND(Equipment!K83>20),800,IF(AND(Equipment!K83>0,Equipment!K83<5),300,0))))),0)","v":0},null,{"$f":"IF(AND($C$6=\"Yes\",$C$7=\"Yes\",$C$8=\"Yes\",$C$9=\"Yes\",$C$10=\"Yes\",E87<>\"\"),0.22*INDEX(OpHours,MATCH(Equipment!$C$7,BuildingTypeList,0))*Equipment!$O83,0)","v":0}]
[73,null,{"$f":"IF(Equipment!Z84=\"x\",Equipment!C84,\"\")","v":""},null,null,null,{"$f":"IF(AND($C$6=\"Yes\",$C$7=\"Yes\",$C$8=\"Yes\",$C$9=\"Yes\",$C$10=\"Yes\",E88<>\"\"),IF(AND(Equipment!K84>=5,Equipment!K84<=10),500,IF(AND(Equipment!K84>10,Equipment!K84<=15),600,IF(AND(Equipment!K84>15,Equipment!K84<=20),700,IF(AND(Equipment!K84>20),800,IF(AND(Equipment!K84>0,Equipment!K84<5),300,0))))),0)","v":0},null,{"$f":"IF(AND($C$6=\"Yes\",$C$7=\"Yes\",$C$8=\"Yes\",$C$9=\"Yes\",$C$10=\"Yes\",E88<>\"\"),0.22*INDEX(OpHours,MATCH(Equipment!$C$7,BuildingTypeList,0))*Equipment!$O84,0)","v":0}]
[74,null,{"$f":"IF(Equipment!Z85=\"x\",Equipment!C85,\"\")","v":""},null,null,null,{"$f":"IF(AND($C$6=\"Yes\",$C$7=\"Yes\",$C$8=\"Yes\",$C$9=\"Yes\",$C$10=\"Yes\",E89<>\"\"),IF(AND(Equipment!K85>=5,Equipment!K85<=10),500,IF(AND(Equipment!K85>10,Equipment!K85<=15),600,IF(AND(Equipment!K85>15,Equipment!K85<=20),700,IF(AND(Equipment!K85>20),800,IF(AND(Equipment!K85>0,Equipment!K85<5),300,0))))),0)","v":0},null,{"$f":"IF(AND($C$6=\"Yes\",$C$7=\"Yes\",$C$8=\"Yes\",$C$9=\"Yes\",$C$10=\"Yes\",E89<>\"\"),0.22*INDEX(OpHours,MATCH(Equipment!$C$7,BuildingTypeList,0))*Equipment!$O85,0)","v":0}]
[75,null,{"$f":"IF(Equipment!Z86=\"x\",Equipment!C86,\"\")","v":""},null,null,null,{"$f":"IF(AND($C$6=\"Yes\",$C$7=\"Yes\",$C$8=\"Yes\",$C$9=\"Yes\",$C$10=\"Yes\",E90<>\"\"),IF(AND(Equipment!K86>=5,Equipment!K86<=10),500,IF(AND(Equipment!K86>10,Equipment!K86<=15),600,IF(AND(Equipment!K86>15,Equipment!K86<=20),700,IF(AND(Equipment!K86>20),800,IF(AND(Equipment!K86>0,Equipment!K86<5),300,0))))),0)","v":0},null,{"$f":"IF(AND($C$6=\"Yes\",$C$7=\"Yes\",$C$8=\"Yes\",$C$9=\"Yes\",$C$10=\"Yes\",E90<>\"\"),0.22*INDEX(OpHours,MATCH(Equipment!$C$7,BuildingTypeList,0))*Equipment!$O86,0)","v":0}]
[76,null,{"$f":"IF(Equipment!Z87=\"x\",Equipment!C87,\"\")","v":""},null,null,null,{"$f":"IF(AND($C$6=\"Yes\",$C$7=\"Yes\",$C$8=\"Yes\",$C$9=\"Yes\",$C$10=\"Yes\",E91<>\"\"),IF(AND(Equipment!K87>=5,Equipment!K87<=10),500,IF(AND(Equipment!K87>10,Equipment!K87<=15),600,IF(AND(Equipment!K87>15,Equipment!K87<=20),700,IF(AND(Equipment!K87>20),800,IF(AND(Equipment!K87>0,Equipment!K87<5),300,0))))),0)","v":0},null,{"$f":"IF(AND($C$6=\"Yes\",$C$7=\"Yes\",$C$8=\"Yes\",$C$9=\"Yes\",$C$10=\"Yes\",E91<>\"\"),0.22*INDEX(OpHours,MATCH(Equipment!$C$7,BuildingTypeList,0))*Equipment!$O87,0)","v":0}]
[77,null,{"$f":"IF(Equipment!Z88=\"x\",Equipment!C88,\"\")","v":""},null,null,null,{"$f":"IF(AND($C$6=\"Yes\",$C$7=\"Yes\",$C$8=\"Yes\",$C$9=\"Yes\",$C$10=\"Yes\",E92<>\"\"),IF(AND(Equipment!K88>=5,Equipment!K88<=10),500,IF(AND(Equipment!K88>10,Equipment!K88<=15),600,IF(AND(Equipment!K88>15,Equipment!K88<=20),700,IF(AND(Equipment!K88>20),800,IF(AND(Equipment!K88>0,Equipment!K88<5),300,0))))),0)","v":0},null,{"$f":"IF(AND($C$6=\"Yes\",$C$7=\"Yes\",$C$8=\"Yes\",$C$9=\"Yes\",$C$10=\"Yes\",E92<>\"\"),0.22*INDEX(OpHours,MATCH(Equipment!$C$7,BuildingTypeList,0))*Equipment!$O88,0)","v":0}]
[78,null,{"$f":"IF(Equipment!Z89=\"x\",Equipment!C89,\"\")","v":""},null,null,null,{"$f":"IF(AND($C$6=\"Yes\",$C$7=\"Yes\",$C$8=\"Yes\",$C$9=\"Yes\",$C$10=\"Yes\",E93<>\"\"),IF(AND(Equipment!K89>=5,Equipment!K89<=10),500,IF(AND(Equipment!K89>10,Equipment!K89<=15),600,IF(AND(Equipment!K89>15,Equipment!K89<=20),700,IF(AND(Equipment!K89>20),800,IF(AND(Equipment!K89>0,Equipment!K89<5),300,0))))),0)","v":0},null,{"$f":"IF(AND($C$6=\"Yes\",$C$7=\"Yes\",$C$8=\"Yes\",$C$9=\"Yes\",$C$10=\"Yes\",E93<>\"\"),0.22*INDEX(OpHours,MATCH(Equipment!$C$7,BuildingTypeList,0))*Equipment!$O89,0)","v":0}]
[79,null,{"$f":"IF(Equipment!Z90=\"x\",Equipment!C90,\"\")","v":""},null,null,null,{"$f":"IF(AND($C$6=\"Yes\",$C$7=\"Yes\",$C$8=\"Yes\",$C$9=\"Yes\",$C$10=\"Yes\",E94<>\"\"),IF(AND(Equipment!K90>=5,Equipment!K90<=10),500,IF(AND(Equipment!K90>10,Equipment!K90<=15),600,IF(AND(Equipment!K90>15,Equipment!K90<=20),700,IF(AND(Equipment!K90>20),800,IF(AND(Equipment!K90>0,Equipment!K90<5),300,0))))),0)","v":0},null,{"$f":"IF(AND($C$6=\"Yes\",$C$7=\"Yes\",$C$8=\"Yes\",$C$9=\"Yes\",$C$10=\"Yes\",E94<>\"\"),0.22*INDEX(OpHours,MATCH(Equipment!$C$7,BuildingTypeList,0))*Equipment!$O90,0)","v":0}]
[80,null,{"$f":"IF(Equipment!Z91=\"x\",Equipment!C91,\"\")","v":""},null,null,null,{"$f":"IF(AND($C$6=\"Yes\",$C$7=\"Yes\",$C$8=\"Yes\",$C$9=\"Yes\",$C$10=\"Yes\",E95<>\"\"),IF(AND(Equipment!K91>=5,Equipment!K91<=10),500,IF(AND(Equipment!K91>10,Equipment!K91<=15),600,IF(AND(Equipment!K91>15,Equipment!K91<=20),700,IF(AND(Equipment!K91>20),800,IF(AND(Equipment!K91>0,Equipment!K91<5),300,0))))),0)","v":0},null,{"$f":"IF(AND($C$6=\"Yes\",$C$7=\"Yes\",$C$8=\"Yes\",$C$9=\"Yes\",$C$10=\"Yes\",E95<>\"\"),0.22*INDEX(OpHours,MATCH(Equipment!$C$7,BuildingTypeList,0))*Equipment!$O91,0)","v":0}]
[81,null,{"$f":"IF(Equipment!Z92=\"x\",Equipment!C92,\"\")","v":""},null,null,null,{"$f":"IF(AND($C$6=\"Yes\",$C$7=\"Yes\",$C$8=\"Yes\",$C$9=\"Yes\",$C$10=\"Yes\",E96<>\"\"),IF(AND(Equipment!K92>=5,Equipment!K92<=10),500,IF(AND(Equipment!K92>10,Equipment!K92<=15),600,IF(AND(Equipment!K92>15,Equipment!K92<=20),700,IF(AND(Equipment!K92>20),800,IF(AND(Equipment!K92>0,Equipment!K92<5),300,0))))),0)","v":0},null,{"$f":"IF(AND($C$6=\"Yes\",$C$7=\"Yes\",$C$8=\"Yes\",$C$9=\"Yes\",$C$10=\"Yes\",E96<>\"\"),0.22*INDEX(OpHours,MATCH(Equipment!$C$7,BuildingTypeList,0))*Equipment!$O92,0)","v":0}]
[82,null,{"$f":"IF(Equipment!Z93=\"x\",Equipment!C93,\"\")","v":""},null,null,null,{"$f":"IF(AND($C$6=\"Yes\",$C$7=\"Yes\",$C$8=\"Yes\",$C$9=\"Yes\",$C$10=\"Yes\",E97<>\"\"),IF(AND(Equipment!K93>=5,Equipment!K93<=10),500,IF(AND(Equipment!K93>10,Equipment!K93<=15),600,IF(AND(Equipment!K93>15,Equipment!K93<=20),700,IF(AND(Equipment!K93>20),800,IF(AND(Equipment!K93>0,Equipment!K93<5),300,0))))),0)","v":0},null,{"$f":"IF(AND($C$6=\"Yes\",$C$7=\"Yes\",$C$8=\"Yes\",$C$9=\"Yes\",$C$10=\"Yes\",E97<>\"\"),0.22*INDEX(OpHours,MATCH(Equipment!$C$7,BuildingTypeList,0))*Equipment!$O93,0)","v":0}]
[83,null,{"$f":"IF(Equipment!Z94=\"x\",Equipment!C94,\"\")","v":""},null,null,null,{"$f":"IF(AND($C$6=\"Yes\",$C$7=\"Yes\",$C$8=\"Yes\",$C$9=\"Yes\",$C$10=\"Yes\",E98<>\"\"),IF(AND(Equipment!K94>=5,Equipment!K94<=10),500,IF(AND(Equipment!K94>10,Equipment!K94<=15),600,IF(AND(Equipment!K94>15,Equipment!K94<=20),700,IF(AND(Equipment!K94>20),800,IF(AND(Equipment!K94>0,Equipment!K94<5),300,0))))),0)","v":0},null,{"$f":"IF(AND($C$6=\"Yes\",$C$7=\"Yes\",$C$8=\"Yes\",$C$9=\"Yes\",$C$10=\"Yes\",E98<>\"\"),0.22*INDEX(OpHours,MATCH(Equipment!$C$7,BuildingTypeList,0))*Equipment!$O94,0)","v":0}]
[84,null,{"$f":"IF(Equipment!Z95=\"x\",Equipment!C95,\"\")","v":""},null,null,null,{"$f":"IF(AND($C$6=\"Yes\",$C$7=\"Yes\",$C$8=\"Yes\",$C$9=\"Yes\",$C$10=\"Yes\",E99<>\"\"),IF(AND(Equipment!K95>=5,Equipment!K95<=10),500,IF(AND(Equipment!K95>10,Equipment!K95<=15),600,IF(AND(Equipment!K95>15,Equipment!K95<=20),700,IF(AND(Equipment!K95>20),800,IF(AND(Equipment!K95>0,Equipment!K95<5),300,0))))),0)","v":0},null,{"$f":"IF(AND($C$6=\"Yes\",$C$7=\"Yes\",$C$8=\"Yes\",$C$9=\"Yes\",$C$10=\"Yes\",E99<>\"\"),0.22*INDEX(OpHours,MATCH(Equipment!$C$7,BuildingTypeList,0))*Equipment!$O95,0)","v":0}]
[85,null,{"$f":"IF(Equipment!Z96=\"x\",Equipment!C96,\"\")","v":""},null,null,null,{"$f":"IF(AND($C$6=\"Yes\",$C$7=\"Yes\",$C$8=\"Yes\",$C$9=\"Yes\",$C$10=\"Yes\",E100<>\"\"),IF(AND(Equipment!K96>=5,Equipment!K96<=10),500,IF(AND(Equipment!K96>10,Equipment!K96<=15),600,IF(AND(Equipment!K96>15,Equipment!K96<=20),700,IF(AND(Equipment!K96>20),800,IF(AND(Equipment!K96>0,Equipment!K96<5),300,0))))),0)","v":0},null,{"$f":"IF(AND($C$6=\"Yes\",$C$7=\"Yes\",$C$8=\"Yes\",$C$9=\"Yes\",$C$10=\"Yes\",E100<>\"\"),0.22*INDEX(OpHours,MATCH(Equipment!$C$7,BuildingTypeList,0))*Equipment!$O96,0)","v":0}]
[86,null,{"$f":"IF(Equipment!Z97=\"x\",Equipment!C97,\"\")","v":""},null,null,null,{"$f":"IF(AND($C$6=\"Yes\",$C$7=\"Yes\",$C$8=\"Yes\",$C$9=\"Yes\",$C$10=\"Yes\",E101<>\"\"),IF(AND(Equipment!K97>=5,Equipment!K97<=10),500,IF(AND(Equipment!K97>10,Equipment!K97<=15),600,IF(AND(Equipment!K97>15,Equipment!K97<=20),700,IF(AND(Equipment!K97>20),800,IF(AND(Equipment!K97>0,Equipment!K97<5),300,0))))),0)","v":0},null,{"$f":"IF(AND($C$6=\"Yes\",$C$7=\"Yes\",$C$8=\"Yes\",$C$9=\"Yes\",$C$10=\"Yes\",E101<>\"\"),0.22*INDEX(OpHours,MATCH(Equipment!$C$7,BuildingTypeList,0))*Equipment!$O97,0)","v":0}]
[87,null,{"$f":"IF(Equipment!Z98=\"x\",Equipment!C98,\"\")","v":""},null,null,null,{"$f":"IF(AND($C$6=\"Yes\",$C$7=\"Yes\",$C$8=\"Yes\",$C$9=\"Yes\",$C$10=\"Yes\",E102<>\"\"),IF(AND(Equipment!K98>=5,Equipment!K98<=10),500,IF(AND(Equipment!K98>10,Equipment!K98<=15),600,IF(AND(Equipment!K98>15,Equipment!K98<=20),700,IF(AND(Equipment!K98>20),800,IF(AND(Equipment!K98>0,Equipment!K98<5),300,0))))),0)","v":0},null,{"$f":"IF(AND($C$6=\"Yes\",$C$7=\"Yes\",$C$8=\"Yes\",$C$9=\"Yes\",$C$10=\"Yes\",E102<>\"\"),0.22*INDEX(OpHours,MATCH(Equipment!$C$7,BuildingTypeList,0))*Equipment!$O98,0)","v":0}]
[88,null,{"$f":"IF(Equipment!Z99=\"x\",Equipment!C99,\"\")","v":""},null,null,null,{"$f":"IF(AND($C$6=\"Yes\",$C$7=\"Yes\",$C$8=\"Yes\",$C$9=\"Yes\",$C$10=\"Yes\",E103<>\"\"),IF(AND(Equipment!K99>=5,Equipment!K99<=10),500,IF(AND(Equipment!K99>10,Equipment!K99<=15),600,IF(AND(Equipment!K99>15,Equipment!K99<=20),700,IF(AND(Equipment!K99>20),800,IF(AND(Equipment!K99>0,Equipment!K99<5),300,0))))),0)","v":0},null,{"$f":"IF(AND($C$6=\"Yes\",$C$7=\"Yes\",$C$8=\"Yes\",$C$9=\"Yes\",$C$10=\"Yes\",E103<>\"\"),0.22*INDEX(OpHours,MATCH(Equipment!$C$7,BuildingTypeList,0))*Equipment!$O99,0)","v":0}]
[89,null,{"$f":"IF(Equipment!Z100=\"x\",Equipment!C100,\"\")","v":""},null,null,null,{"$f":"IF(AND($C$6=\"Yes\",$C$7=\"Yes\",$C$8=\"Yes\",$C$9=\"Yes\",$C$10=\"Yes\",E104<>\"\"),IF(AND(Equipment!K100>=5,Equipment!K100<=10),500,IF(AND(Equipment!K100>10,Equipment!K100<=15),600,IF(AND(Equipment!K100>15,Equipment!K100<=20),700,IF(AND(Equipment!K100>20),800,IF(AND(Equipment!K100>0,Equipment!K100<5),300,0))))),0)","v":0},null,{"$f":"IF(AND($C$6=\"Yes\",$C$7=\"Yes\",$C$8=\"Yes\",$C$9=\"Yes\",$C$10=\"Yes\",E104<>\"\"),0.22*INDEX(OpHours,MATCH(Equipment!$C$7,BuildingTypeList,0))*Equipment!$O100,0)","v":0}]
[90,null,{"$f":"IF(Equipment!Z101=\"x\",Equipment!C101,\"\")","v":""},null,null,null,{"$f":"IF(AND($C$6=\"Yes\",$C$7=\"Yes\",$C$8=\"Yes\",$C$9=\"Yes\",$C$10=\"Yes\",E105<>\"\"),IF(AND(Equipment!K101>=5,Equipment!K101<=10),500,IF(AND(Equipment!K101>10,Equipment!K101<=15),600,IF(AND(Equipment!K101>15,Equipment!K101<=20),700,IF(AND(Equipment!K101>20),800,IF(AND(Equipment!K101>0,Equipment!K101<5),300,0))))),0)","v":0},null,{"$f":"IF(AND($C$6=\"Yes\",$C$7=\"Yes\",$C$8=\"Yes\",$C$9=\"Yes\",$C$10=\"Yes\",E105<>\"\"),0.22*INDEX(OpHours,MATCH(Equipment!$C$7,BuildingTypeList,0))*Equipment!$O101,0)","v":0}]
[91,null,{"$f":"IF(Equipment!Z102=\"x\",Equipment!C102,\"\")","v":""},null,null,null,{"$f":"IF(AND($C$6=\"Yes\",$C$7=\"Yes\",$C$8=\"Yes\",$C$9=\"Yes\",$C$10=\"Yes\",E106<>\"\"),IF(AND(Equipment!K102>=5,Equipment!K102<=10),500,IF(AND(Equipment!K102>10,Equipment!K102<=15),600,IF(AND(Equipment!K102>15,Equipment!K102<=20),700,IF(AND(Equipment!K102>20),800,IF(AND(Equipment!K102>0,Equipment!K102<5),300,0))))),0)","v":0},null,{"$f":"IF(AND($C$6=\"Yes\",$C$7=\"Yes\",$C$8=\"Yes\",$C$9=\"Yes\",$C$10=\"Yes\",E106<>\"\"),0.22*INDEX(OpHours,MATCH(Equipment!$C$7,BuildingTypeList,0))*Equipment!$O102,0)","v":0}]
[92,null,{"$f":"IF(Equipment!Z103=\"x\",Equipment!C103,\"\")","v":""},null,null,null,{"$f":"IF(AND($C$6=\"Yes\",$C$7=\"Yes\",$C$8=\"Yes\",$C$9=\"Yes\",$C$10=\"Yes\",E107<>\"\"),IF(AND(Equipment!K103>=5,Equipment!K103<=10),500,IF(AND(Equipment!K103>10,Equipment!K103<=15),600,IF(AND(Equipment!K103>15,Equipment!K103<=20),700,IF(AND(Equipment!K103>20),800,IF(AND(Equipment!K103>0,Equipment!K103<5),300,0))))),0)","v":0},null,{"$f":"IF(AND($C$6=\"Yes\",$C$7=\"Yes\",$C$8=\"Yes\",$C$9=\"Yes\",$C$10=\"Yes\",E107<>\"\"),0.22*INDEX(OpHours,MATCH(Equipment!$C$7,BuildingTypeList,0))*Equipment!$O103,0)","v":0}]
[93,null,{"$f":"IF(Equipment!Z104=\"x\",Equipment!C104,\"\")","v":""},null,null,null,{"$f":"IF(AND($C$6=\"Yes\",$C$7=\"Yes\",$C$8=\"Yes\",$C$9=\"Yes\",$C$10=\"Yes\",E108<>\"\"),IF(AND(Equipment!K104>=5,Equipment!K104<=10),500,IF(AND(Equipment!K104>10,Equipment!K104<=15),600,IF(AND(Equipment!K104>15,Equipment!K104<=20),700,IF(AND(Equipment!K104>20),800,IF(AND(Equipment!K104>0,Equipment!K104<5),300,0))))),0)","v":0},null,{"$f":"IF(AND($C$6=\"Yes\",$C$7=\"Yes\",$C$8=\"Yes\",$C$9=\"Yes\",$C$10=\"Yes\",E108<>\"\"),0.22*INDEX(OpHours,MATCH(Equipment!$C$7,BuildingTypeList,0))*Equipment!$O104,0)","v":0}]
[94,null,{"$f":"IF(Equipment!Z105=\"x\",Equipment!C105,\"\")","v":""},null,null,null,{"$f":"IF(AND($C$6=\"Yes\",$C$7=\"Yes\",$C$8=\"Yes\",$C$9=\"Yes\",$C$10=\"Yes\",E109<>\"\"),IF(AND(Equipment!K105>=5,Equipment!K105<=10),500,IF(AND(Equipment!K105>10,Equipment!K105<=15),600,IF(AND(Equipment!K105>15,Equipment!K105<=20),700,IF(AND(Equipment!K105>20),800,IF(AND(Equipment!K105>0,Equipment!K105<5),300,0))))),0)","v":0},null,{"$f":"IF(AND($C$6=\"Yes\",$C$7=\"Yes\",$C$8=\"Yes\",$C$9=\"Yes\",$C$10=\"Yes\",E109<>\"\"),0.22*INDEX(OpHours,MATCH(Equipment!$C$7,BuildingTypeList,0))*Equipment!$O105,0)","v":0}]
[95,null,{"$f":"IF(Equipment!Z106=\"x\",Equipment!C106,\"\")","v":""},null,null,null,{"$f":"IF(AND($C$6=\"Yes\",$C$7=\"Yes\",$C$8=\"Yes\",$C$9=\"Yes\",$C$10=\"Yes\",E110<>\"\"),IF(AND(Equipment!K106>=5,Equipment!K106<=10),500,IF(AND(Equipment!K106>10,Equipment!K106<=15),600,IF(AND(Equipment!K106>15,Equipment!K106<=20),700,IF(AND(Equipment!K106>20),800,IF(AND(Equipment!K106>0,Equipment!K106<5),300,0))))),0)","v":0},null,{"$f":"IF(AND($C$6=\"Yes\",$C$7=\"Yes\",$C$8=\"Yes\",$C$9=\"Yes\",$C$10=\"Yes\",E110<>\"\"),0.22*INDEX(OpHours,MATCH(Equipment!$C$7,BuildingTypeList,0))*Equipment!$O106,0)","v":0}]

{"sheet":"Lookups","index":13,"n_rows":24,"n_cols":39,"rows_kept":24,"cut":false,"hidden":true,"merged":[]}
["BuildingType","OpHours","YesNo","Economizer Type","Economizer Status","Economizer Control","Ventilation Control","No Existing VFD","New VFD","Refrigerant Type","Occ Control Type","InterfaceType","Repair/Replace",null,"Source: RMP Review Memo - EFLH 10302020.docx",null,null,null,null,"Source: RMP Update - NR Other HVAC - 01-23-2023.xlsx",null,null,null,null,null,null,null,null,"Source: RMP Update - NR Other HVAC - 01-23-2023.xlsx",null,null,null,null,null,null,null,null,"Change Log","2022-01-01"]
["Hospital",8760,"Yes","Dual Enthalpy","Non-Functional","Integrated","Occupancy","Yes","Yes","R-22","Bluetooth","Mobile\n App","Repair",null,"Building Type","Mapped Type","Operating Hours","EFLH",null,"ID","Compressor Type","Heat Rejection","Lower Size (tons)","Higher Size (tons)","VFD","FLV (kW/ton)","IPLV (kW/ton)",null,"Constant","Value",null,null,null,null,null,null,null,null,"Update PMA savings to 102 kWh/ton and 0.0462 kW/ton"]
["Hotel (Small)",4801,"No","Dry Bulb","Partially-Functional","Digital","CO2","No","No","R-410a","Occ Sensor","Online\nDashboard","Replacement",null,"School (Primary)","Education - Primary School",5220,481.32683243194384,null,null,"Scroll/Screw","Water Cooled",16,74.989999999999995,"No",0.78,0.63,null,"ESF",0.05,null,null,null,null,null,null,null,null,"Add PMA kW reduction calculation"]
["Hotel (Large)",8760,null,"Other","Fully-Functional","N/A","N/A",null,null,null,null,"Wi-Fi\nEnabled",null,null,"School (Secondary)","Education - Secondary School",4801,502.081510700992,null,null,"Scroll/Screw","Water Cooled",75,149.99,"No",0.77500000000000002,0.61499999999999999,null,"DSF",2.5000000000000001E-2,null,null,null,null,null,null,null,null,"Update programmable and smart thermostat kWh savings from 2952/measure to 119/ton non-grocery and 279/ton grocery; 0 kW reduction for tstats. "]
["Office (Small)",5242,null,null,null,null,null,null,null,null,null,null,null,null,"Supermarket","Grocery",5647,2003.4303037894385,null,null,"Scroll/Screw","Water Cooled",150,299.99,"No",0.68,0.57999999999999996,null,"CF",0.9,null,null,null,null,null,null,null,null,"Add Economizer Repair/Replace selection column"]
["Office (Medium)",5940,null,null,null,null,null,null,null,null,null,null,null,null,"Hospital","Health/Medical - Hospital",8760,1714.8373832775765,null,null,"Scroll/Screw","Water Cooled",300,600,"No",0.62,0.54,null,null,null,null,null,null,null,null,null,null,null,"Update Economizer kWh savings to 102/ton and 0.0634 kW/ton. "]
["Office (Large)",5444,null,null,"Current Versions",null,"Measures",null,"Notes:",null,null,null,null,null,"Outpatient Healthcare",null,6168,1714.8373832775765,null,null,"Scroll/Screw","Water Cooled",16,74.989999999999995,"Yes",0.8,0.6,null,null,null,null,null,null,null,null,null,null,null,"Update Refrigerant Charge kWh savings to 17/ton and 0.015/ton. "]
["Outpatient Healthcare",6168,null,null,"v 071217.1",null,"Maintenance Agreement",null,"Make export tab work and pull in project name",null,null,null,null,null,"Hotel (Small)","Lodging - Hotel",4801,1435.3739900829928,null,null,"Scroll/Screw","Water Cooled",75,149.99,"Yes",0.79,0.58599999999999997,null,null,null,null,null,null,null,null,null,null,"Change Log","2023-02-01"]
["Restaurant\n (Full Service)",7300,null,null,"v 080217.1",null,"Programmable Thermostat",null,"Make print GA at PDF button",null,null,null,null,null,"Hotel (Large)","Lodging - Hotel",8760,1435.3739900829928,null,null,"Scroll/Screw","Water Cooled",150,299.99,"Yes",0.71799999999999997,0.54,null,null,null,null,null,null,null,null,null,null,null,"Update t-stat incentive from $50 to $150"]
["Restaurant\n (Quick Service)",7300,null,null,"v 101817.1",null,"Smart Thermostat",null,"Add instructions on how to digitally/physically complete application. Includes that they can not type a signature",null,null,null,null,null,"Office (Large)","Office - Large",5444,1075.9945947337151,null,null,"Scroll/Screw","Water Cooled",300,600,"Yes",0.63900000000000001,0.49,null,null,null,null,null,null,null,null,null,null,null,"For ARC, remove the requirement that a unit must be 5 ton or greater.  Units less than 5 ton now qualify for ARC incentives."]
["Retail (Stand Alone)",5860,null,null,"v 030518.1",null,"Economizer Repair",null,"Make unlock Tool button work",null,null,null,null,null,"Office (Medium)",null,5940,1104.5956938889206,null,null,"Centrifugal","Water Cooled",16,74.989999999999995,"No",0.63400000000000001,0.59599999999999997,null,null,null,null,null,null,null,null,null,null,"Change Log","2024-10-18"]
["School (Primary)",5220,null,null,"v 031518.1",null,"Refrigerant Charge",null,null,null,null,null,null,null,"Office (Small)","Office - Small",5242,1133.196793044126,null,null,"Centrifugal","Water Cooled",75,149.99,"No",0.63400000000000001,0.59599999999999997,null,null,null,null,null,null,null,null,null,null,null,"Fix typo that assigned 5-10 ton incentive to 3-10 ton equipment. Affected the first row of the ARC retrofit tab, and all rows of the New ARC tabs"]
["School (Secondary)",4801,null,null,"v 032318.1",null,null,null,"kW X 12 X kW rate + kWh X kWh rate",null,null,null,null,null,"Restaurant\n (Full Service)","Restaurant - Sit-Down",7300,959.58986461540553,null,null,"Centrifugal","Water Cooled",150,299.99,"No",0.57599999999999996,0.54900000000000004]
["Strip Mall",5647,null,null,"v 050218.1",null,null,null,null,null,null,null,null,null,"Restaurant\n (Quick Service)","Restaurant - Fast-Food",7300,964.90123136082002,null,null,"Centrifugal","Water Cooled",300,600,"No",0.56999999999999995,0.53900000000000003]
["Supermarket",5647,null,null,"v 07102018 Draft",null,null,null,null,null,null,null,null,null,"Strip Mall",null,5647,856.99765379762903,null,null,"Centrifugal","Water Cooled",16,74.989999999999995,"Yes",0.63900000000000001,0.45]
["Warehouse",6594,null,null,"v 08282018 ",null,null,null,null,null,null,null,null,null,"Retail (Stand Alone)","Retail - Small",5860,856.99765379762903,null,null,"Centrifugal","Water Cooled",75,149.99,"Yes",0.63900000000000001,0.45]
[null,null,null,null,"v 10162018",null,null,null,null,null,null,null,null,null,"Warehouse","Storage - Conditioned",6594,324.79192358976502,null,null,"Centrifugal","Water Cooled",150,299.99,"Yes",0.6,0.4]
[null,"updated rates to Rates for Software 2-6-25",null,null,"v 03112019 Draft",null,null,null,null,null,null,null,null,null,null,null,null,null,null,null,"Centrifugal","Water Cooled",300,600,"Yes",0.59,0.4]
["RateSchedules","kWhRates","kWRates",null,"v 01012022 Draft",null,null,null,null,null,null,null,null,null,null,null,null,null,null,null,"Scroll/Screw","Air Cooled",0,149.99,"No",1.2549999999999999,0.96]
["6",4.802E-2,16.388000000000002,null,"v 02012022 Draft",null,null,null,null,null,null,null,null,null,null,null,null,null,null,null,"Scroll/Screw","Air Cooled",150,600,"No",1.2549999999999999,0.94]
["8",7.3859999999999995E-2,24.742999999999999,null,"v 02012023.2",null,null,null,null,null,null,null,null,null,null,null,null,null,null,null,"Centrifugal","Air Cooled",0,149.99,"No",1.2549999999999999,0.96]
["9",6.8959999999999994E-2,21.475000000000001,null,null,null,null,null,null,null,null,null,null,null,null,null,null,null,null,null,"Centrifugal","Air Cooled",150,600,"No",1.2549999999999999,0.94]
["10",6.8190000000000001E-2,9.2609999999999992]
["23",7.7890000000000001E-2,10.563000000000001]

{"sheet":"Calculation Sources","index":14,"n_rows":23,"n_cols":2,"rows_kept":23,"cut":false,"hidden":true,"merged":[]}
["Chillers"]
[]
["Source:","RMP - Update - NR Other HVAC - 01-23-2023.xlsx"]
["Maintainer:","Van Le"]
["Developer:","Drew Petersen"]
[]
["kWh Savings:"]
[]
[]
[]
[]
["kW Savings:"]
[]
[]
[]
[]
[]
["Notes"]
["ESF:","Energy Savings Factor, constant value of 0.05"]
["DSF:","Demand Savings Factor, constant value of 0.025"]
["CF:","Coincidence Factor, constant value of 0.9"]
["FL:","Full load efficiency, see Lookups tab"]
["IPLV:","Integrated part load efficiency, see Lookups tab"]

{"sheet":"Revision History","index":15,"n_rows":2,"n_cols":3,"rows_kept":2,"cut":false,"hidden":true,"merged":[]}
["Date","Version","Notes"]
["TBD","v230201.1","to do\n- update kWh and kW savings constants for chillers from source spreadsheet\n- update equipment value lookup from equipment tab to chiller tab"]